Workbook

Sheet Clasificacion por Clubs (2)
B2: =ENTREPUENTES!B2 -> X Regata Entrepuentes - ENHOL Ebrokayak - Tudela
B3: =ENTREPUENTES!B3 -> Lugar, fecha y hora: Río Ebro, 20/09/2026
B4: =ENTREPUENTES!B4 -> Organiza: ENHOL-Ebrokayak - Federación Navarra de Piragüismo
C6: CLASIFICACION GENERAL
C7: PTOS | D7: CLUB
C8: =SUMIF(ENTREPUENTES!E$8:E$336,D8,ENTREPUENTES!B$8:B$336) -> 488 | D8: CD MONKAYAK HIBERUS
C9: =SUMIF(ENTREPUENTES!E$8:E$336,D9,ENTREPUENTES!B$8:B$336) -> 632 | D9: CENTRO NATACIÓN HELIOS
C10: =SUMIF(ENTREPUENTES!E$8:E$336,D10,ENTREPUENTES!B$8:B$336) -> 29 | D10: CLUB D. FUENTES CARRIONAS
C11: =SUMIF(ENTREPUENTES!E$8:E$336,D11,ENTREPUENTES!B$8:B$336) -> 176 | D11: CLUB D. PALENTINO PIRAGÜISMO
C12: =SUMIF(ENTREPUENTES!E$8:E$336,D12,ENTREPUENTES!B$8:B$336) -> 800 | D12: Club Deportivo enhol Ebrokayak
C13: =SUMIF(ENTREPUENTES!E$8:E$336,D13,ENTREPUENTES!B$8:B$336) -> 966 | D13: CLUB ESCUELA DE PIRAGUISMO ARANJUEZ
C14: =SUMIF(ENTREPUENTES!E$8:E$336,D14,ENTREPUENTES!B$8:B$336) -> 105 | D14: Club Natación Pamplona
C15: =SUMIF(ENTREPUENTES!E$8:E$336,D15,ENTREPUENTES!B$8:B$336) -> 140 | D15: Club Náutico de Zaragoza
C16: =SUMIF(ENTREPUENTES!E$8:E$336,D16,ENTREPUENTES!B$8:B$336) -> 502 | D16: CLUB PIRAGÜISMO ANTARES
C17: =SUMIF(ENTREPUENTES!E$8:E$336,D17,ENTREPUENTES!B$8:B$336) -> 181 | D17: CLUB PIRAGUISMO GETXO-GETXO KAYAK
C18: =SUMIF(ENTREPUENTES!E$8:E$336,D18,ENTREPUENTES!B$8:B$336) -> 29 | D18: Club Piragüismo Las Grajas
C19: =SUMIF(ENTREPUENTES!E$8:E$336,D19,ENTREPUENTES!B$8:B$336) -> 268 | D19: Club Piragüismo Pamplona
... C24: =SUMIF(ENTREPUENTES!E$8:E$336,D24,ENTREPUENTES!B$8:B$336) -> 459 | D24: Santiagotarrak
C25: =SUMIF(ENTREPUENTES!E$8:E$3404,D25,ENTREPUENTES!B$8:B$336) -> 0 | D25: SDR ARENAS
C26: =SUMIF(ENTREPUENTES!E$8:E$336,D26,ENTREPUENTES!B$8:B$336) -> 89 | D26: Zumaiako Urola Itsas Adar
C27: =SUMIF(ENTREPUENTES!E$8:E$293,D27,ENTREPUENTES!B$8:B$293) -> 0
C28: =SUMIF(ENTREPUENTES!E$8:E$293,D28,ENTREPUENTES!B$8:B$293) -> 0
C29: =SUMIF(ENTREPUENTES!E$8:E$293,D29,ENTREPUENTES!B$8:B$293) -> 0
C30: =SUMIF(ENTREPUENTES!E$8:E$293,D30,ENTREPUENTES!B$8:B$293) -> 0
C31: =SUMIF(ENTREPUENTES!E$8:E$293,D31,ENTREPUENTES!B$8:B$293) -> 0
C32: =SUMIF(ENTREPUENTES!E$8:E$293,D32,ENTREPUENTES!B$8:B$293) -> 0

Sheet 1 - Dorsales clubs
B1: =ENTREPUENTES!B2 -> X Regata Entrepuentes - ENHOL Ebrokayak - Tudela
B2: =ENTREPUENTES!B3 -> Lugar, fecha y hora: Río Ebro, 20/09/2026
B3: =ENTREPUENTES!B4 -> Organiza: ENHOL-Ebrokayak - Federación Navarra de Piragüismo
Y4: N | Z4: NO PRESENTADO
B5: DORSAL | C5: NOMBRE | D5: CLUB | E5: CATEGORÍA | F5: SALIDA
B6: 1 | C6: Miguel Angel Ducros Estavillo | D6: Mansilla | E6: HPK1
B7: 2 | C7: Jose Maria Hollos Llorente | D7: Mansilla | E7: HVK1_60
B8: 3
B9: 4 | C9: Aimar Arnedo Jimenez | D9: Club Deportivo enhol Ebrokayak | E9: HAK1
B10: 5 | C10: Arkaitz Arnedo Jimenez | D10: Club Deportivo enhol Ebrokayak | E10: HCK1
B11: 6 | C11: Juan Sanchez Calvete | D11: Club Deportivo enhol Ebrokayak | E11: HCK1
B12: 7 | C12: Aarón Novoa Antonio | D12: Club Deportivo enhol Ebrokayak | E12: HCK1
B13: 8
B14: 9 | C14: Sandra Lopez Iriarte | D14: Club Deportivo enhol Ebrokayak | E14: MJK1
B15: 10 | C15: Eva Ivanova Ivanova | D15: Club Deportivo enhol Ebrokayak | E15: MCK1
B16: 11 | C16: Belén Sánchez Jiménez | D16: Club Deportivo enhol Ebrokayak | E16: MVK1_35
B17: 12 | C17: Mai Moneo Arcos | D17: Club Deportivo enhol Ebrokayak | E17: MVK1_35
B18: 13 | C18: Alvaro Oses Arbizu | D18: Club Deportivo enhol Ebrokayak | E18: HSC1
B19: 14 | C19: Andrii Koliada | D19: Club Deportivo enhol Ebrokayak | E19: HSC1
B20: 15 | C20: Ernestas Uzpalis | D20: Club Deportivo enhol Ebrokayak | E20: HSC1
B21: 16 | C21: Javier Rodero la Fuente | D21: Club Deportivo enhol Ebrokayak | E21: HVK1_35
B22: 17 | C22: Javier Arnedo Lopez | D22: Club Deportivo enhol Ebrokayak | E22: HVK1_35
B23: 18 | C23: Valeria Arnedo Gil | D23: Club Deportivo enhol Ebrokayak | E23: MBK1
B24: 19 | C24: Claudia Arnedo Gil | D24: Club Deportivo enhol Ebrokayak | E24: MAK1
B25: 20
B26: 21 | C26: Hugo Delgado Orce | D26: Club Deportivo enhol Ebrokayak | E26: HBK1
B27: 22 | C27: Rodrigo Berrueta Crespo | D27: Club Deportivo enhol Ebrokayak | E27: HAK1
B28: 23
B29: 24
B30: 25
B31: 26 | C31: Myshell Kirilov Serpa | D31: Club Deportivo enhol Ebrokayak | E31: MBK1
B32: 27 | C32: Luca Pierce Sadoul | D32: Club Deportivo enhol Ebrokayak | E32: HAK1
B33: 28 | C33: Alexander Sanchez Arranz | D33: Club Deportivo enhol Ebrokayak | E33: HIK1
B34: 29 | C34: Candela Pérez Moneo | D34: Club Deportivo enhol Ebrokayak | E34: MIK1
B35: 30 | C35: Julia Salcedo Moneo | D35: Club Deportivo enhol Ebrokayak | E35: MIK1
B36: 31 | C36: Victoria Sanz Barral | D36: Club Deportivo enhol Ebrokayak | E36: MIK1
B37: 32 | C37: Santiago Arellano Mesa | D37: Club Deportivo enhol Ebrokayak | E37: HIK1
B38: 33
B39: 34 | C39: Izan Pérez LLorca | D39: Club Deportivo enhol Ebrokayak | E39: HBK1
B40: 35 | C40: Alex Sanmartin Maull | D40: Club Deportivo enhol Ebrokayak | E40: HVK1_50
B41: 36 | C41: Jose Ignacio Sanchez Jimenez | D41: Club Deportivo enhol Ebrokayak | E41: HVK1_50
B42: 37 | C42: Diego Ruiz Martinez | D42: Club Deportivo enhol Ebrokayak | E42: HVK1_35
B43: 38 | C43: Jose Luis Casamian Saso | D43: Club Deportivo enhol Ebrokayak | E43: HVK1_60
B44: 39 | C44: Jose Ignacio Sanchez Jimenez- Javier Arnedo | D44: Club Deportivo enhol Ebrokayak | E44: HSK2
B45: 40 | C45: Manuel Bueno Perez- Monica Rodriguez Fernandez | D45: Club Deportivo enhol Ebrokayak | E45: MixtaK2
B46: 41 | C46: Carlos Reviriego Cuenca-Javier Rodero la Fuente | D46: Club Deportivo enhol Ebrokayak | E46: HVK2
B47: 42 | C47: Nerea Martinez Sanchez- Sandra Lopez Iriarte | D47: Club Deportivo enhol Ebrokayak | E47: MSK2
B48: 43 | C48: Eva Ivanova Ivanova- Aarón Novoa Anntonio | D48: Club Deportivo enhol Ebrokayak | E48: MixtaK2
B49: 44 | C49: Luis Navas Camara- Alvaro Osés | D49: Club Deportivo enhol Ebrokayak | E49: HVK2
B50: 45 | C50: Víctor Bobillo | D50: Alberche Kayak Club | E50: HVK1_35
B51: 46 | C51: Belén Sánchez Jiménez- Mai Moneo Arcos | D51: Club Deportivo enhol Ebrokayak | E51: MVK2
B52: 47
B53: 48
B54: 49
B55: 50 | C55: JUAN BELMONTE FERNANDEZ | D55: CLUB ESCUELA DE PIRAGUISMO ARANJUEZ | E55: HBK1
B56: 51 | C56: SOFIA GOMEZ ROLDAN | D56: CLUB ESCUELA DE PIRAGUISMO ARANJUEZ | E56: MBK1
B57: 52 | C57: FERRAN BERMEJA CUEZVA | D57: CLUB ESCUELA DE PIRAGUISMO ARANJUEZ | E57: HBK1
B58: 53 | C58: LEO PLANELLES PAMPANAS | D58: CLUB ESCUELA DE PIRAGUISMO ARANJUEZ | E58: HBK1
B59: 54 | C59: BRUNO GOMEZ JIMENEZ CEBRIAN | D59: CLUB ESCUELA DE PIRAGUISMO ARANJUEZ | E59: HBK1
B60: 55 | C60: OLIVIA ORO PULIDO | D60: CLUB ESCUELA DE PIRAGUISMO ARANJUEZ | E60: MBK1
B61: 56 | C61: ELENA GRANDE APARICIO | D61: CLUB ESCUELA DE PIRAGUISMO ARANJUEZ | E61: MBK1
B62: 57 | C62: PILAR BELMONTE FERNANDEZ | D62: CLUB ESCUELA DE PIRAGUISMO ARANJUEZ | E62: MBK1
B63: 58 | C63: ERIK ASENSIO GUERRA | D63: CLUB ESCUELA DE PIRAGUISMO ARANJUEZ | E63: HBK1
B64: 59 | C64: LUCRECIA LOBILLA CRISTOFOLI | D64: CLUB ESCUELA DE PIRAGUISMO ARANJUEZ | E64: MAK1
B65: 60 | C65: IAN DIAZ VASALLO | D65: CLUB ESCUELA DE PIRAGUISMO ARANJUEZ | E65: HAK1
B66: 61 | C66: MENCIA ARIAS GARCIA | D66: CLUB ESCUELA DE PIRAGUISMO ARANJUEZ | E66: MAK1
... B71: 66 | C71: ADRIANA GRANDE APARICIO | D71: CLUB ESCUELA DE PIRAGUISMO ARANJUEZ | E71: MIK1
B72: 67
B73: 68 | C73: DIEGO MATA GONZALEZ | D73: CLUB ESCUELA DE PIRAGUISMO ARANJUEZ | E73: HIK1
B74: 69 | C74: LOLA CARRASCO RUIZ | D74: CLUB ESCUELA DE PIRAGUISMO ARANJUEZ | E74: MIK1
B75: 70 | C75: INES BARRASA LOPEZ | D75: CLUB ESCUELA DE PIRAGUISMO ARANJUEZ | E75: MIK1
B76: 71 | C76: VALERIA GOMEZ ROLDAN | D76: CLUB ESCUELA DE PIRAGUISMO ARANJUEZ | E76: MIK1
B77: 72 | C77: HECTOR VARAS GALLEGO | D77: CLUB ESCUELA DE PIRAGUISMO ARANJUEZ | E77: HIK1
B78: 73 | C78: MARIA MARTIN RODRIGUEZ | D78: CLUB ESCUELA DE PIRAGUISMO ARANJUEZ | E78: MIK1
B79: 74 | C79: VALENTINA MARCOS RAMIREZ | D79: CLUB ESCUELA DE PIRAGUISMO ARANJUEZ | E79: MIK1
B80: 75 | C80: VERA DEL POZO SASEZ-BRARO | D80: CLUB ESCUELA DE PIRAGUISMO ARANJUEZ | E80: MIK1
B81: 76 | C81: IRIA BERMEJA CUEZVA | D81: CLUB ESCUELA DE PIRAGUISMO ARANJUEZ | E81: MIK1
B82: 77 | C82: GASTON LOBILLO CRISTOFOLI | D82: CLUB ESCUELA DE PIRAGUISMO ARANJUEZ | E82: HIC1
B83: 78 | C83: MANUEL BELMONTE | D83: CLUB ESCUELA DE PIRAGUISMO ARANJUEZ | E83: HIC1
B84: 79 | C84: FRANCISCO MATA GONZALEZ | D84: CLUB ESCUELA DE PIRAGUISMO ARANJUEZ | E84: HIC1
... B98: 93 | C98: PABLO MARTÍNEZ LÓPEZ - LUIS MARTÍNEZ CORTÉS | D98: Embarcacion combinada | E98: HSK2
B99: 94
B100: 95 | C100: IKER BOE GARCIA | D100: CLUB PIRAGÜISMO ANTARES | E100: HSK1
B101: 96 | C101: LIDIA DIEZ MONJE | D101: CLUB PIRAGÜISMO ANTARES | E101: MSK1
B102: 97 | C102: UNAI BOE GARCIA | D102: CLUB PIRAGÜISMO ANTARES | E102: HCK1
B103: 98 | C103: ALBA PÉREZ MARTIN | D103: CLUB PIRAGÜISMO ANTARES | E103: MJK1
B104: 99
B105: 100 | C105: IRENE FUENTES MONTERO | D105: CLUB PIRAGÜISMO ANTARES | E105: MCK1
B106: 101 | C106: CLAUDIA LARREA CUARTANGO | D106: CLUB PIRAGÜISMO ANTARES | E106: MJK1
B107: 102 | C107: VICTOR SEGURA IZQUIERDO | D107: CLUB PIRAGÜISMO ANTARES | E107: HVK1_35
B108: 103 | C108: GERMÁN FERREYRA ARENAS | D108: CLUB PIRAGÜISMO ANTARES | E108: HIK1
B109: 104 | C109: UXUE ALARCÓN RIAÑO | D109: CLUB PIRAGÜISMO ANTARES | E109: MCK1
B110: 105 | C110: CARLOS LARREA SEGURAJAUREGI | D110: CLUB PIRAGÜISMO ANTARES | E110: HVK1_60
B111: 106 | C111: MARTIN GUINEA URBINA | D111: CLUB PIRAGÜISMO ANTARES | E111: HAK1
B112: 107 | C112: HÉCTOR VELASCO ÁLVAREZ | D112: CLUB PIRAGÜISMO ANTARES | E112: HJK1
B113: 108
B114: 109 | C114: JAVIER VELASCO DEL VALLE | D114: CLUB PIRAGÜISMO ANTARES | E114: HVK1_50
B115: 110 | C115: DANIEL DELGADO BLANCO | D115: CLUB PIRAGÜISMO ANTARES | E115: HCK1
B116: 111 | C116: JUAN MORÁN ARBAIZAR | D116: CLUB PIRAGÜISMO ANTARES | E116: HAK1
B117: 112 | C117: ANDER OCHOA LÓPEZ | D117: CLUB PIRAGÜISMO ANTARES | E117: HSK1
...

Sheet PIVOT
A3: Cuenta de DORSAL
A4: CATEGORÍA | B4: Total
A5: HAK1 | B5: 15
A6: HBK1 | B6: 8
A7: HCK1 | B7: 14
A8: HIK1 | B8: 19
A9: HJK1 | B9: 4
A10: HJK2 | B10: 3
A11: HPK1 | B11: 6
A12: HSC1 | B12: 5
A13: HSK1 | B13: 21
A14: HSK2 | B14: 8
A15: HVK2 | B15: 7
A16: MAK1 | B16: 6
... A36: Total general | B36: 239

Sheet Separar categorías calsif
B2: DORSAL | C2: NOMBRE | D2: CLUB | E2: CAT. | F2: Tº CRONO | H2: Tº REAL
C3: =VLOOKUP(B3,'1 - Dorsales clubs'!B:C,2,FALSE) -> #N/A | D3: =VLOOKUP(C3,'1 - Dorsales clubs'!C:D,2,FALSE) -> #N/A | E3: =VLOOKUP(B3,'1 - Dorsales clubs'!B:F,4,FALSE) -> #N/A | F3: =VLOOKUP(B3,TºCrono!B:C,2,FALSE) -> #N/A | H3: =IF(F3="D","DESCALIF.",IF(F3="A","ABANDONO",IF(F3="N","NO PRES.",CONCATENATE(AB3,":",AC3,":",AD3)))) -> #N/A | J3: =LEN(F3) -> #N/A | M3: =VALUE(MID(F3,1,J3-4)) -> #N/A | N3: =VALUE(MID(F3,J3-4+1,2)) -> #N/A | O3: =VALUE(RIGHT(F3,2)) -> #N/A | Q3: =IF(N3<VLOOKUP(E3,'Horario salida'!$C$3:$E$41,3,FALSE),M3-1,M3) -> #N/A | R3: =IF(N3<VLOOKUP(E3,'Horario salida'!$C$3:$E$41,3,FALSE),N3+60,N3) -> #N/A | S3: =IF(O3<VLOOKUP(E3,'Horario salida'!$C$3:$F$41,4,FALSE),R3-1,R3) -> #N/A | T3: =IF(O3<VLOOKUP(E3,'Horario salida'!$C$3:$F$41,4,FALSE),O3+100,O3) -> #N/A | X3: =Q3-VLOOKUP(E3,'Horario salida'!$C$3:$D$41,2,FALSE) -> #N/A | Y3: =S3-VLOOKUP(E3,'Horario salida'!$C$3:$E$41,3,FALSE) -> #N/A | Z3: =T3-VLOOKUP(E3,'Horario salida'!$C$3:$F$41,4,FALSE) -> #N/A | AB3: =TEXT(X3,"00") -> #N/A | AC3: =TEXT(Y3,"00") -> #N/A | AD3: =TEXT(Z3,"00") -> #N/A
C4: =VLOOKUP(B4,'1 - Dorsales clubs'!B:C,2,FALSE) -> #N/A | D4: =VLOOKUP(C4,'1 - Dorsales clubs'!C:D,2,FALSE) -> #N/A | E4: =VLOOKUP(B4,'1 - Dorsales clubs'!B:F,4,FALSE) -> #N/A | F4: =VLOOKUP(B4,TºCrono!B:C,2,FALSE) -> #N/A | H4: =IF(F4="D","DESCALIF.",IF(F4="A","ABANDONO",IF(F4="N","NO PRES.",CONCATENATE(AB4,":",AC4,":",AD4)))) -> #N/A | J4: =LEN(F4) -> #N/A | M4: =VALUE(MID(F4,1,J4-4)) -> #N/A | N4: =VALUE(MID(F4,J4-4+1,2)) -> #N/A | O4: =VALUE(RIGHT(F4,2)) -> #N/A | Q4: =IF(N4<VLOOKUP(E4,'Horario salida'!$C$3:$E$41,3,FALSE),M4-1,M4) -> #N/A | R4: =IF(N4<VLOOKUP(E4,'Horario salida'!$C$3:$E$41,3,FALSE),N4+60,N4) -> #N/A | S4: =IF(O4<VLOOKUP(E4,'Horario salida'!$C$3:$F$41,4,FALSE),R4-1,R4) -> #N/A | T4: =IF(O4<VLOOKUP(E4,'Horario salida'!$C$3:$F$41,4,FALSE),O4+100,O4) -> #N/A | X4: =Q4-VLOOKUP(E4,'Horario salida'!$C$3:$D$41,2,FALSE) -> #N/A | Y4: =S4-VLOOKUP(E4,'Horario salida'!$C$3:$E$41,3,FALSE) -> #N/A | Z4: =T4-VLOOKUP(E4,'Horario salida'!$C$3:$F$41,4,FALSE) -> #N/A | AB4: =TEXT(X4,"00") -> #N/A | AC4: =TEXT(Y4,"00") -> #N/A | AD4: =TEXT(Z4,"00") -> #N/A
C5: =VLOOKUP(B5,'1 - Dorsales clubs'!B:C,2,FALSE) -> #N/A | D5: =VLOOKUP(C5,'1 - Dorsales clubs'!C:D,2,FALSE) -> #N/A | E5: =VLOOKUP(B5,'1 - Dorsales clubs'!B:F,4,FALSE) -> #N/A | F5: =VLOOKUP(B5,TºCrono!B:C,2,FALSE) -> #N/A | H5: =IF(F5="D","DESCALIF.",IF(F5="A","ABANDONO",IF(F5="N","NO PRES.",CONCATENATE(AB5,":",AC5,":",AD5)))) -> #N/A | J5: =LEN(F5) -> #N/A | M5: =VALUE(MID(F5,1,J5-4)) -> #N/A | N5: =VALUE(MID(F5,J5-4+1,2)) -> #N/A | O5: =VALUE(RIGHT(F5,2)) -> #N/A | Q5: =IF(N5<VLOOKUP(E5,'Horario salida'!$C$3:$E$41,3,FALSE),M5-1,M5) -> #N/A | R5: =IF(N5<VLOOKUP(E5,'Horario salida'!$C$3:$E$41,3,FALSE),N5+60,N5) -> #N/A | S5: =IF(O5<VLOOKUP(E5,'Horario salida'!$C$3:$F$41,4,FALSE),R5-1,R5) -> #N/A | T5: =IF(O5<VLOOKUP(E5,'Horario salida'!$C$3:$F$41,4,FALSE),O5+100,O5) -> #N/A | X5: =Q5-VLOOKUP(E5,'Horario salida'!$C$3:$D$41,2,FALSE) -> #N/A | Y5: =S5-VLOOKUP(E5,'Horario salida'!$C$3:$E$41,3,FALSE) -> #N/A | Z5: =T5-VLOOKUP(E5,'Horario salida'!$C$3:$F$41,4,FALSE) -> #N/A | AB5: =TEXT(X5,"00") -> #N/A | AC5: =TEXT(Y5,"00") -> #N/A | AD5: =TEXT(Z5,"00") -> #N/A
C6: =VLOOKUP(B6,'1 - Dorsales clubs'!B:C,2,FALSE) -> #N/A | D6: =VLOOKUP(C6,'1 - Dorsales clubs'!C:D,2,FALSE) -> #N/A | E6: =VLOOKUP(B6,'1 - Dorsales clubs'!B:F,4,FALSE) -> #N/A | F6: =VLOOKUP(B6,TºCrono!B:C,2,FALSE) -> #N/A | H6: =IF(F6="D","DESCALIF.",IF(F6="A","ABANDONO",IF(F6="N","NO PRES.",CONCATENATE(AB6,":",AC6,":",AD6)))) -> #N/A | J6: =LEN(F6) -> #N/A | M6: =VALUE(MID(F6,1,J6-4)) -> #N/A | N6: =VALUE(MID(F6,J6-4+1,2)) -> #N/A | O6: =VALUE(RIGHT(F6,2)) -> #N/A | Q6: =IF(N6<VLOOKUP(E6,'Horario salida'!$C$3:$E$41,3,FALSE),M6-1,M6) -> #N/A | R6: =IF(N6<VLOOKUP(E6,'Horario salida'!$C$3:$E$41,3,FALSE),N6+60,N6) -> #N/A | S6: =IF(O6<VLOOKUP(E6,'Horario salida'!$C$3:$F$41,4,FALSE),R6-1,R6) -> #N/A | T6: =IF(O6<VLOOKUP(E6,'Horario salida'!$C$3:$F$41,4,FALSE),O6+100,O6) -> #N/A | X6: =Q6-VLOOKUP(E6,'Horario salida'!$C$3:$D$41,2,FALSE) -> #N/A | Y6: =S6-VLOOKUP(E6,'Horario salida'!$C$3:$E$41,3,FALSE) -> #N/A | Z6: =T6-VLOOKUP(E6,'Horario salida'!$C$3:$F$41,4,FALSE) -> #N/A | AB6: =TEXT(X6,"00") -> #N/A | AC6: =TEXT(Y6,"00") -> #N/A | AD6: =TEXT(Z6,"00") -> #N/A
C7: =VLOOKUP(B7,'1 - Dorsales clubs'!B:C,2,FALSE) -> #N/A | D7: =VLOOKUP(C7,'1 - Dorsales clubs'!C:D,2,FALSE) -> #N/A | E7: =VLOOKUP(B7,'1 - Dorsales clubs'!B:F,4,FALSE) -> #N/A | F7: =VLOOKUP(B7,TºCrono!B:C,2,FALSE) -> #N/A | H7: =IF(F7="D","DESCALIF.",IF(F7="A","ABANDONO",IF(F7="N","NO PRES.",CONCATENATE(AB7,":",AC7,":",AD7)))) -> #N/A | J7: =LEN(F7) -> #N/A | M7: =VALUE(MID(F7,1,J7-4)) -> #N/A | N7: =VALUE(MID(F7,J7-4+1,2)) -> #N/A | O7: =VALUE(RIGHT(F7,2)) -> #N/A | Q7: =IF(N7<VLOOKUP(E7,'Horario salida'!$C$3:$E$41,3,FALSE),M7-1,M7) -> #N/A | R7: =IF(N7<VLOOKUP(E7,'Horario salida'!$C$3:$E$41,3,FALSE),N7+60,N7) -> #N/A | S7: =IF(O7<VLOOKUP(E7,'Horario salida'!$C$3:$F$41,4,FALSE),R7-1,R7) -> #N/A | T7: =IF(O7<VLOOKUP(E7,'Horario salida'!$C$3:$F$41,4,FALSE),O7+100,O7) -> #N/A | X7: =Q7-VLOOKUP(E7,'Horario salida'!$C$3:$D$41,2,FALSE) -> #N/A | Y7: =S7-VLOOKUP(E7,'Horario salida'!$C$3:$E$41,3,FALSE) -> #N/A | Z7: =T7-VLOOKUP(E7,'Horario salida'!$C$3:$F$41,4,FALSE) -> #N/A | AB7: =TEXT(X7,"00") -> #N/A | AC7: =TEXT(Y7,"00") -> #N/A | AD7: =TEXT(Z7,"00") -> #N/A
C8: =VLOOKUP(B8,'1 - Dorsales clubs'!B:C,2,FALSE) -> #N/A | D8: =VLOOKUP(C8,'1 - Dorsales clubs'!C:D,2,FALSE) -> #N/A | E8: =VLOOKUP(B8,'1 - Dorsales clubs'!B:F,4,FALSE) -> #N/A | F8: =VLOOKUP(B8,TºCrono!B:C,2,FALSE) -> #N/A | H8: =IF(F8="D","DESCALIF.",IF(F8="A","ABANDONO",IF(F8="N","NO PRES.",CONCATENATE(AB8,":",AC8,":",AD8)))) -> #N/A | J8: =LEN(F8) -> #N/A | M8: =VALUE(MID(F8,1,J8-4)) -> #N/A | N8: =VALUE(MID(F8,J8-4+1,2)) -> #N/A | O8: =VALUE(RIGHT(F8,2)) -> #N/A | Q8: =IF(N8<VLOOKUP(E8,'Horario salida'!$C$3:$E$41,3,FALSE),M8-1,M8) -> #N/A | R8: =IF(N8<VLOOKUP(E8,'Horario salida'!$C$3:$E$41,3,FALSE),N8+60,N8) -> #N/A | S8: =IF(O8<VLOOKUP(E8,'Horario salida'!$C$3:$F$41,4,FALSE),R8-1,R8) -> #N/A | T8: =IF(O8<VLOOKUP(E8,'Horario salida'!$C$3:$F$41,4,FALSE),O8+100,O8) -> #N/A | X8: =Q8-VLOOKUP(E8,'Horario salida'!$C$3:$D$41,2,FALSE) -> #N/A | Y8: =S8-VLOOKUP(E8,'Horario salida'!$C$3:$E$41,3,FALSE) -> #N/A | Z8: =T8-VLOOKUP(E8,'Horario salida'!$C$3:$F$41,4,FALSE) -> #N/A | AB8: =TEXT(X8,"00") -> #N/A | AC8: =TEXT(Y8,"00") -> #N/A | AD8: =TEXT(Z8,"00") -> #N/A
C9: =VLOOKUP(B9,'1 - Dorsales clubs'!B:C,2,FALSE) -> #N/A | D9: =VLOOKUP(C9,'1 - Dorsales clubs'!C:D,2,FALSE) -> #N/A | E9: =VLOOKUP(B9,'1 - Dorsales clubs'!B:F,4,FALSE) -> #N/A | F9: =VLOOKUP(B9,TºCrono!B:C,2,FALSE) -> #N/A | H9: =IF(F9="D","DESCALIF.",IF(F9="A","ABANDONO",IF(F9="N","NO PRES.",CONCATENATE(AB9,":",AC9,":",AD9)))) -> #N/A | J9: =LEN(F9) -> #N/A | M9: =VALUE(MID(F9,1,J9-4)) -> #N/A | N9: =VALUE(MID(F9,J9-4+1,2)) -> #N/A | O9: =VALUE(RIGHT(F9,2)) -> #N/A | Q9: =IF(N9<VLOOKUP(E9,'Horario salida'!$C$3:$E$41,3,FALSE),M9-1,M9) -> #N/A | R9: =IF(N9<VLOOKUP(E9,'Horario salida'!$C$3:$E$41,3,FALSE),N9+60,N9) -> #N/A | S9: =IF(O9<VLOOKUP(E9,'Horario salida'!$C$3:$F$41,4,FALSE),R9-1,R9) -> #N/A | T9: =IF(O9<VLOOKUP(E9,'Horario salida'!$C$3:$F$41,4,FALSE),O9+100,O9) -> #N/A | X9: =Q9-VLOOKUP(E9,'Horario salida'!$C$3:$D$41,2,FALSE) -> #N/A | Y9: =S9-VLOOKUP(E9,'Horario salida'!$C$3:$E$41,3,FALSE) -> #N/A | Z9: =T9-VLOOKUP(E9,'Horario salida'!$C$3:$F$41,4,FALSE) -> #N/A | AB9: =TEXT(X9,"00") -> #N/A | AC9: =TEXT(Y9,"00") -> #N/A | AD9: =TEXT(Z9,"00") -> #N/A
C10: =VLOOKUP(B10,'1 - Dorsales clubs'!B:C,2,FALSE) -> #N/A | D10: =VLOOKUP(C10,'1 - Dorsales clubs'!C:D,2,FALSE) -> #N/A | E10: =VLOOKUP(B10,'1 - Dorsales clubs'!B:F,4,FALSE) -> #N/A | F10: =VLOOKUP(B10,TºCrono!B:C,2,FALSE) -> #N/A | H10: =IF(F10="D","DESCALIF.",IF(F10="A","ABANDONO",IF(F10="N","NO PRES.",CONCATENATE(AB10,":",AC10,":",AD10)))) -> #N/A | J10: =LEN(F10) -> #N/A | M10: =VALUE(MID(F10,1,J10-4)) -> #N/A | N10: =VALUE(MID(F10,J10-4+1,2)) -> #N/A | O10: =VALUE(RIGHT(F10,2)) -> #N/A | Q10: =IF(N10<VLOOKUP(E10,'Horario salida'!$C$3:$E$41,3,FALSE),M10-1,M10) -> #N/A | R10: =IF(N10<VLOOKUP(E10,'Horario salida'!$C$3:$E$41,3,FALSE),N10+60,N10) -> #N/A | S10: =IF(O10<VLOOKUP(E10,'Horario salida'!$C$3:$F$41,4,FALSE),R10-1,R10) -> #N/A | T10: =IF(O10<VLOOKUP(E10,'Horario salida'!$C$3:$F$41,4,FALSE),O10+100,O10) -> #N/A | X10: =Q10-VLOOKUP(E10,'Horario salida'!$C$3:$D$41,2,FALSE) -> #N/A | Y10: =S10-VLOOKUP(E10,'Horario salida'!$C$3:$E$41,3,FALSE) -> #N/A | Z10: =T10-VLOOKUP(E10,'Horario salida'!$C$3:$F$41,4,FALSE) -> #N/A | AB10: =TEXT(X10,"00") -> #N/A | AC10: =TEXT(Y10,"00") -> #N/A | AD10: =TEXT(Z10,"00") -> #N/A
C11: =VLOOKUP(B11,'1 - Dorsales clubs'!B:C,2,FALSE) -> #N/A | D11: =VLOOKUP(C11,'1 - Dorsales clubs'!C:D,2,FALSE) -> #N/A | E11: =VLOOKUP(B11,'1 - Dorsales clubs'!B:F,4,FALSE) -> #N/A | F11: =VLOOKUP(B11,TºCrono!B:C,2,FALSE) -> #N/A | H11: =IF(F11="D","DESCALIF.",IF(F11="A","ABANDONO",IF(F11="N","NO PRES.",CONCATENATE(AB11,":",AC11,":",AD11)))) -> #N/A | J11: =LEN(F11) -> #N/A | M11: =VALUE(MID(F11,1,J11-4)) -> #N/A | N11: =VALUE(MID(F11,J11-4+1,2)) -> #N/A | O11: =VALUE(RIGHT(F11,2)) -> #N/A | Q11: =IF(N11<VLOOKUP(E11,'Horario salida'!$C$3:$E$41,3,FALSE),M11-1,M11) -> #N/A | R11: =IF(N11<VLOOKUP(E11,'Horario salida'!$C$3:$E$41,3,FALSE),N11+60,N11) -> #N/A | S11: =IF(O11<VLOOKUP(E11,'Horario salida'!$C$3:$F$41,4,FALSE),R11-1,R11) -> #N/A | T11: =IF(O11<VLOOKUP(E11,'Horario salida'!$C$3:$F$41,4,FALSE),O11+100,O11) -> #N/A | X11: =Q11-VLOOKUP(E11,'Horario salida'!$C$3:$D$41,2,FALSE) -> #N/A | Y11: =S11-VLOOKUP(E11,'Horario salida'!$C$3:$E$41,3,FALSE) -> #N/A | Z11: =T11-VLOOKUP(E11,'Horario salida'!$C$3:$F$41,4,FALSE) -> #N/A | AB11: =TEXT(X11,"00") -> #N/A | AC11: =TEXT(Y11,"00") -> #N/A | AD11: =TEXT(Z11,"00") -> #N/A
C12: =VLOOKUP(B12,'1 - Dorsales clubs'!B:C,2,FALSE) -> #N/A | D12: =VLOOKUP(C12,'1 - Dorsales clubs'!C:D,2,FALSE) -> #N/A | E12: =VLOOKUP(B12,'1 - Dorsales clubs'!B:F,4,FALSE) -> #N/A | F12: =VLOOKUP(B12,TºCrono!B:C,2,FALSE) -> #N/A | H12: =IF(F12="D","DESCALIF.",IF(F12="A","ABANDONO",IF(F12="N","NO PRES.",CONCATENATE(AB12,":",AC12,":",AD12)))) -> #N/A | J12: =LEN(F12) -> #N/A | M12: =VALUE(MID(F12,1,J12-4)) -> #N/A | N12: =VALUE(MID(F12,J12-4+1,2)) -> #N/A | O12: =VALUE(RIGHT(F12,2)) -> #N/A | Q12: =IF(N12<VLOOKUP(E12,'Horario salida'!$C$3:$E$41,3,FALSE),M12-1,M12) -> #N/A | R12: =IF(N12<VLOOKUP(E12,'Horario salida'!$C$3:$E$41,3,FALSE),N12+60,N12) -> #N/A | S12: =IF(O12<VLOOKUP(E12,'Horario salida'!$C$3:$F$41,4,FALSE),R12-1,R12) -> #N/A | T12: =IF(O12<VLOOKUP(E12,'Horario salida'!$C$3:$F$41,4,FALSE),O12+100,O12) -> #N/A | X12: =Q12-VLOOKUP(E12,'Horario salida'!$C$3:$D$41,2,FALSE) -> #N/A | Y12: =S12-VLOOKUP(E12,'Horario salida'!$C$3:$E$41,3,FALSE) -> #N/A | Z12: =T12-VLOOKUP(E12,'Horario salida'!$C$3:$F$41,4,FALSE) -> #N/A | AB12: =TEXT(X12,"00") -> #N/A | AC12: =TEXT(Y12,"00") -> #N/A | AD12: =TEXT(Z12,"00") -> #N/A
C13: =VLOOKUP(B13,'1 - Dorsales clubs'!B:C,2,FALSE) -> #N/A | D13: =VLOOKUP(C13,'1 - Dorsales clubs'!C:D,2,FALSE) -> #N/A | E13: =VLOOKUP(B13,'1 - Dorsales clubs'!B:F,4,FALSE) -> #N/A | F13: =VLOOKUP(B13,TºCrono!B:C,2,FALSE) -> #N/A | H13: =IF(F13="D","DESCALIF.",IF(F13="A","ABANDONO",IF(F13="N","NO PRES.",CONCATENATE(AB13,":",AC13,":",AD13)))) -> #N/A | J13: =LEN(F13) -> #N/A | M13: =VALUE(MID(F13,1,J13-4)) -> #N/A | N13: =VALUE(MID(F13,J13-4+1,2)) -> #N/A | O13: =VALUE(RIGHT(F13,2)) -> #N/A | Q13: =IF(N13<VLOOKUP(E13,'Horario salida'!$C$3:$E$41,3,FALSE),M13-1,M13) -> #N/A | R13: =IF(N13<VLOOKUP(E13,'Horario salida'!$C$3:$E$41,3,FALSE),N13+60,N13) -> #N/A | S13: =IF(O13<VLOOKUP(E13,'Horario salida'!$C$3:$F$41,4,FALSE),R13-1,R13) -> #N/A | T13: =IF(O13<VLOOKUP(E13,'Horario salida'!$C$3:$F$41,4,FALSE),O13+100,O13) -> #N/A | X13: =Q13-VLOOKUP(E13,'Horario salida'!$C$3:$D$41,2,FALSE) -> #N/A | Y13: =S13-VLOOKUP(E13,'Horario salida'!$C$3:$E$41,3,FALSE) -> #N/A | Z13: =T13-VLOOKUP(E13,'Horario salida'!$C$3:$F$41,4,FALSE) -> #N/A | AB13: =TEXT(X13,"00") -> #N/A | AC13: =TEXT(Y13,"00") -> #N/A | AD13: =TEXT(Z13,"00") -> #N/A
C14: =VLOOKUP(B14,'1 - Dorsales clubs'!B:C,2,FALSE) -> #N/A | D14: =VLOOKUP(C14,'1 - Dorsales clubs'!C:D,2,FALSE) -> #N/A | E14: =VLOOKUP(B14,'1 - Dorsales clubs'!B:F,4,FALSE) -> #N/A | F14: =VLOOKUP(B14,TºCrono!B:C,2,FALSE) -> #N/A | H14: =IF(F14="D","DESCALIF.",IF(F14="A","ABANDONO",IF(F14="N","NO PRES.",CONCATENATE(AB14,":",AC14,":",AD14)))) -> #N/A | J14: =LEN(F14) -> #N/A | M14: =VALUE(MID(F14,1,J14-4)) -> #N/A | N14: =VALUE(MID(F14,J14-4+1,2)) -> #N/A | O14: =VALUE(RIGHT(F14,2)) -> #N/A | Q14: =IF(N14<VLOOKUP(E14,'Horario salida'!$C$3:$E$41,3,FALSE),M14-1,M14) -> #N/A | R14: =IF(N14<VLOOKUP(E14,'Horario salida'!$C$3:$E$41,3,FALSE),N14+60,N14) -> #N/A | S14: =IF(O14<VLOOKUP(E14,'Horario salida'!$C$3:$F$41,4,FALSE),R14-1,R14) -> #N/A | T14: =IF(O14<VLOOKUP(E14,'Horario salida'!$C$3:$F$41,4,FALSE),O14+100,O14) -> #N/A | X14: =Q14-VLOOKUP(E14,'Horario salida'!$C$3:$D$41,2,FALSE) -> #N/A | Y14: =S14-VLOOKUP(E14,'Horario salida'!$C$3:$E$41,3,FALSE) -> #N/A | Z14: =T14-VLOOKUP(E14,'Horario salida'!$C$3:$F$41,4,FALSE) -> #N/A | AB14: =TEXT(X14,"00") -> #N/A | AC14: =TEXT(Y14,"00") -> #N/A | AD14: =TEXT(Z14,"00") -> #N/A
... C362: =VLOOKUP(B362,'1 - Dorsales clubs'!B:C,2,FALSE) -> #N/A | D362: =VLOOKUP(C362,'1 - Dorsales clubs'!C:D,2,FALSE) -> #N/A | E362: =VLOOKUP(B362,'1 - Dorsales clubs'!B:F,4,FALSE) -> #N/A | F362: =VLOOKUP(B362,TºCrono!B:C,2,FALSE) -> #N/A | H362: =IF(F362="D","DESCALIF.",IF(F362="A","ABANDONO",IF(F362="N","NO PRES.",CONCATENATE(AB362,":",AC362,":",AD362)))) -> #N/A | J362: =LEN(F362) -> #N/A | M362: =VALUE(MID(F362,1,J362-4)) -> #N/A | N362: =VALUE(MID(F362,J362-4+1,2)) -> #N/A | O362: =VALUE(RIGHT(F362,2)) -> #N/A | Q362: =IF(N362<VLOOKUP(E362,'Horario salida'!$C$3:$E$41,3,FALSE),M362-1,M362) -> #N/A | R362: =IF(N362<VLOOKUP(E362,'Horario salida'!$C$3:$E$41,3,FALSE),N362+60,N362) -> #N/A | S362: =IF(O362<VLOOKUP(E362,'Horario salida'!$C$3:$F$41,4,FALSE),R362-1,R362) -> #N/A | T362: =IF(O362<VLOOKUP(E362,'Horario salida'!$C$3:$F$41,4,FALSE),O362+100,O362) -> #N/A | X362: =Q362-VLOOKUP(E362,'Horario salida'!$C$3:$D$41,2,FALSE) -> #N/A | Y362: =S362-VLOOKUP(E362,'Horario salida'!$C$3:$E$41,3,FALSE) -> #N/A | Z362: =T362-VLOOKUP(E362,'Horario salida'!$C$3:$F$41,4,FALSE) -> #N/A | AB362: =TEXT(X362,"00") -> #N/A | AC362: =TEXT(Y362,"00") -> #N/A | AD362: =TEXT(Z362,"00") -> #N/A

Sheet ENTREPUENTES
B2: X Regata Entrepuentes - ENHOL Ebrokayak - Tudela
B3: Lugar, fecha y hora: Río Ebro, 20/09/2026
B4: Organiza: ENHOL-Ebrokayak - Federación Navarra de Piragüismo
D6: CATEGORIA | E6: HOMBRE SENIOR | F6: K1 | I6: =VLOOKUP(F8,DATOS!$C$5:$D$40,2,FALSE) -> 21 | J6: =COUNTIF(F8:$F$802,F8) -> 21
B7: PTOS | C7: DORSAL | D7: NOMBRE | E7: CLUB | F7: CAT. | G7: Tº CRONO | I7: Tº REAL
B8: 33 | C8: 91 | D8: =VLOOKUP(C8,'1 - Dorsales clubs'!B:C,2,FALSE) -> JAIME RAINERO PARRA | E8: =VLOOKUP(D8,'1 - Dorsales clubs'!C:D,2,FALSE) -> CLUB ESCUELA DE PIRAGUISMO ARANJUEZ | F8: HSK1 | G8: =VLOOKUP(C8,TºCrono!B:C,2,FALSE) -> 212147 | I8: =IF(G8="D","DESCALIF.",IF(G8="A","ABANDONO",IF(G8="N","NO PRES.",CONCATENATE(AC8,":",AD8,":",AE8)))) -> 21:21:47 | K8: =LEN(G8) -> 6 | N8: =VALUE(MID(G8,1,K8-4)) -> 21 | O8: =VALUE(MID(G8,K8-4+1,2)) -> 21 | P8: =VALUE(RIGHT(G8,2)) -> 47 | R8: =IF(O8<VLOOKUP(F8,'Horario salida'!$C$3:$E$32,3,FALSE),N8-1,N8) -> 21 | S8: =IF(O8<VLOOKUP(F8,'Horario salida'!$C$3:$E$32,3,FALSE),O8+60,O8) -> 21 | T8: =IF(P8<VLOOKUP(F8,'Horario salida'!$C$3:$F$32,4,FALSE),S8-1,S8) -> 21 | U8: =IF(P8<VLOOKUP(F8,'Horario salida'!$C$3:$F$32,4,FALSE),P8+100,P8) -> 47 | Y8: =R8-VLOOKUP(F8,'Horario salida'!$C$3:$D$34,2,FALSE) -> 21 | Z8: =T8-VLOOKUP(F8,'Horario salida'!$C$3:$E$32,3,FALSE) -> 21 | AA8: =U8-VLOOKUP(F8,'Horario salida'!$C$3:$F$32,4,FALSE) -> 47 | AC8: =TEXT(Y8,"00") -> 21 | AD8: =TEXT(Z8,"00") -> 21 | AE8: =TEXT(AA8,"00") -> 47
B9: 29 | C9: 272 | D9: =VLOOKUP(C9,'1 - Dorsales clubs'!B:C,2,FALSE) -> Pablo Zamora Bustamante | E9: =VLOOKUP(D9,'1 - Dorsales clubs'!C:D,2,FALSE) -> Club Piragüismo Las Grajas | F9: HSK1 | G9: =VLOOKUP(C9,TºCrono!B:C,2,FALSE) -> 212267 | I9: =IF(G9="D","DESCALIF.",IF(G9="A","ABANDONO",IF(G9="N","NO PRES.",CONCATENATE(AC9,":",AD9,":",AE9)))) -> 21:22:67 | K9: =LEN(G9) -> 6 | N9: =VALUE(MID(G9,1,K9-4)) -> 21 | O9: =VALUE(MID(G9,K9-4+1,2)) -> 22 | P9: =VALUE(RIGHT(G9,2)) -> 67 | R9: =IF(O9<VLOOKUP(F9,'Horario salida'!$C$3:$E$32,3,FALSE),N9-1,N9) -> 21 | S9: =IF(O9<VLOOKUP(F9,'Horario salida'!$C$3:$E$32,3,FALSE),O9+60,O9) -> 22 | T9: =IF(P9<VLOOKUP(F9,'Horario salida'!$C$3:$F$32,4,FALSE),S9-1,S9) -> 22 | U9: =IF(P9<VLOOKUP(F9,'Horario salida'!$C$3:$F$32,4,FALSE),P9+100,P9) -> 67 | Y9: =R9-VLOOKUP(F9,'Horario salida'!$C$3:$D$34,2,FALSE) -> 21 | Z9: =T9-VLOOKUP(F9,'Horario salida'!$C$3:$E$32,3,FALSE) -> 22 | AA9: =U9-VLOOKUP(F9,'Horario salida'!$C$3:$F$32,4,FALSE) -> 67 | AC9: =TEXT(Y9,"00") -> 21 | AD9: =TEXT(Z9,"00") -> 22 | AE9: =TEXT(AA9,"00") -> 67
B10: 26 | C10: 95 | D10: =VLOOKUP(C10,'1 - Dorsales clubs'!B:C,2,FALSE) -> IKER BOE GARCIA | E10: =VLOOKUP(D10,'1 - Dorsales clubs'!C:D,2,FALSE) -> CLUB PIRAGÜISMO ANTARES | F10: HSK1 | G10: =VLOOKUP(C10,TºCrono!B:C,2,FALSE) -> 212382 | I10: =IF(G10="D","DESCALIF.",IF(G10="A","ABANDONO",IF(G10="N","NO PRES.",CONCATENATE(AC10,":",AD10,":",AE10)))) -> 21:23:82 | K10: =LEN(G10) -> 6 | N10: =VALUE(MID(G10,1,K10-4)) -> 21 | O10: =VALUE(MID(G10,K10-4+1,2)) -> 23 | P10: =VALUE(RIGHT(G10,2)) -> 82 | R10: =IF(O10<VLOOKUP(F10,'Horario salida'!$C$3:$E$32,3,FALSE),N10-1,N10) -> 21 | S10: =IF(O10<VLOOKUP(F10,'Horario salida'!$C$3:$E$32,3,FALSE),O10+60,O10) -> 23 | T10: =IF(P10<VLOOKUP(F10,'Horario salida'!$C$3:$F$32,4,FALSE),S10-1,S10) -> 23 | U10: =IF(P10<VLOOKUP(F10,'Horario salida'!$C$3:$F$32,4,FALSE),P10+100,P10) -> 82 | Y10: =R10-VLOOKUP(F10,'Horario salida'!$C$3:$D$34,2,FALSE) -> 21 | Z10: =T10-VLOOKUP(F10,'Horario salida'!$C$3:$E$32,3,FALSE) -> 23 | AA10: =U10-VLOOKUP(F10,'Horario salida'!$C$3:$F$32,4,FALSE) -> 82 | AC10: =TEXT(Y10,"00") -> 21 | AD10: =TEXT(Z10,"00") -> 23 | AE10: =TEXT(AA10,"00") -> 82
B11: 24 | C11: 255 | D11: =VLOOKUP(C11,'1 - Dorsales clubs'!B:C,2,FALSE) -> Francesco Urdiroz Agati | E11: =VLOOKUP(D11,'1 - Dorsales clubs'!C:D,2,FALSE) -> Club Natación Pamplona | F11: HSK1 | G11: =VLOOKUP(C11,TºCrono!B:C,2,FALSE) -> 213293 | I11: =IF(G11="D","DESCALIF.",IF(G11="A","ABANDONO",IF(G11="N","NO PRES.",CONCATENATE(AC11,":",AD11,":",AE11)))) -> 21:32:93 | K11: =LEN(G11) -> 6 | N11: =VALUE(MID(G11,1,K11-4)) -> 21 | O11: =VALUE(MID(G11,K11-4+1,2)) -> 32 | P11: =VALUE(RIGHT(G11,2)) -> 93 | R11: =IF(O11<VLOOKUP(F11,'Horario salida'!$C$3:$E$32,3,FALSE),N11-1,N11) -> 21 | S11: =IF(O11<VLOOKUP(F11,'Horario salida'!$C$3:$E$32,3,FALSE),O11+60,O11) -> 32 | T11: =IF(P11<VLOOKUP(F11,'Horario salida'!$C$3:$F$32,4,FALSE),S11-1,S11) -> 32 | U11: =IF(P11<VLOOKUP(F11,'Horario salida'!$C$3:$F$32,4,FALSE),P11+100,P11) -> 93 | Y11: =R11-VLOOKUP(F11,'Horario salida'!$C$3:$D$34,2,FALSE) -> 21 | Z11: =T11-VLOOKUP(F11,'Horario salida'!$C$3:$E$32,3,FALSE) -> 32 | AA11: =U11-VLOOKUP(F11,'Horario salida'!$C$3:$F$32,4,FALSE) -> 93 | AC11: =TEXT(Y11,"00") -> 21 | AD11: =TEXT(Z11,"00") -> 32 | AE11: =TEXT(AA11,"00") -> 93
B12: 23 | C12: 261 | D12: =VLOOKUP(C12,'1 - Dorsales clubs'!B:C,2,FALSE) -> Aimar Amundarain Aguirre | E12: =VLOOKUP(D12,'1 - Dorsales clubs'!C:D,2,FALSE) -> Zumaiako Urola Itsas Adar | F12: HSK1 | G12: =VLOOKUP(C12,TºCrono!B:C,2,FALSE) -> 215001 | I12: =IF(G12="D","DESCALIF.",IF(G12="A","ABANDONO",IF(G12="N","NO PRES.",CONCATENATE(AC12,":",AD12,":",AE12)))) -> 21:50:01 | K12: =LEN(G12) -> 6 | N12: =VALUE(MID(G12,1,K12-4)) -> 21 | O12: =VALUE(MID(G12,K12-4+1,2)) -> 50 | P12: =VALUE(RIGHT(G12,2)) -> 1 | R12: =IF(O12<VLOOKUP(F12,'Horario salida'!$C$3:$E$32,3,FALSE),N12-1,N12) -> 21 | S12: =IF(O12<VLOOKUP(F12,'Horario salida'!$C$3:$E$32,3,FALSE),O12+60,O12) -> 50 | T12: =IF(P12<VLOOKUP(F12,'Horario salida'!$C$3:$F$32,4,FALSE),S12-1,S12) -> 50 | U12: =IF(P12<VLOOKUP(F12,'Horario salida'!$C$3:$F$32,4,FALSE),P12+100,P12) -> 1 | Y12: =R12-VLOOKUP(F12,'Horario salida'!$C$3:$D$34,2,FALSE) -> 21 | Z12: =T12-VLOOKUP(F12,'Horario salida'!$C$3:$E$32,3,FALSE) -> 50 | AA12: =U12-VLOOKUP(F12,'Horario salida'!$C$3:$F$32,4,FALSE) -> 1 | AC12: =TEXT(Y12,"00") -> 21 | AD12: =TEXT(Z12,"00") -> 50 | AE12: =TEXT(AA12,"00") -> 01
B13: 22 | C13: 123 | D13: =VLOOKUP(C13,'1 - Dorsales clubs'!B:C,2,FALSE) -> Mikel Velasco | E13: =VLOOKUP(D13,'1 - Dorsales clubs'!C:D,2,FALSE) -> CLUB PIRAGUISMO GETXO-GETXO KAYAK | F13: HSK1 | G13: =VLOOKUP(C13,TºCrono!B:C,2,FALSE) -> 220887 | I13: =IF(G13="D","DESCALIF.",IF(G13="A","ABANDONO",IF(G13="N","NO PRES.",CONCATENATE(AC13,":",AD13,":",AE13)))) -> 22:08:87 | K13: =LEN(G13) -> 6 | N13: =VALUE(MID(G13,1,K13-4)) -> 22 | O13: =VALUE(MID(G13,K13-4+1,2)) -> 8 | P13: =VALUE(RIGHT(G13,2)) -> 87 | R13: =IF(O13<VLOOKUP(F13,'Horario salida'!$C$3:$E$32,3,FALSE),N13-1,N13) -> 22 | S13: =IF(O13<VLOOKUP(F13,'Horario salida'!$C$3:$E$32,3,FALSE),O13+60,O13) -> 8 | T13: =IF(P13<VLOOKUP(F13,'Horario salida'!$C$3:$F$32,4,FALSE),S13-1,S13) -> 8 | U13: =IF(P13<VLOOKUP(F13,'Horario salida'!$C$3:$F$32,4,FALSE),P13+100,P13) -> 87 | Y13: =R13-VLOOKUP(F13,'Horario salida'!$C$3:$D$34,2,FALSE) -> 22 | Z13: =T13-VLOOKUP(F13,'Horario salida'!$C$3:$E$32,3,FALSE) -> 8 | AA13: =U13-VLOOKUP(F13,'Horario salida'!$C$3:$F$32,4,FALSE) -> 87 | AC13: =TEXT(Y13,"00") -> 22 | AD13: =TEXT(Z13,"00") -> 08 | AE13: =TEXT(AA13,"00") -> 87
B14: 21 | C14: 209 | D14: =VLOOKUP(C14,'1 - Dorsales clubs'!B:C,2,FALSE) -> JAIME SANTOS CRIADO SORS | E14: =VLOOKUP(D14,'1 - Dorsales clubs'!C:D,2,FALSE) -> CLUB D. PALENTINO PIRAGÜISMO | F14: HSK1 | G14: =VLOOKUP(C14,TºCrono!B:C,2,FALSE) -> 220935 | I14: =IF(G14="D","DESCALIF.",IF(G14="A","ABANDONO",IF(G14="N","NO PRES.",CONCATENATE(AC14,":",AD14,":",AE14)))) -> 22:09:35 | K14: =LEN(G14) -> 6 | N14: =VALUE(MID(G14,1,K14-4)) -> 22 | O14: =VALUE(MID(G14,K14-4+1,2)) -> 9 | P14: =VALUE(RIGHT(G14,2)) -> 35 | R14: =IF(O14<VLOOKUP(F14,'Horario salida'!$C$3:$E$32,3,FALSE),N14-1,N14) -> 22 | S14: =IF(O14<VLOOKUP(F14,'Horario salida'!$C$3:$E$32,3,FALSE),O14+60,O14) -> 9 | T14: =IF(P14<VLOOKUP(F14,'Horario salida'!$C$3:$F$32,4,FALSE),S14-1,S14) -> 9 | U14: =IF(P14<VLOOKUP(F14,'Horario salida'!$C$3:$F$32,4,FALSE),P14+100,P14) -> 35 | Y14: =R14-VLOOKUP(F14,'Horario salida'!$C$3:$D$34,2,FALSE) -> 22 | Z14: =T14-VLOOKUP(F14,'Horario salida'!$C$3:$E$32,3,FALSE) -> 9 | AA14: =U14-VLOOKUP(F14,'Horario salida'!$C$3:$F$32,4,FALSE) -> 35 | AC14: =TEXT(Y14,"00") -> 22 | AD14: =TEXT(Z14,"00") -> 09 | AE14: =TEXT(AA14,"00") -> 35
B15: 20 | C15: 92 | D15: =VLOOKUP(C15,'1 - Dorsales clubs'!B:C,2,FALSE) -> PABLO MARTÍNEZ LÓPEZ | E15: =VLOOKUP(D15,'1 - Dorsales clubs'!C:D,2,FALSE) -> CLUB ESCUELA DE PIRAGUISMO ARANJUEZ | F15: HSK1 | G15: =VLOOKUP(C15,TºCrono!B:C,2,FALSE) -> 220980 | I15: =IF(G15="D","DESCALIF.",IF(G15="A","ABANDONO",IF(G15="N","NO PRES.",CONCATENATE(AC15,":",AD15,":",AE15)))) -> 22:09:80 | K15: =LEN(G15) -> 6 | N15: =VALUE(MID(G15,1,K15-4)) -> 22 | O15: =VALUE(MID(G15,K15-4+1,2)) -> 9 | P15: =VALUE(RIGHT(G15,2)) -> 80 | R15: =IF(O15<VLOOKUP(F15,'Horario salida'!$C$3:$E$32,3,FALSE),N15-1,N15) -> 22 | S15: =IF(O15<VLOOKUP(F15,'Horario salida'!$C$3:$E$32,3,FALSE),O15+60,O15) -> 9 | T15: =IF(P15<VLOOKUP(F15,'Horario salida'!$C$3:$F$32,4,FALSE),S15-1,S15) -> 9 | U15: =IF(P15<VLOOKUP(F15,'Horario salida'!$C$3:$F$32,4,FALSE),P15+100,P15) -> 80 | Y15: =R15-VLOOKUP(F15,'Horario salida'!$C$3:$D$34,2,FALSE) -> 22 | Z15: =T15-VLOOKUP(F15,'Horario salida'!$C$3:$E$32,3,FALSE) -> 9 | AA15: =U15-VLOOKUP(F15,'Horario salida'!$C$3:$F$32,4,FALSE) -> 80 | AC15: =TEXT(Y15,"00") -> 22 | AD15: =TEXT(Z15,"00") -> 09 | AE15: =TEXT(AA15,"00") -> 80
B16: 19 | C16: 254 | D16: =VLOOKUP(C16,'1 - Dorsales clubs'!B:C,2,FALSE) -> Aritz Martiartu Orta | E16: =VLOOKUP(D16,'1 - Dorsales clubs'!C:D,2,FALSE) -> Club Natación Pamplona | F16: HSK1 | G16: =VLOOKUP(C16,TºCrono!B:C,2,FALSE) -> 230635 | I16: =IF(G16="D","DESCALIF.",IF(G16="A","ABANDONO",IF(G16="N","NO PRES.",CONCATENATE(AC16,":",AD16,":",AE16)))) -> 23:06:35 | K16: =LEN(G16) -> 6 | N16: =VALUE(MID(G16,1,K16-4)) -> 23 | O16: =VALUE(MID(G16,K16-4+1,2)) -> 6 | P16: =VALUE(RIGHT(G16,2)) -> 35 | R16: =IF(O16<VLOOKUP(F16,'Horario salida'!$C$3:$E$32,3,FALSE),N16-1,N16) -> 23 | S16: =IF(O16<VLOOKUP(F16,'Horario salida'!$C$3:$E$32,3,FALSE),O16+60,O16) -> 6 | T16: =IF(P16<VLOOKUP(F16,'Horario salida'!$C$3:$F$32,4,FALSE),S16-1,S16) -> 6 | U16: =IF(P16<VLOOKUP(F16,'Horario salida'!$C$3:$F$32,4,FALSE),P16+100,P16) -> 35 | Y16: =R16-VLOOKUP(F16,'Horario salida'!$C$3:$D$34,2,FALSE) -> 23 | Z16: =T16-VLOOKUP(F16,'Horario salida'!$C$3:$E$32,3,FALSE) -> 6 | AA16: =U16-VLOOKUP(F16,'Horario salida'!$C$3:$F$32,4,FALSE) -> 35 | AC16: =TEXT(Y16,"00") -> 23 | AD16: =TEXT(Z16,"00") -> 06 | AE16: =TEXT(AA16,"00") -> 35
B17: 18 | C17: 241 | D17: =VLOOKUP(C17,'1 - Dorsales clubs'!B:C,2,FALSE) -> LUIS MARTINEZ | E17: =VLOOKUP(D17,'1 - Dorsales clubs'!C:D,2,FALSE) -> CD MONKAYAK HIBERUS | F17: HSK1 | G17: =VLOOKUP(C17,TºCrono!B:C,2,FALSE) -> 235407 | I17: =IF(G17="D","DESCALIF.",IF(G17="A","ABANDONO",IF(G17="N","NO PRES.",CONCATENATE(AC17,":",AD17,":",AE17)))) -> 23:54:07 | K17: =LEN(G17) -> 6 | N17: =VALUE(MID(G17,1,K17-4)) -> 23 | O17: =VALUE(MID(G17,K17-4+1,2)) -> 54 | P17: =VALUE(RIGHT(G17,2)) -> 7 | R17: =IF(O17<VLOOKUP(F17,'Horario salida'!$C$3:$E$32,3,FALSE),N17-1,N17) -> 23 | S17: =IF(O17<VLOOKUP(F17,'Horario salida'!$C$3:$E$32,3,FALSE),O17+60,O17) -> 54 | T17: =IF(P17<VLOOKUP(F17,'Horario salida'!$C$3:$F$32,4,FALSE),S17-1,S17) -> 54 | U17: =IF(P17<VLOOKUP(F17,'Horario salida'!$C$3:$F$32,4,FALSE),P17+100,P17) -> 7 | Y17: =R17-VLOOKUP(F17,'Horario salida'!$C$3:$D$34,2,FALSE) -> 23 | Z17: =T17-VLOOKUP(F17,'Horario salida'!$C$3:$E$32,3,FALSE) -> 54 | AA17: =U17-VLOOKUP(F17,'Horario salida'!$C$3:$F$32,4,FALSE) -> 7 | AC17: =TEXT(Y17,"00") -> 23 | AD17: =TEXT(Z17,"00") -> 54 | AE17: =TEXT(AA17,"00") -> 07
B18: 17 | C18: 208 | D18: =VLOOKUP(C18,'1 - Dorsales clubs'!B:C,2,FALSE) -> SERGIO MEDINA MERINO | E18: =VLOOKUP(D18,'1 - Dorsales clubs'!C:D,2,FALSE) -> CLUB D. PALENTINO PIRAGÜISMO | F18: HSK1 | G18: =VLOOKUP(C18,TºCrono!B:C,2,FALSE) -> 235556 | I18: =IF(G18="D","DESCALIF.",IF(G18="A","ABANDONO",IF(G18="N","NO PRES.",CONCATENATE(AC18,":",AD18,":",AE18)))) -> 23:55:56 | K18: =LEN(G18) -> 6 | N18: =VALUE(MID(G18,1,K18-4)) -> 23 | O18: =VALUE(MID(G18,K18-4+1,2)) -> 55 | P18: =VALUE(RIGHT(G18,2)) -> 56 | R18: =IF(O18<VLOOKUP(F18,'Horario salida'!$C$3:$E$32,3,FALSE),N18-1,N18) -> 23 | S18: =IF(O18<VLOOKUP(F18,'Horario salida'!$C$3:$E$32,3,FALSE),O18+60,O18) -> 55 | T18: =IF(P18<VLOOKUP(F18,'Horario salida'!$C$3:$F$32,4,FALSE),S18-1,S18) -> 55 | U18: =IF(P18<VLOOKUP(F18,'Horario salida'!$C$3:$F$32,4,FALSE),P18+100,P18) -> 56 | Y18: =R18-VLOOKUP(F18,'Horario salida'!$C$3:$D$34,2,FALSE) -> 23 | Z18: =T18-VLOOKUP(F18,'Horario salida'!$C$3:$E$32,3,FALSE) -> 55 | AA18: =U18-VLOOKUP(F18,'Horario salida'!$C$3:$F$32,4,FALSE) -> 56 | AC18: =TEXT(Y18,"00") -> 23 | AD18: =TEXT(Z18,"00") -> 55 | AE18: =TEXT(AA18,"00") -> 56
B19: 16 | C19: 175 | D19: =VLOOKUP(C19,'1 - Dorsales clubs'!B:C,2,FALSE) -> ALEX ASENSIO BOJ | E19: =VLOOKUP(D19,'1 - Dorsales clubs'!C:D,2,FALSE) -> CENTRO NATACIÓN HELIOS | F19: HSK1 | G19: =VLOOKUP(C19,TºCrono!B:C,2,FALSE) -> 240215 | I19: =IF(G19="D","DESCALIF.",IF(G19="A","ABANDONO",IF(G19="N","NO PRES.",CONCATENATE(AC19,":",AD19,":",AE19)))) -> 24:02:15 | K19: =LEN(G19) -> 6 | N19: =VALUE(MID(G19,1,K19-4)) -> 24 | O19: =VALUE(MID(G19,K19-4+1,2)) -> 2 | P19: =VALUE(RIGHT(G19,2)) -> 15 | R19: =IF(O19<VLOOKUP(F19,'Horario salida'!$C$3:$E$32,3,FALSE),N19-1,N19) -> 24 | S19: =IF(O19<VLOOKUP(F19,'Horario salida'!$C$3:$E$32,3,FALSE),O19+60,O19) -> 2 | T19: =IF(P19<VLOOKUP(F19,'Horario salida'!$C$3:$F$32,4,FALSE),S19-1,S19) -> 2 | U19: =IF(P19<VLOOKUP(F19,'Horario salida'!$C$3:$F$32,4,FALSE),P19+100,P19) -> 15 | Y19: =R19-VLOOKUP(F19,'Horario salida'!$C$3:$D$34,2,FALSE) -> 24 | Z19: =T19-VLOOKUP(F19,'Horario salida'!$C$3:$E$32,3,FALSE) -> 2 | AA19: =U19-VLOOKUP(F19,'Horario salida'!$C$3:$F$32,4,FALSE) -> 15 | AC19: =TEXT(Y19,"00") -> 24 | AD19: =TEXT(Z19,"00") -> 02 | AE19: =TEXT(AA19,"00") -> 15
... B28: 7 | C28: 113 | D28: =VLOOKUP(C28,'1 - Dorsales clubs'!B:C,2,FALSE) -> IBAI GARCIA DEL VAL | E28: =VLOOKUP(D28,'1 - Dorsales clubs'!C:D,2,FALSE) -> CLUB PIRAGÜISMO ANTARES | F28: HSK1 | G28: =VLOOKUP(C28,TºCrono!B:C,2,FALSE) -> 282720 | I28: =IF(G28="D","DESCALIF.",IF(G28="A","ABANDONO",IF(G28="N","NO PRES.",CONCATENATE(AC28,":",AD28,":",AE28)))) -> 28:27:20 | K28: =LEN(G28) -> 6 | N28: =VALUE(MID(G28,1,K28-4)) -> 28 | O28: =VALUE(MID(G28,K28-4+1,2)) -> 27 | P28: =VALUE(RIGHT(G28,2)) -> 20 | R28: =IF(O28<VLOOKUP(F28,'Horario salida'!$C$3:$E$32,3,FALSE),N28-1,N28) -> 28 | S28: =IF(O28<VLOOKUP(F28,'Horario salida'!$C$3:$E$32,3,FALSE),O28+60,O28) -> 27 | T28: =IF(P28<VLOOKUP(F28,'Horario salida'!$C$3:$F$32,4,FALSE),S28-1,S28) -> 27 | U28: =IF(P28<VLOOKUP(F28,'Horario salida'!$C$3:$F$32,4,FALSE),P28+100,P28) -> 20 | Y28: =R28-VLOOKUP(F28,'Horario salida'!$C$3:$D$34,2,FALSE) -> 28 | Z28: =T28-VLOOKUP(F28,'Horario salida'!$C$3:$E$32,3,FALSE) -> 27 | AA28: =U28-VLOOKUP(F28,'Horario salida'!$C$3:$F$32,4,FALSE) -> 20 | AC28: =TEXT(Y28,"00") -> 28 | AD28: =TEXT(Z28,"00") -> 27 | AE28: =TEXT(AA28,"00") -> 20
D30: CATEGORIA | E30: HOMBRE JUNIOR | F30: K1 | I30: =VLOOKUP(F32,DATOS!$C$5:$D$40,2,FALSE) -> 4 | J30: =COUNTIF(F32:$F$802,F32) -> 4
B31: PTOS | C31: DORSAL | D31: NOMBRE | E31: CLUB | F31: CAT. | G31: Tº CRONO | I31: Tº REAL
B32: 33 | C32: 107 | D32: =VLOOKUP(C32,'1 - Dorsales clubs'!B:C,2,FALSE) -> HÉCTOR VELASCO ÁLVAREZ | E32: =VLOOKUP(D32,'1 - Dorsales clubs'!C:D,2,FALSE) -> CLUB PIRAGÜISMO ANTARES | F32: HJK1 | G32: =VLOOKUP(C32,TºCrono!B:C,2,FALSE) -> 240906 | I32: =IF(G32="D","DESCALIF.",IF(G32="A","ABANDONO",IF(G32="N","NO PRES.",CONCATENATE(AC32,":",AD32,":",AE32)))) -> 24:09:06 | K32: =LEN(G32) -> 6 | N32: =VALUE(MID(G32,1,K32-4)) -> 24 | O32: =VALUE(MID(G32,K32-4+1,2)) -> 9 | P32: =VALUE(RIGHT(G32,2)) -> 6 | R32: =IF(O32<VLOOKUP(F32,'Horario salida'!$C$3:$E$32,3,FALSE),N32-1,N32) -> 24 | S32: =IF(O32<VLOOKUP(F32,'Horario salida'!$C$3:$E$32,3,FALSE),O32+60,O32) -> 9 | T32: =IF(P32<VLOOKUP(F32,'Horario salida'!$C$3:$F$32,4,FALSE),S32-1,S32) -> 9 | U32: =IF(P32<VLOOKUP(F32,'Horario salida'!$C$3:$F$32,4,FALSE),P32+100,P32) -> 6 | Y32: =R32-VLOOKUP(F32,'Horario salida'!$C$3:$D$34,2,FALSE) -> 24 | Z32: =T32-VLOOKUP(F32,'Horario salida'!$C$3:$E$32,3,FALSE) -> 9 | AA32: =U32-VLOOKUP(F32,'Horario salida'!$C$3:$F$32,4,FALSE) -> 6 | AC32: =TEXT(Y32,"00") -> 24 | AD32: =TEXT(Z32,"00") -> 09 | AE32: =TEXT(AA32,"00") -> 06
B33: 29 | C33: 192 | D33: =VLOOKUP(C33,'1 - Dorsales clubs'!B:C,2,FALSE) -> JORGE PEÑA CARNICER | E33: =VLOOKUP(D33,'1 - Dorsales clubs'!C:D,2,FALSE) -> CENTRO NATACIÓN HELIOS | F33: HJK1 | G33: =VLOOKUP(C33,TºCrono!B:C,2,FALSE) -> 241346 | I33: =IF(G33="D","DESCALIF.",IF(G33="A","ABANDONO",IF(G33="N","NO PRES.",CONCATENATE(AC33,":",AD33,":",AE33)))) -> 24:13:46 | K33: =LEN(G33) -> 6 | N33: =VALUE(MID(G33,1,K33-4)) -> 24 | O33: =VALUE(MID(G33,K33-4+1,2)) -> 13 | P33: =VALUE(RIGHT(G33,2)) -> 46 | R33: =IF(O33<VLOOKUP(F33,'Horario salida'!$C$3:$E$32,3,FALSE),N33-1,N33) -> 24 | S33: =IF(O33<VLOOKUP(F33,'Horario salida'!$C$3:$E$32,3,FALSE),O33+60,O33) -> 13 | T33: =IF(P33<VLOOKUP(F33,'Horario salida'!$C$3:$F$32,4,FALSE),S33-1,S33) -> 13 | U33: =IF(P33<VLOOKUP(F33,'Horario salida'!$C$3:$F$32,4,FALSE),P33+100,P33) -> 46 | Y33: =R33-VLOOKUP(F33,'Horario salida'!$C$3:$D$34,2,FALSE) -> 24 | Z33: =T33-VLOOKUP(F33,'Horario salida'!$C$3:$E$32,3,FALSE) -> 13 | AA33: =U33-VLOOKUP(F33,'Horario salida'!$C$3:$F$32,4,FALSE) -> 46 | AC33: =TEXT(Y33,"00") -> 24 | AD33: =TEXT(Z33,"00") -> 13 | AE33: =TEXT(AA33,"00") -> 46
B34: 26 | C34: 194 | D34: =VLOOKUP(C34,'1 - Dorsales clubs'!B:C,2,FALSE) -> MATEO PULIDO BERDUN | E34: =VLOOKUP(D34,'1 - Dorsales clubs'!C:D,2,FALSE) -> CENTRO NATACIÓN HELIOS | F34: HJK1 | G34: =VLOOKUP(C34,TºCrono!B:C,2,FALSE) -> 243880 | I34: =IF(G34="D","DESCALIF.",IF(G34="A","ABANDONO",IF(G34="N","NO PRES.",CONCATENATE(AC34,":",AD34,":",AE34)))) -> 24:38:80 | K34: =LEN(G34) -> 6 | N34: =VALUE(MID(G34,1,K34-4)) -> 24 | O34: =VALUE(MID(G34,K34-4+1,2)) -> 38 | P34: =VALUE(RIGHT(G34,2)) -> 80 | R34: =IF(O34<VLOOKUP(F34,'Horario salida'!$C$3:$E$32,3,FALSE),N34-1,N34) -> 24 | S34: =IF(O34<VLOOKUP(F34,'Horario salida'!$C$3:$E$32,3,FALSE),O34+60,O34) -> 38 | T34: =IF(P34<VLOOKUP(F34,'Horario salida'!$C$3:$F$32,4,FALSE),S34-1,S34) -> 38 | U34: =IF(P34<VLOOKUP(F34,'Horario salida'!$C$3:$F$32,4,FALSE),P34+100,P34) -> 80 | Y34: =R34-VLOOKUP(F34,'Horario salida'!$C$3:$D$34,2,FALSE) -> 24 | Z34: =T34-VLOOKUP(F34,'Horario salida'!$C$3:$E$32,3,FALSE) -> 38 | AA34: =U34-VLOOKUP(F34,'Horario salida'!$C$3:$F$32,4,FALSE) -> 80 | AC34: =TEXT(Y34,"00") -> 24 | AD34: =TEXT(Z34,"00") -> 38 | AE34: =TEXT(AA34,"00") -> 80
B35: 24 | C35: 239 | D35: =VLOOKUP(C35,'1 - Dorsales clubs'!B:C,2,FALSE) -> MARKEL COTERA | E35: =VLOOKUP(D35,'1 - Dorsales clubs'!C:D,2,FALSE) -> CD MONKAYAK HIBERUS | F35: HJK1 | G35: =VLOOKUP(C35,TºCrono!B:C,2,FALSE) -> 262804 | I35: =IF(G35="D","DESCALIF.",IF(G35="A","ABANDONO",IF(G35="N","NO PRES.",CONCATENATE(AC35,":",AD35,":",AE35)))) -> 26:28:04 | K35: =LEN(G35) -> 6 | N35: =VALUE(MID(G35,1,K35-4)) -> 26 | O35: =VALUE(MID(G35,K35-4+1,2)) -> 28 | P35: =VALUE(RIGHT(G35,2)) -> 4 | R35: =IF(O35<VLOOKUP(F35,'Horario salida'!$C$3:$E$32,3,FALSE),N35-1,N35) -> 26 | S35: =IF(O35<VLOOKUP(F35,'Horario salida'!$C$3:$E$32,3,FALSE),O35+60,O35) -> 28 | T35: =IF(P35<VLOOKUP(F35,'Horario salida'!$C$3:$F$32,4,FALSE),S35-1,S35) -> 28 | U35: =IF(P35<VLOOKUP(F35,'Horario salida'!$C$3:$F$32,4,FALSE),P35+100,P35) -> 4 | Y35: =R35-VLOOKUP(F35,'Horario salida'!$C$3:$D$34,2,FALSE) -> 26 | Z35: =T35-VLOOKUP(F35,'Horario salida'!$C$3:$E$32,3,FALSE) -> 28 | AA35: =U35-VLOOKUP(F35,'Horario salida'!$C$3:$F$32,4,FALSE) -> 4 | AC35: =TEXT(Y35,"00") -> 26 | AD35: =TEXT(Z35,"00") -> 28 | AE35: =TEXT(AA35,"00") -> 04
D37: CATEGORIA | E37: HOMBRE VETERANO 35 | F37: K1 | I37: =VLOOKUP(F39,DATOS!$C$5:$D$40,2,FALSE) -> 10 | J37: =COUNTIF(F39:$F$802,F39) -> 10
B38: PTOS | C38: DORSAL | D38: NOMBRE | E38: CLUB | F38: CAT. | G38: Tº CRONO | I38: Tº REAL
B39: 33 | C39: 269 | D39: =VLOOKUP(C39,'1 - Dorsales clubs'!B:C,2,FALSE) -> David Machado Herrezuelo | E39: =VLOOKUP(D39,'1 - Dorsales clubs'!C:D,2,FALSE) -> Los Cuervos de Pravia | F39: HVK1_35 | G39: =VLOOKUP(C39,TºCrono!B:C,2,FALSE) -> 233034 | I39: =IF(G39="D","DESCALIF.",IF(G39="A","ABANDONO",IF(G39="N","NO PRES.",CONCATENATE(AC39,":",AD39,":",AE39)))) -> 22:45:34 | K39: =LEN(G39) -> 6 | N39: =VALUE(MID(G39,1,K39-4)) -> 23 | O39: =VALUE(MID(G39,K39-4+1,2)) -> 30 | P39: =VALUE(RIGHT(G39,2)) -> 34 | R39: =IF(O39<VLOOKUP(F39,'Horario salida'!$C$3:$E$32,3,FALSE),N39-1,N39) -> 22 | S39: =IF(O39<VLOOKUP(F39,'Horario salida'!$C$3:$E$32,3,FALSE),O39+60,O39) -> 90 | T39: =IF(P39<VLOOKUP(F39,'Horario salida'!$C$3:$F$32,4,FALSE),S39-1,S39) -> 90 | U39: =IF(P39<VLOOKUP(F39,'Horario salida'!$C$3:$F$32,4,FALSE),P39+100,P39) -> 34 | Y39: =R39-VLOOKUP(F39,'Horario salida'!$C$3:$D$34,2,FALSE) -> 22 | Z39: =T39-VLOOKUP(F39,'Horario salida'!$C$3:$E$32,3,FALSE) -> 45 | AA39: =U39-VLOOKUP(F39,'Horario salida'!$C$3:$F$32,4,FALSE) -> 34 | AC39: =TEXT(Y39,"00") -> 22 | AD39: =TEXT(Z39,"00") -> 45 | AE39: =TEXT(AA39,"00") -> 34
B40: 29 | C40: 45 | D40: =VLOOKUP(C40,'1 - Dorsales clubs'!B:C,2,FALSE) -> Víctor Bobillo | E40: =VLOOKUP(D40,'1 - Dorsales clubs'!C:D,2,FALSE) -> Alberche Kayak Club | F40: HVK1_35 | G40: =VLOOKUP(C40,TºCrono!B:C,2,FALSE) -> 241013 | I40: =IF(G40="D","DESCALIF.",IF(G40="A","ABANDONO",IF(G40="N","NO PRES.",CONCATENATE(AC40,":",AD40,":",AE40)))) -> 23:25:13 | K40: =LEN(G40) -> 6 | N40: =VALUE(MID(G40,1,K40-4)) -> 24 | O40: =VALUE(MID(G40,K40-4+1,2)) -> 10 | P40: =VALUE(RIGHT(G40,2)) -> 13 | R40: =IF(O40<VLOOKUP(F40,'Horario salida'!$C$3:$E$32,3,FALSE),N40-1,N40) -> 23 | S40: =IF(O40<VLOOKUP(F40,'Horario salida'!$C$3:$E$32,3,FALSE),O40+60,O40) -> 70 | T40: =IF(P40<VLOOKUP(F40,'Horario salida'!$C$3:$F$32,4,FALSE),S40-1,S40) -> 70 | U40: =IF(P40<VLOOKUP(F40,'Horario salida'!$C$3:$F$32,4,FALSE),P40+100,P40) -> 13 | Y40: =R40-VLOOKUP(F40,'Horario salida'!$C$3:$D$34,2,FALSE) -> 23 | Z40: =T40-VLOOKUP(F40,'Horario salida'!$C$3:$E$32,3,FALSE) -> 25 | AA40: =U40-VLOOKUP(F40,'Horario salida'!$C$3:$F$32,4,FALSE) -> 13 | AC40: =TEXT(Y40,"00") -> 23 | AD40: =TEXT(Z40,"00") -> 25 | AE40: =TEXT(AA40,"00") -> 13
B41: 26 | C41: 16 | D41: =VLOOKUP(C41,'1 - Dorsales clubs'!B:C,2,FALSE) -> Javier Rodero la Fuente | E41: =VLOOKUP(D41,'1 - Dorsales clubs'!C:D,2,FALSE) -> Club Deportivo enhol Ebrokayak | F41: HVK1_35 | G41: =VLOOKUP(C41,TºCrono!B:C,2,FALSE) -> 254079 | I41: =IF(G41="D","DESCALIF.",IF(G41="A","ABANDONO",IF(G41="N","NO PRES.",CONCATENATE(AC41,":",AD41,":",AE41)))) -> 24:55:79 | K41: =LEN(G41) -> 6 | N41: =VALUE(MID(G41,1,K41-4)) -> 25 | O41: =VALUE(MID(G41,K41-4+1,2)) -> 40 | P41: =VALUE(RIGHT(G41,2)) -> 79 | R41: =IF(O41<VLOOKUP(F41,'Horario salida'!$C$3:$E$32,3,FALSE),N41-1,N41) -> 24 | S41: =IF(O41<VLOOKUP(F41,'Horario salida'!$C$3:$E$32,3,FALSE),O41+60,O41) -> 100 | T41: =IF(P41<VLOOKUP(F41,'Horario salida'!$C$3:$F$32,4,FALSE),S41-1,S41) -> 100 | U41: =IF(P41<VLOOKUP(F41,'Horario salida'!$C$3:$F$32,4,FALSE),P41+100,P41) -> 79 | Y41: =R41-VLOOKUP(F41,'Horario salida'!$C$3:$D$34,2,FALSE) -> 24 | Z41: =T41-VLOOKUP(F41,'Horario salida'!$C$3:$E$32,3,FALSE) -> 55 | AA41: =U41-VLOOKUP(F41,'Horario salida'!$C$3:$F$32,4,FALSE) -> 79 | AC41: =TEXT(Y41,"00") -> 24 | AD41: =TEXT(Z41,"00") -> 55 | AE41: =TEXT(AA41,"00") -> 79
B42: 24 | C42: 242 | D42: =VLOOKUP(C42,'1 - Dorsales clubs'!B:C,2,FALSE) -> CARLOS ORIGÜEN | E42: =VLOOKUP(D42,'1 - Dorsales clubs'!C:D,2,FALSE) -> CD MONKAYAK HIBERUS | F42: HVK1_35 | G42: =VLOOKUP(C42,TºCrono!B:C,2,FALSE) -> 264593 | I42: =IF(G42="D","DESCALIF.",IF(G42="A","ABANDONO",IF(G42="N","NO PRES.",CONCATENATE(AC42,":",AD42,":",AE42)))) -> 26:00:93 | K42: =LEN(G42) -> 6 | N42: =VALUE(MID(G42,1,K42-4)) -> 26 | O42: =VALUE(MID(G42,K42-4+1,2)) -> 45 | P42: =VALUE(RIGHT(G42,2)) -> 93 | R42: =IF(O42<VLOOKUP(F42,'Horario salida'!$C$3:$E$32,3,FALSE),N42-1,N42) -> 26 | S42: =IF(O42<VLOOKUP(F42,'Horario salida'!$C$3:$E$32,3,FALSE),O42+60,O42) -> 45 | T42: =IF(P42<VLOOKUP(F42,'Horario salida'!$C$3:$F$32,4,FALSE),S42-1,S42) -> 45 | U42: =IF(P42<VLOOKUP(F42,'Horario salida'!$C$3:$F$32,4,FALSE),P42+100,P42) -> 93 | Y42: =R42-VLOOKUP(F42,'Horario salida'!$C$3:$D$34,2,FALSE) -> 26 | Z42: =T42-VLOOKUP(F42,'Horario salida'!$C$3:$E$32,3,FALSE) -> 0 | AA42: =U42-VLOOKUP(F42,'Horario salida'!$C$3:$F$32,4,FALSE) -> 93 | AC42: =TEXT(Y42,"00") -> 26 | AD42: =TEXT(Z42,"00") -> 00 | AE42: =TEXT(AA42,"00") -> 93
B43: 23 | C43: 102 | D43: =VLOOKUP(C43,'1 - Dorsales clubs'!B:C,2,FALSE) -> VICTOR SEGURA IZQUIERDO | E43: =VLOOKUP(D43,'1 - Dorsales clubs'!C:D,2,FALSE) -> CLUB PIRAGÜISMO ANTARES | F43: HVK1_35 | G43: =VLOOKUP(C43,TºCrono!B:C,2,FALSE) -> 271243 | I43: =IF(G43="D","DESCALIF.",IF(G43="A","ABANDONO",IF(G43="N","NO PRES.",CONCATENATE(AC43,":",AD43,":",AE43)))) -> 26:27:43 | K43: =LEN(G43) -> 6 | N43: =VALUE(MID(G43,1,K43-4)) -> 27 | O43: =VALUE(MID(G43,K43-4+1,2)) -> 12 | P43: =VALUE(RIGHT(G43,2)) -> 43 | R43: =IF(O43<VLOOKUP(F43,'Horario salida'!$C$3:$E$32,3,FALSE),N43-1,N43) -> 26 | S43: =IF(O43<VLOOKUP(F43,'Horario salida'!$C$3:$E$32,3,FALSE),O43+60,O43) -> 72 | T43: =IF(P43<VLOOKUP(F43,'Horario salida'!$C$3:$F$32,4,FALSE),S43-1,S43) -> 72 | U43: =IF(P43<VLOOKUP(F43,'Horario salida'!$C$3:$F$32,4,FALSE),P43+100,P43) -> 43 | Y43: =R43-VLOOKUP(F43,'Horario salida'!$C$3:$D$34,2,FALSE) -> 26 | Z43: =T43-VLOOKUP(F43,'Horario salida'!$C$3:$E$32,3,FALSE) -> 27 | AA43: =U43-VLOOKUP(F43,'Horario salida'!$C$3:$F$32,4,FALSE) -> 43 | AC43: =TEXT(Y43,"00") -> 26 | AD43: =TEXT(Z43,"00") -> 27 | AE43: =TEXT(AA43,"00") -> 43
B44: 22 | C44: 184 | D44: =VLOOKUP(C44,'1 - Dorsales clubs'!B:C,2,FALSE) -> JAVIER CORTÉS SANTIDRIÁN | E44: =VLOOKUP(D44,'1 - Dorsales clubs'!C:D,2,FALSE) -> CENTRO NATACIÓN HELIOS | F44: HVK1_35 | G44: =VLOOKUP(C44,TºCrono!B:C,2,FALSE) -> 283581 | I44: =IF(G44="D","DESCALIF.",IF(G44="A","ABANDONO",IF(G44="N","NO PRES.",CONCATENATE(AC44,":",AD44,":",AE44)))) -> 27:50:81 | K44: =LEN(G44) -> 6 | N44: =VALUE(MID(G44,1,K44-4)) -> 28 | O44: =VALUE(MID(G44,K44-4+1,2)) -> 35 | P44: =VALUE(RIGHT(G44,2)) -> 81 | R44: =IF(O44<VLOOKUP(F44,'Horario salida'!$C$3:$E$32,3,FALSE),N44-1,N44) -> 27 | S44: =IF(O44<VLOOKUP(F44,'Horario salida'!$C$3:$E$32,3,FALSE),O44+60,O44) -> 95 | T44: =IF(P44<VLOOKUP(F44,'Horario salida'!$C$3:$F$32,4,FALSE),S44-1,S44) -> 95 | U44: =IF(P44<VLOOKUP(F44,'Horario salida'!$C$3:$F$32,4,FALSE),P44+100,P44) -> 81 | Y44: =R44-VLOOKUP(F44,'Horario salida'!$C$3:$D$34,2,FALSE) -> 27 | Z44: =T44-VLOOKUP(F44,'Horario salida'!$C$3:$E$32,3,FALSE) -> 50 | AA44: =U44-VLOOKUP(F44,'Horario salida'!$C$3:$F$32,4,FALSE) -> 81 | AC44: =TEXT(Y44,"00") -> 27 | AD44: =TEXT(Z44,"00") -> 50 | AE44: =TEXT(AA44,"00") -> 81
B45: 21 | C45: 17 | D45: =VLOOKUP(C45,'1 - Dorsales clubs'!B:C,2,FALSE) -> Javier Arnedo Lopez | E45: =VLOOKUP(D45,'1 - Dorsales clubs'!C:D,2,FALSE) -> Club Deportivo enhol Ebrokayak | F45: HVK1_35 | G45: =VLOOKUP(C45,TºCrono!B:C,2,FALSE) -> 291529 | I45: =IF(G45="D","DESCALIF.",IF(G45="A","ABANDONO",IF(G45="N","NO PRES.",CONCATENATE(AC45,":",AD45,":",AE45)))) -> 28:30:29 | K45: =LEN(G45) -> 6 | N45: =VALUE(MID(G45,1,K45-4)) -> 29 | O45: =VALUE(MID(G45,K45-4+1,2)) -> 15 | P45: =VALUE(RIGHT(G45,2)) -> 29 | R45: =IF(O45<VLOOKUP(F45,'Horario salida'!$C$3:$E$32,3,FALSE),N45-1,N45) -> 28 | S45: =IF(O45<VLOOKUP(F45,'Horario salida'!$C$3:$E$32,3,FALSE),O45+60,O45) -> 75 | T45: =IF(P45<VLOOKUP(F45,'Horario salida'!$C$3:$F$32,4,FALSE),S45-1,S45) -> 75 | U45: =IF(P45<VLOOKUP(F45,'Horario salida'!$C$3:$F$32,4,FALSE),P45+100,P45) -> 29 | Y45: =R45-VLOOKUP(F45,'Horario salida'!$C$3:$D$34,2,FALSE) -> 28 | Z45: =T45-VLOOKUP(F45,'Horario salida'!$C$3:$E$32,3,FALSE) -> 30 | AA45: =U45-VLOOKUP(F45,'Horario salida'!$C$3:$F$32,4,FALSE) -> 29 | AC45: =TEXT(Y45,"00") -> 28 | AD45: =TEXT(Z45,"00") -> 30 | AE45: =TEXT(AA45,"00") -> 29
B46: 20 | C46: 37 | D46: =VLOOKUP(C46,'1 - Dorsales clubs'!B:C,2,FALSE) -> Diego Ruiz Martinez | E46: =VLOOKUP(D46,'1 - Dorsales clubs'!C:D,2,FALSE) -> Club Deportivo enhol Ebrokayak | F46: HVK1_35 | G46: =VLOOKUP(C46,TºCrono!B:C,2,FALSE) -> 304149 | I46: =IF(G46="D","DESCALIF.",IF(G46="A","ABANDONO",IF(G46="N","NO PRES.",CONCATENATE(AC46,":",AD46,":",AE46)))) -> 29:56:49 | K46: =LEN(G46) -> 6 | N46: =VALUE(MID(G46,1,K46-4)) -> 30 | O46: =VALUE(MID(G46,K46-4+1,2)) -> 41 | P46: =VALUE(RIGHT(G46,2)) -> 49 | R46: =IF(O46<VLOOKUP(F46,'Horario salida'!$C$3:$E$32,3,FALSE),N46-1,N46) -> 29 | S46: =IF(O46<VLOOKUP(F46,'Horario salida'!$C$3:$E$32,3,FALSE),O46+60,O46) -> 101 | T46: =IF(P46<VLOOKUP(F46,'Horario salida'!$C$3:$F$32,4,FALSE),S46-1,S46) -> 101 | U46: =IF(P46<VLOOKUP(F46,'Horario salida'!$C$3:$F$32,4,FALSE),P46+100,P46) -> 49 | Y46: =R46-VLOOKUP(F46,'Horario salida'!$C$3:$D$34,2,FALSE) -> 29 | Z46: =T46-VLOOKUP(F46,'Horario salida'!$C$3:$E$32,3,FALSE) -> 56 | AA46: =U46-VLOOKUP(F46,'Horario salida'!$C$3:$F$32,4,FALSE) -> 49 | AC46: =TEXT(Y46,"00") -> 29 | AD46: =TEXT(Z46,"00") -> 56 | AE46: =TEXT(AA46,"00") -> 49
B47: 19 | C47: 219 | D47: =VLOOKUP(C47,'1 - Dorsales clubs'!B:C,2,FALSE) -> Carlos Aparicio Morlanes | E47: =VLOOKUP(D47,'1 - Dorsales clubs'!C:D,2,FALSE) -> Club Náutico de Zaragoza | F47: HVK1_35 | G47: =VLOOKUP(C47,TºCrono!B:C,2,FALSE) -> 314187 | I47: =IF(G47="D","DESCALIF.",IF(G47="A","ABANDONO",IF(G47="N","NO PRES.",CONCATENATE(AC47,":",AD47,":",AE47)))) -> 30:56:87 | K47: =LEN(G47) -> 6 | N47: =VALUE(MID(G47,1,K47-4)) -> 31 | O47: =VALUE(MID(G47,K47-4+1,2)) -> 41 | P47: =VALUE(RIGHT(G47,2)) -> 87 | R47: =IF(O47<VLOOKUP(F47,'Horario salida'!$C$3:$E$32,3,FALSE),N47-1,N47) -> 30 | S47: =IF(O47<VLOOKUP(F47,'Horario salida'!$C$3:$E$32,3,FALSE),O47+60,O47) -> 101 | T47: =IF(P47<VLOOKUP(F47,'Horario salida'!$C$3:$F$32,4,FALSE),S47-1,S47) -> 101 | U47: =IF(P47<VLOOKUP(F47,'Horario salida'!$C$3:$F$32,4,FALSE),P47+100,P47) -> 87 | Y47: =R47-VLOOKUP(F47,'Horario salida'!$C$3:$D$34,2,FALSE) -> 30 | Z47: =T47-VLOOKUP(F47,'Horario salida'!$C$3:$E$32,3,FALSE) -> 56 | AA47: =U47-VLOOKUP(F47,'Horario salida'!$C$3:$F$32,4,FALSE) -> 87 | AC47: =TEXT(Y47,"00") -> 30 | AD47: =TEXT(Z47,"00") -> 56 | AE47: =TEXT(AA47,"00") -> 87
B48: 18 | C48: 173 | D48: =VLOOKUP(C48,'1 - Dorsales clubs'!B:C,2,FALSE) -> Unai Blanco Emazabel | E48: =VLOOKUP(D48,'1 - Dorsales clubs'!C:D,2,FALSE) -> Santiagotarrak | F48: HVK1_35 | G48: =VLOOKUP(C48,TºCrono!B:C,2,FALSE) -> 320728 | I48: =IF(G48="D","DESCALIF.",IF(G48="A","ABANDONO",IF(G48="N","NO PRES.",CONCATENATE(AC48,":",AD48,":",AE48)))) -> 31:22:28 | K48: =LEN(G48) -> 6 | N48: =VALUE(MID(G48,1,K48-4)) -> 32 | O48: =VALUE(MID(G48,K48-4+1,2)) -> 7 | P48: =VALUE(RIGHT(G48,2)) -> 28 | R48: =IF(O48<VLOOKUP(F48,'Horario salida'!$C$3:$E$32,3,FALSE),N48-1,N48) -> 31 | S48: =IF(O48<VLOOKUP(F48,'Horario salida'!$C$3:$E$32,3,FALSE),O48+60,O48) -> 67 | T48: =IF(P48<VLOOKUP(F48,'Horario salida'!$C$3:$F$32,4,FALSE),S48-1,S48) -> 67 | U48: =IF(P48<VLOOKUP(F48,'Horario salida'!$C$3:$F$32,4,FALSE),P48+100,P48) -> 28 | Y48: =R48-VLOOKUP(F48,'Horario salida'!$C$3:$D$34,2,FALSE) -> 31 | Z48: =T48-VLOOKUP(F48,'Horario salida'!$C$3:$E$32,3,FALSE) -> 22 | AA48: =U48-VLOOKUP(F48,'Horario salida'!$C$3:$F$32,4,FALSE) -> 28 | AC48: =TEXT(Y48,"00") -> 31 | AD48: =TEXT(Z48,"00") -> 22 | AE48: =TEXT(AA48,"00") -> 28
D50: CATEGORIA | E50: HOMBRE VETERANO 50 | F50: K1 | I50: =VLOOKUP(F52,DATOS!$C$5:$D$40,2,FALSE) -> 14 | J50: =COUNTIF(F52:$F$802,F52) -> 14
B51: PTOS | C51: DORSAL | D51: NOMBRE | E51: CLUB | F51: CAT. | G51: Tº CRONO | I51: Tº REAL
B52: 33 | C52: 36 | D52: =VLOOKUP(C52,'1 - Dorsales clubs'!B:C,2,FALSE) -> Jose Ignacio Sanchez Jimenez | E52: =VLOOKUP(D52,'1 - Dorsales clubs'!C:D,2,FALSE) -> Club Deportivo enhol Ebrokayak | F52: HVK1_50 | G52: =VLOOKUP(C52,TºCrono!B:C,2,FALSE) -> 233168 | I52: =IF(G52="D","DESCALIF.",IF(G52="A","ABANDONO",IF(G52="N","NO PRES.",CONCATENATE(AC52,":",AD52,":",AE52)))) -> 22:46:68 | K52: =LEN(G52) -> 6 | N52: =VALUE(MID(G52,1,K52-4)) -> 23 | O52: =VALUE(MID(G52,K52-4+1,2)) -> 31 | P52: =VALUE(RIGHT(G52,2)) -> 68 | R52: =IF(O52<VLOOKUP(F52,'Horario salida'!$C$3:$E$32,3,FALSE),N52-1,N52) -> 22 | S52: =IF(O52<VLOOKUP(F52,'Horario salida'!$C$3:$E$32,3,FALSE),O52+60,O52) -> 91 | T52: =IF(P52<VLOOKUP(F52,'Horario salida'!$C$3:$F$32,4,FALSE),S52-1,S52) -> 91 | U52: =IF(P52<VLOOKUP(F52,'Horario salida'!$C$3:$F$32,4,FALSE),P52+100,P52) -> 68 | Y52: =R52-VLOOKUP(F52,'Horario salida'!$C$3:$D$34,2,FALSE) -> 22 | Z52: =T52-VLOOKUP(F52,'Horario salida'!$C$3:$E$32,3,FALSE) -> 46 | AA52: =U52-VLOOKUP(F52,'Horario salida'!$C$3:$F$32,4,FALSE) -> 68 | AC52: =TEXT(Y52,"00") -> 22 | AD52: =TEXT(Z52,"00") -> 46 | AE52: =TEXT(AA52,"00") -> 68
B53: 29 | C53: 217 | D53: =VLOOKUP(C53,'1 - Dorsales clubs'!B:C,2,FALSE) -> MARCO A. SANTOS GARCÍA | E53: =VLOOKUP(D53,'1 - Dorsales clubs'!C:D,2,FALSE) -> CLUB D. FUENTES CARRIONAS | F53: HVK1_50 | G53: =VLOOKUP(C53,TºCrono!B:C,2,FALSE) -> 233302 | I53: =IF(G53="D","DESCALIF.",IF(G53="A","ABANDONO",IF(G53="N","NO PRES.",CONCATENATE(AC53,":",AD53,":",AE53)))) -> 22:48:02 | K53: =LEN(G53) -> 6 | N53: =VALUE(MID(G53,1,K53-4)) -> 23 | O53: =VALUE(MID(G53,K53-4+1,2)) -> 33 | P53: =VALUE(RIGHT(G53,2)) -> 2 | R53: =IF(O53<VLOOKUP(F53,'Horario salida'!$C$3:$E$32,3,FALSE),N53-1,N53) -> 22 | S53: =IF(O53<VLOOKUP(F53,'Horario salida'!$C$3:$E$32,3,FALSE),O53+60,O53) -> 93 | T53: =IF(P53<VLOOKUP(F53,'Horario salida'!$C$3:$F$32,4,FALSE),S53-1,S53) -> 93 | U53: =IF(P53<VLOOKUP(F53,'Horario salida'!$C$3:$F$32,4,FALSE),P53+100,P53) -> 2 | Y53: =R53-VLOOKUP(F53,'Horario salida'!$C$3:$D$34,2,FALSE) -> 22 | Z53: =T53-VLOOKUP(F53,'Horario salida'!$C$3:$E$32,3,FALSE) -> 48 | AA53: =U53-VLOOKUP(F53,'Horario salida'!$C$3:$F$32,4,FALSE) -> 2 | AC53: =TEXT(Y53,"00") -> 22 | AD53: =TEXT(Z53,"00") -> 48 | AE53: =TEXT(AA53,"00") -> 02
B54: 26 | C54: 198 | D54: =VLOOKUP(C54,'1 - Dorsales clubs'!B:C,2,FALSE) -> BERNARDO RODRÍGUEZ PÉREZ | E54: =VLOOKUP(D54,'1 - Dorsales clubs'!C:D,2,FALSE) -> CENTRO NATACIÓN HELIOS | F54: HVK1_50 | G54: =VLOOKUP(C54,TºCrono!B:C,2,FALSE) -> 244869 | I54: =IF(G54="D","DESCALIF.",IF(G54="A","ABANDONO",IF(G54="N","NO PRES.",CONCATENATE(AC54,":",AD54,":",AE54)))) -> 24:03:69 | K54: =LEN(G54) -> 6 | N54: =VALUE(MID(G54,1,K54-4)) -> 24 | O54: =VALUE(MID(G54,K54-4+1,2)) -> 48 | P54: =VALUE(RIGHT(G54,2)) -> 69 | R54: =IF(O54<VLOOKUP(F54,'Horario salida'!$C$3:$E$32,3,FALSE),N54-1,N54) -> 24 | S54: =IF(O54<VLOOKUP(F54,'Horario salida'!$C$3:$E$32,3,FALSE),O54+60,O54) -> 48 | T54: =IF(P54<VLOOKUP(F54,'Horario salida'!$C$3:$F$32,4,FALSE),S54-1,S54) -> 48 | U54: =IF(P54<VLOOKUP(F54,'Horario salida'!$C$3:$F$32,4,FALSE),P54+100,P54) -> 69 | Y54: =R54-VLOOKUP(F54,'Horario salida'!$C$3:$D$34,2,FALSE) -> 24 | Z54: =T54-VLOOKUP(F54,'Horario salida'!$C$3:$E$32,3,FALSE) -> 3 | AA54: =U54-VLOOKUP(F54,'Horario salida'!$C$3:$F$32,4,FALSE) -> 69 | AC54: =TEXT(Y54,"00") -> 24 | AD54: =TEXT(Z54,"00") -> 03 | AE54: =TEXT(AA54,"00") -> 69
B55: 24 | C55: 196 | D55: =VLOOKUP(C55,'1 - Dorsales clubs'!B:C,2,FALSE) -> JUAN JOSÉ SÁNCHEZ SERRANO | E55: =VLOOKUP(D55,'1 - Dorsales clubs'!C:D,2,FALSE) -> CENTRO NATACIÓN HELIOS | F55: HVK1_50 | G55: =VLOOKUP(C55,TºCrono!B:C,2,FALSE) -> 244966 | I55: =IF(G55="D","DESCALIF.",IF(G55="A","ABANDONO",IF(G55="N","NO PRES.",CONCATENATE(AC55,":",AD55,":",AE55)))) -> 24:04:66 | K55: =LEN(G55) -> 6 | N55: =VALUE(MID(G55,1,K55-4)) -> 24 | O55: =VALUE(MID(G55,K55-4+1,2)) -> 49 | P55: =VALUE(RIGHT(G55,2)) -> 66 | R55: =IF(O55<VLOOKUP(F55,'Horario salida'!$C$3:$E$32,3,FALSE),N55-1,N55) -> 24 | S55: =IF(O55<VLOOKUP(F55,'Horario salida'!$C$3:$E$32,3,FALSE),O55+60,O55) -> 49 | T55: =IF(P55<VLOOKUP(F55,'Horario salida'!$C$3:$F$32,4,FALSE),S55-1,S55) -> 49 | U55: =IF(P55<VLOOKUP(F55,'Horario salida'!$C$3:$F$32,4,FALSE),P55+100,P55) -> 66 | Y55: =R55-VLOOKUP(F55,'Horario salida'!$C$3:$D$34,2,FALSE) -> 24 | Z55: =T55-VLOOKUP(F55,'Horario salida'!$C$3:$E$32,3,FALSE) -> 4 | AA55: =U55-VLOOKUP(F55,'Horario salida'!$C$3:$F$32,4,FALSE) -> 66 | AC55: =TEXT(Y55,"00") -> 24 | AD55: =TEXT(Z55,"00") -> 04 | AE55: =TEXT(AA55,"00") -> 66
B56: 23 | C56: 259 | D56: =VLOOKUP(C56,'1 - Dorsales clubs'!B:C,2,FALSE) -> RAFA OCERIN BERAZA | E56: =VLOOKUP(D56,'1 - Dorsales clubs'!C:D,2,FALSE) -> PLENTZIA PIRAGUISMO TALDEA | F56: HVK1_50 | G56: =VLOOKUP(C56,TºCrono!B:C,2,FALSE) -> 272868 | I56: =IF(G56="D","DESCALIF.",IF(G56="A","ABANDONO",IF(G56="N","NO PRES.",CONCATENATE(AC56,":",AD56,":",AE56)))) -> 26:43:68 | K56: =LEN(G56) -> 6 | N56: =VALUE(MID(G56,1,K56-4)) -> 27 | O56: =VALUE(MID(G56,K56-4+1,2)) -> 28 | P56: =VALUE(RIGHT(G56,2)) -> 68 | R56: =IF(O56<VLOOKUP(F56,'Horario salida'!$C$3:$E$32,3,FALSE),N56-1,N56) -> 26 | S56: =IF(O56<VLOOKUP(F56,'Horario salida'!$C$3:$E$32,3,FALSE),O56+60,O56) -> 88 | T56: =IF(P56<VLOOKUP(F56,'Horario salida'!$C$3:$F$32,4,FALSE),S56-1,S56) -> 88 | U56: =IF(P56<VLOOKUP(F56,'Horario salida'!$C$3:$F$32,4,FALSE),P56+100,P56) -> 68 | Y56: =R56-VLOOKUP(F56,'Horario salida'!$C$3:$D$34,2,FALSE) -> 26 | Z56: =T56-VLOOKUP(F56,'Horario salida'!$C$3:$E$32,3,FALSE) -> 43 | AA56: =U56-VLOOKUP(F56,'Horario salida'!$C$3:$F$32,4,FALSE) -> 68 | AC56: =TEXT(Y56,"00") -> 26 | AD56: =TEXT(Z56,"00") -> 43 | AE56: =TEXT(AA56,"00") -> 68
B57: 22 | C57: 195 | D57: =VLOOKUP(C57,'1 - Dorsales clubs'!B:C,2,FALSE) -> FRANCISCO JAVIER RUIZ ROMEO | E57: =VLOOKUP(D57,'1 - Dorsales clubs'!C:D,2,FALSE) -> CENTRO NATACIÓN HELIOS | F57: HVK1_50 | G57: =VLOOKUP(C57,TºCrono!B:C,2,FALSE) -> 283174 | I57: =IF(G57="D","DESCALIF.",IF(G57="A","ABANDONO",IF(G57="N","NO PRES.",CONCATENATE(AC57,":",AD57,":",AE57)))) -> 27:46:74 | K57: =LEN(G57) -> 6 | N57: =VALUE(MID(G57,1,K57-4)) -> 28 | O57: =VALUE(MID(G57,K57-4+1,2)) -> 31 | P57: =VALUE(RIGHT(G57,2)) -> 74 | R57: =IF(O57<VLOOKUP(F57,'Horario salida'!$C$3:$E$32,3,FALSE),N57-1,N57) -> 27 | S57: =IF(O57<VLOOKUP(F57,'Horario salida'!$C$3:$E$32,3,FALSE),O57+60,O57) -> 91 | T57: =IF(P57<VLOOKUP(F57,'Horario salida'!$C$3:$F$32,4,FALSE),S57-1,S57) -> 91 | U57: =IF(P57<VLOOKUP(F57,'Horario salida'!$C$3:$F$32,4,FALSE),P57+100,P57) -> 74 | Y57: =R57-VLOOKUP(F57,'Horario salida'!$C$3:$D$34,2,FALSE) -> 27 | Z57: =T57-VLOOKUP(F57,'Horario salida'!$C$3:$E$32,3,FALSE) -> 46 | AA57: =U57-VLOOKUP(F57,'Horario salida'!$C$3:$F$32,4,FALSE) -> 74 | AC57: =TEXT(Y57,"00") -> 27 | AD57: =TEXT(Z57,"00") -> 46 | AE57: =TEXT(AA57,"00") -> 74
B58: 21 | C58: 186 | D58: =VLOOKUP(C58,'1 - Dorsales clubs'!B:C,2,FALSE) -> DANIEL HERNÁNDEZ BURRIEL | E58: =VLOOKUP(D58,'1 - Dorsales clubs'!C:D,2,FALSE) -> CENTRO NATACIÓN HELIOS | F58: HVK1_50 | G58: =VLOOKUP(C58,TºCrono!B:C,2,FALSE) -> 290629 | I58: =IF(G58="D","DESCALIF.",IF(G58="A","ABANDONO",IF(G58="N","NO PRES.",CONCATENATE(AC58,":",AD58,":",AE58)))) -> 28:21:29 | K58: =LEN(G58) -> 6 | N58: =VALUE(MID(G58,1,K58-4)) -> 29 | O58: =VALUE(MID(G58,K58-4+1,2)) -> 6 | P58: =VALUE(RIGHT(G58,2)) -> 29 | R58: =IF(O58<VLOOKUP(F58,'Horario salida'!$C$3:$E$32,3,FALSE),N58-1,N58) -> 28 | S58: =IF(O58<VLOOKUP(F58,'Horario salida'!$C$3:$E$32,3,FALSE),O58+60,O58) -> 66 | T58: =IF(P58<VLOOKUP(F58,'Horario salida'!$C$3:$F$32,4,FALSE),S58-1,S58) -> 66 | U58: =IF(P58<VLOOKUP(F58,'Horario salida'!$C$3:$F$32,4,FALSE),P58+100,P58) -> 29 | Y58: =R58-VLOOKUP(F58,'Horario salida'!$C$3:$D$34,2,FALSE) -> 28 | Z58: =T58-VLOOKUP(F58,'Horario salida'!$C$3:$E$32,3,FALSE) -> 21 | AA58: =U58-VLOOKUP(F58,'Horario salida'!$C$3:$F$32,4,FALSE) -> 29 | AC58: =TEXT(Y58,"00") -> 28 | AD58: =TEXT(Z58,"00") -> 21 | AE58: =TEXT(AA58,"00") -> 29
B59: 20 | C59: 265 | D59: =VLOOKUP(C59,'1 - Dorsales clubs'!B:C,2,FALSE) -> JOSE LUIS GIL RENEDO | E59: =VLOOKUP(D59,'1 - Dorsales clubs'!C:D,2,FALSE) -> CLUB PIRAGÜISMO TUDELA DE DUERO | F59: HVK1_50 | G59: =VLOOKUP(C59,TºCrono!B:C,2,FALSE) -> 292115 | I59: =IF(G59="D","DESCALIF.",IF(G59="A","ABANDONO",IF(G59="N","NO PRES.",CONCATENATE(AC59,":",AD59,":",AE59)))) -> 28:36:15 | K59: =LEN(G59) -> 6 | N59: =VALUE(MID(G59,1,K59-4)) -> 29 | O59: =VALUE(MID(G59,K59-4+1,2)) -> 21 | P59: =VALUE(RIGHT(G59,2)) -> 15 | R59: =IF(O59<VLOOKUP(F59,'Horario salida'!$C$3:$E$32,3,FALSE),N59-1,N59) -> 28 | S59: =IF(O59<VLOOKUP(F59,'Horario salida'!$C$3:$E$32,3,FALSE),O59+60,O59) -> 81 | T59: =IF(P59<VLOOKUP(F59,'Horario salida'!$C$3:$F$32,4,FALSE),S59-1,S59) -> 81 | U59: =IF(P59<VLOOKUP(F59,'Horario salida'!$C$3:$F$32,4,FALSE),P59+100,P59) -> 15 | Y59: =R59-VLOOKUP(F59,'Horario salida'!$C$3:$D$34,2,FALSE) -> 28 | Z59: =T59-VLOOKUP(F59,'Horario salida'!$C$3:$E$32,3,FALSE) -> 36 | AA59: =U59-VLOOKUP(F59,'Horario salida'!$C$3:$F$32,4,FALSE) -> 15 | AC59: =TEXT(Y59,"00") -> 28 | AD59: =TEXT(Z59,"00") -> 36 | AE59: =TEXT(AA59,"00") -> 15
B60: 19 | C60: 176 | D60: =VLOOKUP(C60,'1 - Dorsales clubs'!B:C,2,FALSE) -> IGNACIO BELTRAN DIESTRE | E60: =VLOOKUP(D60,'1 - Dorsales clubs'!C:D,2,FALSE) -> CENTRO NATACIÓN HELIOS | F60: HVK1_50 | G60: =VLOOKUP(C60,TºCrono!B:C,2,FALSE) -> 292188 | I60: =IF(G60="D","DESCALIF.",IF(G60="A","ABANDONO",IF(G60="N","NO PRES.",CONCATENATE(AC60,":",AD60,":",AE60)))) -> 28:36:88 | K60: =LEN(G60) -> 6 | N60: =VALUE(MID(G60,1,K60-4)) -> 29 | O60: =VALUE(MID(G60,K60-4+1,2)) -> 21 | P60: =VALUE(RIGHT(G60,2)) -> 88 | R60: =IF(O60<VLOOKUP(F60,'Horario salida'!$C$3:$E$32,3,FALSE),N60-1,N60) -> 28 | S60: =IF(O60<VLOOKUP(F60,'Horario salida'!$C$3:$E$32,3,FALSE),O60+60,O60) -> 81 | T60: =IF(P60<VLOOKUP(F60,'Horario salida'!$C$3:$F$32,4,FALSE),S60-1,S60) -> 81 | U60: =IF(P60<VLOOKUP(F60,'Horario salida'!$C$3:$F$32,4,FALSE),P60+100,P60) -> 88 | Y60: =R60-VLOOKUP(F60,'Horario salida'!$C$3:$D$34,2,FALSE) -> 28 | Z60: =T60-VLOOKUP(F60,'Horario salida'!$C$3:$E$32,3,FALSE) -> 36 | AA60: =U60-VLOOKUP(F60,'Horario salida'!$C$3:$F$32,4,FALSE) -> 88 | AC60: =TEXT(Y60,"00") -> 28 | AD60: =TEXT(Z60,"00") -> 36 | AE60: =TEXT(AA60,"00") -> 88
B61: 18 | C61: 35 | D61: =VLOOKUP(C61,'1 - Dorsales clubs'!B:C,2,FALSE) -> Alex Sanmartin Maull | E61: =VLOOKUP(D61,'1 - Dorsales clubs'!C:D,2,FALSE) -> Club Deportivo enhol Ebrokayak | F61: HVK1_50 | G61: =VLOOKUP(C61,TºCrono!B:C,2,FALSE) -> 305644 | I61: =IF(G61="D","DESCALIF.",IF(G61="A","ABANDONO",IF(G61="N","NO PRES.",CONCATENATE(AC61,":",AD61,":",AE61)))) -> 30:11:44 | K61: =LEN(G61) -> 6 | N61: =VALUE(MID(G61,1,K61-4)) -> 30 | O61: =VALUE(MID(G61,K61-4+1,2)) -> 56 | P61: =VALUE(RIGHT(G61,2)) -> 44 | R61: =IF(O61<VLOOKUP(F61,'Horario salida'!$C$3:$E$32,3,FALSE),N61-1,N61) -> 30 | S61: =IF(O61<VLOOKUP(F61,'Horario salida'!$C$3:$E$32,3,FALSE),O61+60,O61) -> 56 | T61: =IF(P61<VLOOKUP(F61,'Horario salida'!$C$3:$F$32,4,FALSE),S61-1,S61) -> 56 | U61: =IF(P61<VLOOKUP(F61,'Horario salida'!$C$3:$F$32,4,FALSE),P61+100,P61) -> 44 | Y61: =R61-VLOOKUP(F61,'Horario salida'!$C$3:$D$34,2,FALSE) -> 30 | Z61: =T61-VLOOKUP(F61,'Horario salida'!$C$3:$E$32,3,FALSE) -> 11 | AA61: =U61-VLOOKUP(F61,'Horario salida'!$C$3:$F$32,4,FALSE) -> 44 | AC61: =TEXT(Y61,"00") -> 30 | AD61: =TEXT(Z61,"00") -> 11 | AE61: =TEXT(AA61,"00") -> 44
B62: 17 | C62: 109 | D62: =VLOOKUP(C62,'1 - Dorsales clubs'!B:C,2,FALSE) -> JAVIER VELASCO DEL VALLE | E62: =VLOOKUP(D62,'1 - Dorsales clubs'!C:D,2,FALSE) -> CLUB PIRAGÜISMO ANTARES | F62: HVK1_50 | G62: =VLOOKUP(C62,TºCrono!B:C,2,FALSE) -> 343568 | I62: =IF(G62="D","DESCALIF.",IF(G62="A","ABANDONO",IF(G62="N","NO PRES.",CONCATENATE(AC62,":",AD62,":",AE62)))) -> 33:50:68 | K62: =LEN(G62) -> 6 | N62: =VALUE(MID(G62,1,K62-4)) -> 34 | O62: =VALUE(MID(G62,K62-4+1,2)) -> 35 | P62: =VALUE(RIGHT(G62,2)) -> 68 | R62: =IF(O62<VLOOKUP(F62,'Horario salida'!$C$3:$E$32,3,FALSE),N62-1,N62) -> 33 | S62: =IF(O62<VLOOKUP(F62,'Horario salida'!$C$3:$E$32,3,FALSE),O62+60,O62) -> 95 | T62: =IF(P62<VLOOKUP(F62,'Horario salida'!$C$3:$F$32,4,FALSE),S62-1,S62) -> 95 | U62: =IF(P62<VLOOKUP(F62,'Horario salida'!$C$3:$F$32,4,FALSE),P62+100,P62) -> 68 | Y62: =R62-VLOOKUP(F62,'Horario salida'!$C$3:$D$34,2,FALSE) -> 33 | Z62: =T62-VLOOKUP(F62,'Horario salida'!$C$3:$E$32,3,FALSE) -> 50 | AA62: =U62-VLOOKUP(F62,'Horario salida'!$C$3:$F$32,4,FALSE) -> 68 | AC62: =TEXT(Y62,"00") -> 33 | AD62: =TEXT(Z62,"00") -> 50 | AE62: =TEXT(AA62,"00") -> 68
D63: =VLOOKUP(C63,'1 - Dorsales clubs'!B:C,2,FALSE) -> #N/A | E63: =VLOOKUP(D63,'1 - Dorsales clubs'!C:D,2,FALSE) -> #N/A | F63: HVK1_50 | G63: =VLOOKUP(C63,TºCrono!B:C,2,FALSE) -> #N/A | I63: =IF(G63="D","DESCALIF.",IF(G63="A","ABANDONO",IF(G63="N","NO PRES.",CONCATENATE(AC63,":",AD63,":",AE63)))) -> #N/A | K63: =LEN(G63) -> #N/A | N63: =VALUE(MID(G63,1,K63-4)) -> #N/A | O63: =VALUE(MID(G63,K63-4+1,2)) -> #N/A | P63: =VALUE(RIGHT(G63,2)) -> #N/A | R63: =IF(O63<VLOOKUP(F63,'Horario salida'!$C$3:$E$32,3,FALSE),N63-1,N63) -> #N/A | S63: =IF(O63<VLOOKUP(F63,'Horario salida'!$C$3:$E$32,3,FALSE),O63+60,O63) -> #N/A | T63: =IF(P63<VLOOKUP(F63,'Horario salida'!$C$3:$F$32,4,FALSE),S63-1,S63) -> #N/A | U63: =IF(P63<VLOOKUP(F63,'Horario salida'!$C$3:$F$32,4,FALSE),P63+100,P63) -> #N/A | Y63: =R63-VLOOKUP(F63,'Horario salida'!$C$3:$D$34,2,FALSE) -> #N/A | Z63: =T63-VLOOKUP(F63,'Horario salida'!$C$3:$E$32,3,FALSE) -> #N/A | AA63: =U63-VLOOKUP(F63,'Horario salida'!$C$3:$F$32,4,FALSE) -> #N/A | AC63: =TEXT(Y63,"00") -> #N/A | AD63: =TEXT(Z63,"00") -> #N/A | AE63: =TEXT(AA63,"00") -> #N/A
D64: =VLOOKUP(C64,'1 - Dorsales clubs'!B:C,2,FALSE) -> #N/A | E64: =VLOOKUP(D64,'1 - Dorsales clubs'!C:D,2,FALSE) -> #N/A | F64: HVK1_50 | G64: =VLOOKUP(C64,TºCrono!B:C,2,FALSE) -> #N/A | I64: =IF(G64="D","DESCALIF.",IF(G64="A","ABANDONO",IF(G64="N","NO PRES.",CONCATENATE(AC64,":",AD64,":",AE64)))) -> #N/A | K64: =LEN(G64) -> #N/A | N64: =VALUE(MID(G64,1,K64-4)) -> #N/A | O64: =VALUE(MID(G64,K64-4+1,2)) -> #N/A | P64: =VALUE(RIGHT(G64,2)) -> #N/A | R64: =IF(O64<VLOOKUP(F64,'Horario salida'!$C$3:$E$32,3,FALSE),N64-1,N64) -> #N/A | S64: =IF(O64<VLOOKUP(F64,'Horario salida'!$C$3:$E$32,3,FALSE),O64+60,O64) -> #N/A | T64: =IF(P64<VLOOKUP(F64,'Horario salida'!$C$3:$F$32,4,FALSE),S64-1,S64) -> #N/A | U64: =IF(P64<VLOOKUP(F64,'Horario salida'!$C$3:$F$32,4,FALSE),P64+100,P64) -> #N/A | Y64: =R64-VLOOKUP(F64,'Horario salida'!$C$3:$D$34,2,FALSE) -> #N/A | Z64: =T64-VLOOKUP(F64,'Horario salida'!$C$3:$E$32,3,FALSE) -> #N/A | AA64: =U64-VLOOKUP(F64,'Horario salida'!$C$3:$F$32,4,FALSE) -> #N/A | AC64: =TEXT(Y64,"00") -> #N/A | AD64: =TEXT(Z64,"00") -> #N/A | AE64: =TEXT(AA64,"00") -> #N/A
D65: =VLOOKUP(C65,'1 - Dorsales clubs'!B:C,2,FALSE) -> #N/A | E65: =VLOOKUP(D65,'1 - Dorsales clubs'!C:D,2,FALSE) -> #N/A | F65: HVK1_50 | G65: =VLOOKUP(C65,TºCrono!B:C,2,FALSE) -> #N/A | I65: =IF(G65="D","DESCALIF.",IF(G65="A","ABANDONO",IF(G65="N","NO PRES.",CONCATENATE(AC65,":",AD65,":",AE65)))) -> #N/A | K65: =LEN(G65) -> #N/A | N65: =VALUE(MID(G65,1,K65-4)) -> #N/A | O65: =VALUE(MID(G65,K65-4+1,2)) -> #N/A | P65: =VALUE(RIGHT(G65,2)) -> #N/A | R65: =IF(O65<VLOOKUP(F65,'Horario salida'!$C$3:$E$32,3,FALSE),N65-1,N65) -> #N/A | S65: =IF(O65<VLOOKUP(F65,'Horario salida'!$C$3:$E$32,3,FALSE),O65+60,O65) -> #N/A | T65: =IF(P65<VLOOKUP(F65,'Horario salida'!$C$3:$F$32,4,FALSE),S65-1,S65) -> #N/A | U65: =IF(P65<VLOOKUP(F65,'Horario salida'!$C$3:$F$32,4,FALSE),P65+100,P65) -> #N/A | Y65: =R65-VLOOKUP(F65,'Horario salida'!$C$3:$D$34,2,FALSE) -> #N/A | Z65: =T65-VLOOKUP(F65,'Horario salida'!$C$3:$E$32,3,FALSE) -> #N/A | AA65: =U65-VLOOKUP(F65,'Horario salida'!$C$3:$F$32,4,FALSE) -> #N/A | AC65: =TEXT(Y65,"00") -> #N/A | AD65: =TEXT(Z65,"00") -> #N/A | AE65: =TEXT(AA65,"00") -> #N/A
D67: CATEGORIA | E67: HOMBRE VETERANO 60 | F67: K1 | I67: =VLOOKUP(F69,DATOS!$C$5:$D$40,2,FALSE) -> 9 | J67: =COUNTIF(F69:$F$802,F69) -> 9
B68: PTOS | C68: DORSAL | D68: NOMBRE | E68: CLUB | F68: CAT. | G68: Tº CRONO | I68: Tº REAL
B69: 33 | C69: 105 | D69: =VLOOKUP(C69,'1 - Dorsales clubs'!B:C,2,FALSE) -> CARLOS LARREA SEGURAJAUREGI | E69: =VLOOKUP(D69,'1 - Dorsales clubs'!C:D,2,FALSE) -> CLUB PIRAGÜISMO ANTARES | F69: HVK1_60 | G69: =VLOOKUP(C69,TºCrono!B:C,2,FALSE) -> 245016 | I69: =IF(G69="D","DESCALIF.",IF(G69="A","ABANDONO",IF(G69="N","NO PRES.",CONCATENATE(AC69,":",AD69,":",AE69)))) -> 24:05:16 | K69: =LEN(G69) -> 6 | N69: =VALUE(MID(G69,1,K69-4)) -> 24 | O69: =VALUE(MID(G69,K69-4+1,2)) -> 50 | P69: =VALUE(RIGHT(G69,2)) -> 16 | R69: =IF(O69<VLOOKUP(F69,'Horario salida'!$C$3:$E$32,3,FALSE),N69-1,N69) -> 24 | S69: =IF(O69<VLOOKUP(F69,'Horario salida'!$C$3:$E$32,3,FALSE),O69+60,O69) -> 50 | T69: =IF(P69<VLOOKUP(F69,'Horario salida'!$C$3:$F$32,4,FALSE),S69-1,S69) -> 50 | U69: =IF(P69<VLOOKUP(F69,'Horario salida'!$C$3:$F$32,4,FALSE),P69+100,P69) -> 16 | Y69: =R69-VLOOKUP(F69,'Horario salida'!$C$3:$D$34,2,FALSE) -> 24 | Z69: =T69-VLOOKUP(F69,'Horario salida'!$C$3:$E$32,3,FALSE) -> 5 | AA69: =U69-VLOOKUP(F69,'Horario salida'!$C$3:$F$32,4,FALSE) -> 16 | AC69: =TEXT(Y69,"00") -> 24 | AD69: =TEXT(Z69,"00") -> 05 | AE69: =TEXT(AA69,"00") -> 16
B70: 29 | C70: 256 | D70: =VLOOKUP(C70,'1 - Dorsales clubs'!B:C,2,FALSE) -> Gabriel Malón Garralda | E70: =VLOOKUP(D70,'1 - Dorsales clubs'!C:D,2,FALSE) -> Club Natación Pamplona | F70: HVK1_60 | G70: =VLOOKUP(C70,TºCrono!B:C,2,FALSE) -> 260209 | I70: =IF(G70="D","DESCALIF.",IF(G70="A","ABANDONO",IF(G70="N","NO PRES.",CONCATENATE(AC70,":",AD70,":",AE70)))) -> 25:17:09 | K70: =LEN(G70) -> 6 | N70: =VALUE(MID(G70,1,K70-4)) -> 26 | O70: =VALUE(MID(G70,K70-4+1,2)) -> 2 | P70: =VALUE(RIGHT(G70,2)) -> 9 | R70: =IF(O70<VLOOKUP(F70,'Horario salida'!$C$3:$E$32,3,FALSE),N70-1,N70) -> 25 | S70: =IF(O70<VLOOKUP(F70,'Horario salida'!$C$3:$E$32,3,FALSE),O70+60,O70) -> 62 | T70: =IF(P70<VLOOKUP(F70,'Horario salida'!$C$3:$F$32,4,FALSE),S70-1,S70) -> 62 | U70: =IF(P70<VLOOKUP(F70,'Horario salida'!$C$3:$F$32,4,FALSE),P70+100,P70) -> 9 | Y70: =R70-VLOOKUP(F70,'Horario salida'!$C$3:$D$34,2,FALSE) -> 25 | Z70: =T70-VLOOKUP(F70,'Horario salida'!$C$3:$E$32,3,FALSE) -> 17 | AA70: =U70-VLOOKUP(F70,'Horario salida'!$C$3:$F$32,4,FALSE) -> 9 | AC70: =TEXT(Y70,"00") -> 25 | AD70: =TEXT(Z70,"00") -> 17 | AE70: =TEXT(AA70,"00") -> 09
B71: 26 | C71: 222 | D71: =VLOOKUP(C71,'1 - Dorsales clubs'!B:C,2,FALSE) -> Jose Maria Esteban Celorrio | E71: =VLOOKUP(D71,'1 - Dorsales clubs'!C:D,2,FALSE) -> Club Náutico de Zaragoza | F71: HVK1_60 | G71: =VLOOKUP(C71,TºCrono!B:C,2,FALSE) -> 265215 | I71: =IF(G71="D","DESCALIF.",IF(G71="A","ABANDONO",IF(G71="N","NO PRES.",CONCATENATE(AC71,":",AD71,":",AE71)))) -> 26:07:15 | K71: =LEN(G71) -> 6 | N71: =VALUE(MID(G71,1,K71-4)) -> 26 | O71: =VALUE(MID(G71,K71-4+1,2)) -> 52 | P71: =VALUE(RIGHT(G71,2)) -> 15 | R71: =IF(O71<VLOOKUP(F71,'Horario salida'!$C$3:$E$32,3,FALSE),N71-1,N71) -> 26 | S71: =IF(O71<VLOOKUP(F71,'Horario salida'!$C$3:$E$32,3,FALSE),O71+60,O71) -> 52 | T71: =IF(P71<VLOOKUP(F71,'Horario salida'!$C$3:$F$32,4,FALSE),S71-1,S71) -> 52 | U71: =IF(P71<VLOOKUP(F71,'Horario salida'!$C$3:$F$32,4,FALSE),P71+100,P71) -> 15 | Y71: =R71-VLOOKUP(F71,'Horario salida'!$C$3:$D$34,2,FALSE) -> 26 | Z71: =T71-VLOOKUP(F71,'Horario salida'!$C$3:$E$32,3,FALSE) -> 7 | AA71: =U71-VLOOKUP(F71,'Horario salida'!$C$3:$F$32,4,FALSE) -> 15 | AC71: =TEXT(Y71,"00") -> 26 | AD71: =TEXT(Z71,"00") -> 07 | AE71: =TEXT(AA71,"00") -> 15
B72: 24 | C72: 243 | D72: =VLOOKUP(C72,'1 - Dorsales clubs'!B:C,2,FALSE) -> PASCUAL LOPEZ | E72: =VLOOKUP(D72,'1 - Dorsales clubs'!C:D,2,FALSE) -> CD MONKAYAK HIBERUS | F72: HVK1_60 | G72: =VLOOKUP(C72,TºCrono!B:C,2,FALSE) -> 294905 | I72: =IF(G72="D","DESCALIF.",IF(G72="A","ABANDONO",IF(G72="N","NO PRES.",CONCATENATE(AC72,":",AD72,":",AE72)))) -> 29:04:05 | K72: =LEN(G72) -> 6 | N72: =VALUE(MID(G72,1,K72-4)) -> 29 | O72: =VALUE(MID(G72,K72-4+1,2)) -> 49 | P72: =VALUE(RIGHT(G72,2)) -> 5 | R72: =IF(O72<VLOOKUP(F72,'Horario salida'!$C$3:$E$32,3,FALSE),N72-1,N72) -> 29 | S72: =IF(O72<VLOOKUP(F72,'Horario salida'!$C$3:$E$32,3,FALSE),O72+60,O72) -> 49 | T72: =IF(P72<VLOOKUP(F72,'Horario salida'!$C$3:$F$32,4,FALSE),S72-1,S72) -> 49 | U72: =IF(P72<VLOOKUP(F72,'Horario salida'!$C$3:$F$32,4,FALSE),P72+100,P72) -> 5 | Y72: =R72-VLOOKUP(F72,'Horario salida'!$C$3:$D$34,2,FALSE) -> 29 | Z72: =T72-VLOOKUP(F72,'Horario salida'!$C$3:$E$32,3,FALSE) -> 4 | AA72: =U72-VLOOKUP(F72,'Horario salida'!$C$3:$F$32,4,FALSE) -> 5 | AC72: =TEXT(Y72,"00") -> 29 | AD72: =TEXT(Z72,"00") -> 04 | AE72: =TEXT(AA72,"00") -> 05
B73: 23 | C73: 124 | D73: =VLOOKUP(C73,'1 - Dorsales clubs'!B:C,2,FALSE) -> Juan Carlos Larrea | E73: =VLOOKUP(D73,'1 - Dorsales clubs'!C:D,2,FALSE) -> CLUB PIRAGUISMO GETXO-GETXO KAYAK | F73: HVK1_60 | G73: =VLOOKUP(C73,TºCrono!B:C,2,FALSE) -> 333707 | I73: =IF(G73="D","DESCALIF.",IF(G73="A","ABANDONO",IF(G73="N","NO PRES.",CONCATENATE(AC73,":",AD73,":",AE73)))) -> 32:52:07 | K73: =LEN(G73) -> 6 | N73: =VALUE(MID(G73,1,K73-4)) -> 33 | O73: =VALUE(MID(G73,K73-4+1,2)) -> 37 | P73: =VALUE(RIGHT(G73,2)) -> 7 | R73: =IF(O73<VLOOKUP(F73,'Horario salida'!$C$3:$E$32,3,FALSE),N73-1,N73) -> 32 | S73: =IF(O73<VLOOKUP(F73,'Horario salida'!$C$3:$E$32,3,FALSE),O73+60,O73) -> 97 | T73: =IF(P73<VLOOKUP(F73,'Horario salida'!$C$3:$F$32,4,FALSE),S73-1,S73) -> 97 | U73: =IF(P73<VLOOKUP(F73,'Horario salida'!$C$3:$F$32,4,FALSE),P73+100,P73) -> 7 | Y73: =R73-VLOOKUP(F73,'Horario salida'!$C$3:$D$34,2,FALSE) -> 32 | Z73: =T73-VLOOKUP(F73,'Horario salida'!$C$3:$E$32,3,FALSE) -> 52 | AA73: =U73-VLOOKUP(F73,'Horario salida'!$C$3:$F$32,4,FALSE) -> 7 | AC73: =TEXT(Y73,"00") -> 32 | AD73: =TEXT(Z73,"00") -> 52 | AE73: =TEXT(AA73,"00") -> 07
B74: 22 | C74: 38 | D74: =VLOOKUP(C74,'1 - Dorsales clubs'!B:C,2,FALSE) -> Jose Luis Casamian Saso | E74: =VLOOKUP(D74,'1 - Dorsales clubs'!C:D,2,FALSE) -> Club Deportivo enhol Ebrokayak | F74: HVK1_60 | G74: =VLOOKUP(C74,TºCrono!B:C,2,FALSE) -> 343341 | I74: =IF(G74="D","DESCALIF.",IF(G74="A","ABANDONO",IF(G74="N","NO PRES.",CONCATENATE(AC74,":",AD74,":",AE74)))) -> 33:48:41 | K74: =LEN(G74) -> 6 | N74: =VALUE(MID(G74,1,K74-4)) -> 34 | O74: =VALUE(MID(G74,K74-4+1,2)) -> 33 | P74: =VALUE(RIGHT(G74,2)) -> 41 | R74: =IF(O74<VLOOKUP(F74,'Horario salida'!$C$3:$E$32,3,FALSE),N74-1,N74) -> 33 | S74: =IF(O74<VLOOKUP(F74,'Horario salida'!$C$3:$E$32,3,FALSE),O74+60,O74) -> 93 | T74: =IF(P74<VLOOKUP(F74,'Horario salida'!$C$3:$F$32,4,FALSE),S74-1,S74) -> 93 | U74: =IF(P74<VLOOKUP(F74,'Horario salida'!$C$3:$F$32,4,FALSE),P74+100,P74) -> 41 | Y74: =R74-VLOOKUP(F74,'Horario salida'!$C$3:$D$34,2,FALSE) -> 33 | Z74: =T74-VLOOKUP(F74,'Horario salida'!$C$3:$E$32,3,FALSE) -> 48 | AA74: =U74-VLOOKUP(F74,'Horario salida'!$C$3:$F$32,4,FALSE) -> 41 | AC74: =TEXT(Y74,"00") -> 33 | AD74: =TEXT(Z74,"00") -> 48 | AE74: =TEXT(AA74,"00") -> 41
B75: 21 | C75: 223 | D75: =VLOOKUP(C75,'1 - Dorsales clubs'!B:C,2,FALSE) -> Fernando Aznar infante | E75: =VLOOKUP(D75,'1 - Dorsales clubs'!C:D,2,FALSE) -> Club Náutico de Zaragoza | F75: HVK1_60 | G75: =VLOOKUP(C75,TºCrono!B:C,2,FALSE) -> 352939 | I75: =IF(G75="D","DESCALIF.",IF(G75="A","ABANDONO",IF(G75="N","NO PRES.",CONCATENATE(AC75,":",AD75,":",AE75)))) -> 34:44:39 | K75: =LEN(G75) -> 6 | N75: =VALUE(MID(G75,1,K75-4)) -> 35 | O75: =VALUE(MID(G75,K75-4+1,2)) -> 29 | P75: =VALUE(RIGHT(G75,2)) -> 39 | R75: =IF(O75<VLOOKUP(F75,'Horario salida'!$C$3:$E$32,3,FALSE),N75-1,N75) -> 34 | S75: =IF(O75<VLOOKUP(F75,'Horario salida'!$C$3:$E$32,3,FALSE),O75+60,O75) -> 89 | T75: =IF(P75<VLOOKUP(F75,'Horario salida'!$C$3:$F$32,4,FALSE),S75-1,S75) -> 89 | U75: =IF(P75<VLOOKUP(F75,'Horario salida'!$C$3:$F$32,4,FALSE),P75+100,P75) -> 39 | Y75: =R75-VLOOKUP(F75,'Horario salida'!$C$3:$D$34,2,FALSE) -> 34 | Z75: =T75-VLOOKUP(F75,'Horario salida'!$C$3:$E$32,3,FALSE) -> 44 | AA75: =U75-VLOOKUP(F75,'Horario salida'!$C$3:$F$32,4,FALSE) -> 39 | AC75: =TEXT(Y75,"00") -> 34 | AD75: =TEXT(Z75,"00") -> 44 | AE75: =TEXT(AA75,"00") -> 39
B76: 20 | C76: 2 | D76: =VLOOKUP(C76,'1 - Dorsales clubs'!B:C,2,FALSE) -> Jose Maria Hollos Llorente | E76: =VLOOKUP(D76,'1 - Dorsales clubs'!C:D,2,FALSE) -> Mansilla | F76: HVK1_60 | G76: =VLOOKUP(C76,TºCrono!B:C,2,FALSE) -> 360361 | I76: =IF(G76="D","DESCALIF.",IF(G76="A","ABANDONO",IF(G76="N","NO PRES.",CONCATENATE(AC76,":",AD76,":",AE76)))) -> 35:18:61 | K76: =LEN(G76) -> 6 | N76: =VALUE(MID(G76,1,K76-4)) -> 36 | O76: =VALUE(MID(G76,K76-4+1,2)) -> 3 | P76: =VALUE(RIGHT(G76,2)) -> 61 | R76: =IF(O76<VLOOKUP(F76,'Horario salida'!$C$3:$E$32,3,FALSE),N76-1,N76) -> 35 | S76: =IF(O76<VLOOKUP(F76,'Horario salida'!$C$3:$E$32,3,FALSE),O76+60,O76) -> 63 | T76: =IF(P76<VLOOKUP(F76,'Horario salida'!$C$3:$F$32,4,FALSE),S76-1,S76) -> 63 | U76: =IF(P76<VLOOKUP(F76,'Horario salida'!$C$3:$F$32,4,FALSE),P76+100,P76) -> 61 | Y76: =R76-VLOOKUP(F76,'Horario salida'!$C$3:$D$34,2,FALSE) -> 35 | Z76: =T76-VLOOKUP(F76,'Horario salida'!$C$3:$E$32,3,FALSE) -> 18 | AA76: =U76-VLOOKUP(F76,'Horario salida'!$C$3:$F$32,4,FALSE) -> 61 | AC76: =TEXT(Y76,"00") -> 35 | AD76: =TEXT(Z76,"00") -> 18 | AE76: =TEXT(AA76,"00") -> 61
B77: 19 | C77: 220 | D77: =VLOOKUP(C77,'1 - Dorsales clubs'!B:C,2,FALSE) -> Ignacio José Ruiz Iribarne | E77: =VLOOKUP(D77,'1 - Dorsales clubs'!C:D,2,FALSE) -> Club Náutico de Zaragoza | F77: HVK1_60 | G77: =VLOOKUP(C77,TºCrono!B:C,2,FALSE) -> 380345 | I77: =IF(G77="D","DESCALIF.",IF(G77="A","ABANDONO",IF(G77="N","NO PRES.",CONCATENATE(AC77,":",AD77,":",AE77)))) -> 37:18:45 | K77: =LEN(G77) -> 6 | N77: =VALUE(MID(G77,1,K77-4)) -> 38 | O77: =VALUE(MID(G77,K77-4+1,2)) -> 3 | P77: =VALUE(RIGHT(G77,2)) -> 45 | R77: =IF(O77<VLOOKUP(F77,'Horario salida'!$C$3:$E$32,3,FALSE),N77-1,N77) -> 37 | S77: =IF(O77<VLOOKUP(F77,'Horario salida'!$C$3:$E$32,3,FALSE),O77+60,O77) -> 63 | T77: =IF(P77<VLOOKUP(F77,'Horario salida'!$C$3:$F$32,4,FALSE),S77-1,S77) -> 63 | U77: =IF(P77<VLOOKUP(F77,'Horario salida'!$C$3:$F$32,4,FALSE),P77+100,P77) -> 45 | Y77: =R77-VLOOKUP(F77,'Horario salida'!$C$3:$D$34,2,FALSE) -> 37 | Z77: =T77-VLOOKUP(F77,'Horario salida'!$C$3:$E$32,3,FALSE) -> 18 | AA77: =U77-VLOOKUP(F77,'Horario salida'!$C$3:$F$32,4,FALSE) -> 45 | AC77: =TEXT(Y77,"00") -> 37 | AD77: =TEXT(Z77,"00") -> 18 | AE77: =TEXT(AA77,"00") -> 45
D79: CATEGORIA | E79: MUJER SENIOR | F79: K1 | I79: =VLOOKUP(F81,DATOS!$C$5:$D$40,2,FALSE) -> 4 | J79: =COUNTIF(F81:$F$802,F81) -> 4
B80: PTOS | C80: DORSAL | D80: NOMBRE | E80: CLUB | F80: CAT. | G80: Tº CRONO | I80: Tº REAL
B81: 33 | C81: 262 | D81: =VLOOKUP(C81,'1 - Dorsales clubs'!B:C,2,FALSE) -> Irati Osa Irureta | E81: =VLOOKUP(D81,'1 - Dorsales clubs'!C:D,2,FALSE) -> Zumaiako Urola Itsas Adar | F81: MSK1 | G81: =VLOOKUP(C81,TºCrono!B:C,2,FALSE) -> 265957 | I81: =IF(G81="D","DESCALIF.",IF(G81="A","ABANDONO",IF(G81="N","NO PRES.",CONCATENATE(AC81,":",AD81,":",AE81)))) -> 24:09:57 | K81: =LEN(G81) -> 6 | N81: =VALUE(MID(G81,1,K81-4)) -> 26 | O81: =VALUE(MID(G81,K81-4+1,2)) -> 59 | P81: =VALUE(RIGHT(G81,2)) -> 57 | R81: =IF(O81<VLOOKUP(F81,'Horario salida'!$C$3:$E$32,3,FALSE),N81-1,N81) -> 26 | S81: =IF(O81<VLOOKUP(F81,'Horario salida'!$C$3:$E$32,3,FALSE),O81+60,O81) -> 59 | T81: =IF(P81<VLOOKUP(F81,'Horario salida'!$C$3:$F$32,4,FALSE),S81-1,S81) -> 59 | U81: =IF(P81<VLOOKUP(F81,'Horario salida'!$C$3:$F$32,4,FALSE),P81+100,P81) -> 57 | Y81: =R81-VLOOKUP(F81,'Horario salida'!$C$3:$D$34,2,FALSE) -> 24 | Z81: =T81-VLOOKUP(F81,'Horario salida'!$C$3:$E$32,3,FALSE) -> 9 | AA81: =U81-VLOOKUP(F81,'Horario salida'!$C$3:$F$32,4,FALSE) -> 57 | AC81: =TEXT(Y81,"00") -> 24 | AD81: =TEXT(Z81,"00") -> 09 | AE81: =TEXT(AA81,"00") -> 57
B82: 29 | C82: 144 | D82: =VLOOKUP(C82,'1 - Dorsales clubs'!B:C,2,FALSE) -> Dánae Sanmartín Riz | E82: =VLOOKUP(D82,'1 - Dorsales clubs'!C:D,2,FALSE) -> Club Piragüismo Pamplona | F82: MSK1 | G82: =VLOOKUP(C82,TºCrono!B:C,2,FALSE) -> 283662 | I82: =IF(G82="D","DESCALIF.",IF(G82="A","ABANDONO",IF(G82="N","NO PRES.",CONCATENATE(AC82,":",AD82,":",AE82)))) -> 25:46:62 | K82: =LEN(G82) -> 6 | N82: =VALUE(MID(G82,1,K82-4)) -> 28 | O82: =VALUE(MID(G82,K82-4+1,2)) -> 36 | P82: =VALUE(RIGHT(G82,2)) -> 62 | R82: =IF(O82<VLOOKUP(F82,'Horario salida'!$C$3:$E$32,3,FALSE),N82-1,N82) -> 27 | S82: =IF(O82<VLOOKUP(F82,'Horario salida'!$C$3:$E$32,3,FALSE),O82+60,O82) -> 96 | T82: =IF(P82<VLOOKUP(F82,'Horario salida'!$C$3:$F$32,4,FALSE),S82-1,S82) -> 96 | U82: =IF(P82<VLOOKUP(F82,'Horario salida'!$C$3:$F$32,4,FALSE),P82+100,P82) -> 62 | Y82: =R82-VLOOKUP(F82,'Horario salida'!$C$3:$D$34,2,FALSE) -> 25 | Z82: =T82-VLOOKUP(F82,'Horario salida'!$C$3:$E$32,3,FALSE) -> 46 | AA82: =U82-VLOOKUP(F82,'Horario salida'!$C$3:$F$32,4,FALSE) -> 62 | AC82: =TEXT(Y82,"00") -> 25 | AD82: =TEXT(Z82,"00") -> 46 | AE82: =TEXT(AA82,"00") -> 62
B83: 26 | C83: 96 | D83: =VLOOKUP(C83,'1 - Dorsales clubs'!B:C,2,FALSE) -> LIDIA DIEZ MONJE | E83: =VLOOKUP(D83,'1 - Dorsales clubs'!C:D,2,FALSE) -> CLUB PIRAGÜISMO ANTARES | F83: MSK1 | G83: =VLOOKUP(C83,TºCrono!B:C,2,FALSE) -> 284676 | I83: =IF(G83="D","DESCALIF.",IF(G83="A","ABANDONO",IF(G83="N","NO PRES.",CONCATENATE(AC83,":",AD83,":",AE83)))) -> 25:56:76 | K83: =LEN(G83) -> 6 | N83: =VALUE(MID(G83,1,K83-4)) -> 28 | O83: =VALUE(MID(G83,K83-4+1,2)) -> 46 | P83: =VALUE(RIGHT(G83,2)) -> 76 | R83: =IF(O83<VLOOKUP(F83,'Horario salida'!$C$3:$E$32,3,FALSE),N83-1,N83) -> 27 | S83: =IF(O83<VLOOKUP(F83,'Horario salida'!$C$3:$E$32,3,FALSE),O83+60,O83) -> 106 | T83: =IF(P83<VLOOKUP(F83,'Horario salida'!$C$3:$F$32,4,FALSE),S83-1,S83) -> 106 | U83: =IF(P83<VLOOKUP(F83,'Horario salida'!$C$3:$F$32,4,FALSE),P83+100,P83) -> 76 | Y83: =R83-VLOOKUP(F83,'Horario salida'!$C$3:$D$34,2,FALSE) -> 25 | Z83: =T83-VLOOKUP(F83,'Horario salida'!$C$3:$E$32,3,FALSE) -> 56 | AA83: =U83-VLOOKUP(F83,'Horario salida'!$C$3:$F$32,4,FALSE) -> 76 | AC83: =TEXT(Y83,"00") -> 25 | AD83: =TEXT(Z83,"00") -> 56 | AE83: =TEXT(AA83,"00") -> 76
B84: 24 | C84: 185 | D84: =VLOOKUP(C84,'1 - Dorsales clubs'!B:C,2,FALSE) -> SIRA GÁLVEZ ORRIOS | E84: =VLOOKUP(D84,'1 - Dorsales clubs'!C:D,2,FALSE) -> CENTRO NATACIÓN HELIOS | F84: MSK1 | G84: =VLOOKUP(C84,TºCrono!B:C,2,FALSE) -> 293695 | I84: =IF(G84="D","DESCALIF.",IF(G84="A","ABANDONO",IF(G84="N","NO PRES.",CONCATENATE(AC84,":",AD84,":",AE84)))) -> 26:46:95 | K84: =LEN(G84) -> 6 | N84: =VALUE(MID(G84,1,K84-4)) -> 29 | O84: =VALUE(MID(G84,K84-4+1,2)) -> 36 | P84: =VALUE(RIGHT(G84,2)) -> 95 | R84: =IF(O84<VLOOKUP(F84,'Horario salida'!$C$3:$E$32,3,FALSE),N84-1,N84) -> 28 | S84: =IF(O84<VLOOKUP(F84,'Horario salida'!$C$3:$E$32,3,FALSE),O84+60,O84) -> 96 | T84: =IF(P84<VLOOKUP(F84,'Horario salida'!$C$3:$F$32,4,FALSE),S84-1,S84) -> 96 | U84: =IF(P84<VLOOKUP(F84,'Horario salida'!$C$3:$F$32,4,FALSE),P84+100,P84) -> 95 | Y84: =R84-VLOOKUP(F84,'Horario salida'!$C$3:$D$34,2,FALSE) -> 26 | Z84: =T84-VLOOKUP(F84,'Horario salida'!$C$3:$E$32,3,FALSE) -> 46 | AA84: =U84-VLOOKUP(F84,'Horario salida'!$C$3:$F$32,4,FALSE) -> 95 | AC84: =TEXT(Y84,"00") -> 26 | AD84: =TEXT(Z84,"00") -> 46 | AE84: =TEXT(AA84,"00") -> 95
D87: CATEGORIA | E87: MUJER VETERANO 50 | F87: K1 | I87: =VLOOKUP(F89,DATOS!$C$5:$D$40,2,FALSE) -> 4 | J87: =COUNTIF(F89:$F$802,F89) -> 4
B88: PTOS | C88: DORSAL | D88: NOMBRE | E88: CLUB | F88: CAT. | G88: Tº CRONO | I88: Tº REAL
B89: 33 | C89: 11 | D89: =VLOOKUP(C89,'1 - Dorsales clubs'!B:C,2,FALSE) -> Belén Sánchez Jiménez | E89: =VLOOKUP(D89,'1 - Dorsales clubs'!C:D,2,FALSE) -> Club Deportivo enhol Ebrokayak | F89: MVK1_35 | G89: =VLOOKUP(C89,TºCrono!B:C,2,FALSE) -> 283741 | I89: =IF(G89="D","DESCALIF.",IF(G89="A","ABANDONO",IF(G89="N","NO PRES.",CONCATENATE(AC89,":",AD89,":",AE89)))) -> 25:47:41 | K89: =LEN(G89) -> 6 | N89: =VALUE(MID(G89,1,K89-4)) -> 28 | O89: =VALUE(MID(G89,K89-4+1,2)) -> 37 | P89: =VALUE(RIGHT(G89,2)) -> 41 | R89: =IF(O89<VLOOKUP(F89,'Horario salida'!$C$3:$E$32,3,FALSE),N89-1,N89) -> 27 | S89: =IF(O89<VLOOKUP(F89,'Horario salida'!$C$3:$E$32,3,FALSE),O89+60,O89) -> 97 | T89: =IF(P89<VLOOKUP(F89,'Horario salida'!$C$3:$F$32,4,FALSE),S89-1,S89) -> 97 | U89: =IF(P89<VLOOKUP(F89,'Horario salida'!$C$3:$F$32,4,FALSE),P89+100,P89) -> 41 | Y89: =R89-VLOOKUP(F89,'Horario salida'!$C$3:$D$34,2,FALSE) -> 25 | Z89: =T89-VLOOKUP(F89,'Horario salida'!$C$3:$E$32,3,FALSE) -> 47 | AA89: =U89-VLOOKUP(F89,'Horario salida'!$C$3:$F$32,4,FALSE) -> 41 | AC89: =TEXT(Y89,"00") -> 25 | AD89: =TEXT(Z89,"00") -> 47 | AE89: =TEXT(AA89,"00") -> 41
B90: 29 | C90: 244 | D90: =VLOOKUP(C90,'1 - Dorsales clubs'!B:C,2,FALSE) -> SELMA PALACIN | E90: =VLOOKUP(D90,'1 - Dorsales clubs'!C:D,2,FALSE) -> CD MONKAYAK HIBERUS | F90: MVK1_35 | G90: =VLOOKUP(C90,TºCrono!B:C,2,FALSE) -> 312886 | I90: =IF(G90="D","DESCALIF.",IF(G90="A","ABANDONO",IF(G90="N","NO PRES.",CONCATENATE(AC90,":",AD90,":",AE90)))) -> 28:38:86 | K90: =LEN(G90) -> 6 | N90: =VALUE(MID(G90,1,K90-4)) -> 31 | O90: =VALUE(MID(G90,K90-4+1,2)) -> 28 | P90: =VALUE(RIGHT(G90,2)) -> 86 | R90: =IF(O90<VLOOKUP(F90,'Horario salida'!$C$3:$E$32,3,FALSE),N90-1,N90) -> 30 | S90: =IF(O90<VLOOKUP(F90,'Horario salida'!$C$3:$E$32,3,FALSE),O90+60,O90) -> 88 | T90: =IF(P90<VLOOKUP(F90,'Horario salida'!$C$3:$F$32,4,FALSE),S90-1,S90) -> 88 | U90: =IF(P90<VLOOKUP(F90,'Horario salida'!$C$3:$F$32,4,FALSE),P90+100,P90) -> 86 | Y90: =R90-VLOOKUP(F90,'Horario salida'!$C$3:$D$34,2,FALSE) -> 28 | Z90: =T90-VLOOKUP(F90,'Horario salida'!$C$3:$E$32,3,FALSE) -> 38 | AA90: =U90-VLOOKUP(F90,'Horario salida'!$C$3:$F$32,4,FALSE) -> 86 | AC90: =TEXT(Y90,"00") -> 28 | AD90: =TEXT(Z90,"00") -> 38 | AE90: =TEXT(AA90,"00") -> 86
B91: 26 | C91: 12 | D91: =VLOOKUP(C91,'1 - Dorsales clubs'!B:C,2,FALSE) -> Mai Moneo Arcos | E91: =VLOOKUP(D91,'1 - Dorsales clubs'!C:D,2,FALSE) -> Club Deportivo enhol Ebrokayak | F91: MVK1_35 | G91: =VLOOKUP(C91,TºCrono!B:C,2,FALSE) -> 334897 | I91: =IF(G91="D","DESCALIF.",IF(G91="A","ABANDONO",IF(G91="N","NO PRES.",CONCATENATE(AC91,":",AD91,":",AE91)))) -> 30:58:97 | K91: =LEN(G91) -> 6 | N91: =VALUE(MID(G91,1,K91-4)) -> 33 | O91: =VALUE(MID(G91,K91-4+1,2)) -> 48 | P91: =VALUE(RIGHT(G91,2)) -> 97 | R91: =IF(O91<VLOOKUP(F91,'Horario salida'!$C$3:$E$32,3,FALSE),N91-1,N91) -> 32 | S91: =IF(O91<VLOOKUP(F91,'Horario salida'!$C$3:$E$32,3,FALSE),O91+60,O91) -> 108 | T91: =IF(P91<VLOOKUP(F91,'Horario salida'!$C$3:$F$32,4,FALSE),S91-1,S91) -> 108 | U91: =IF(P91<VLOOKUP(F91,'Horario salida'!$C$3:$F$32,4,FALSE),P91+100,P91) -> 97 | Y91: =R91-VLOOKUP(F91,'Horario salida'!$C$3:$D$34,2,FALSE) -> 30 | Z91: =T91-VLOOKUP(F91,'Horario salida'!$C$3:$E$32,3,FALSE) -> 58 | AA91: =U91-VLOOKUP(F91,'Horario salida'!$C$3:$F$32,4,FALSE) -> 97 | AC91: =TEXT(Y91,"00") -> 30 | AD91: =TEXT(Z91,"00") -> 58 | AE91: =TEXT(AA91,"00") -> 97
B92: 24 | C92: 197 | D92: =VLOOKUP(C92,'1 - Dorsales clubs'!B:C,2,FALSE) -> LUISA MARIA SERNA ROCHE | E92: =VLOOKUP(D92,'1 - Dorsales clubs'!C:D,2,FALSE) -> CENTRO NATACIÓN HELIOS | F92: MVK1_35 | G92: =VLOOKUP(C92,TºCrono!B:C,2,FALSE) -> 351841 | I92: =IF(G92="D","DESCALIF.",IF(G92="A","ABANDONO",IF(G92="N","NO PRES.",CONCATENATE(AC92,":",AD92,":",AE92)))) -> 32:28:41 | K92: =LEN(G92) -> 6 | N92: =VALUE(MID(G92,1,K92-4)) -> 35 | O92: =VALUE(MID(G92,K92-4+1,2)) -> 18 | P92: =VALUE(RIGHT(G92,2)) -> 41 | R92: =IF(O92<VLOOKUP(F92,'Horario salida'!$C$3:$E$32,3,FALSE),N92-1,N92) -> 34 | S92: =IF(O92<VLOOKUP(F92,'Horario salida'!$C$3:$E$32,3,FALSE),O92+60,O92) -> 78 | T92: =IF(P92<VLOOKUP(F92,'Horario salida'!$C$3:$F$32,4,FALSE),S92-1,S92) -> 78 | U92: =IF(P92<VLOOKUP(F92,'Horario salida'!$C$3:$F$32,4,FALSE),P92+100,P92) -> 41 | Y92: =R92-VLOOKUP(F92,'Horario salida'!$C$3:$D$34,2,FALSE) -> 32 | Z92: =T92-VLOOKUP(F92,'Horario salida'!$C$3:$E$32,3,FALSE) -> 28 | AA92: =U92-VLOOKUP(F92,'Horario salida'!$C$3:$F$32,4,FALSE) -> 41 | AC92: =TEXT(Y92,"00") -> 32 | AD92: =TEXT(Z92,"00") -> 28 | AE92: =TEXT(AA92,"00") -> 41
D94: CATEGORIA | E94: MUJER JUNIOR | F94: K1 | I94: =VLOOKUP(F96,DATOS!$C$5:$D$40,2,FALSE) -> 6 | J94: =COUNTIF(F96:$F$802,F96) -> 6
B95: PTOS | C95: DORSAL | D95: NOMBRE | E95: CLUB | F95: CAT. | G95: Tº CRONO | I95: Tº REAL
B96: 33 | C96: 120 | D96: =VLOOKUP(C96,'1 - Dorsales clubs'!B:C,2,FALSE) -> Izar Libano Sanchez | E96: =VLOOKUP(D96,'1 - Dorsales clubs'!C:D,2,FALSE) -> CLUB PIRAGUISMO GETXO-GETXO KAYAK | F96: MJK1 | G96: =VLOOKUP(C96,TºCrono!B:C,2,FALSE) -> 280349 | I96: =IF(G96="D","DESCALIF.",IF(G96="A","ABANDONO",IF(G96="N","NO PRES.",CONCATENATE(AC96,":",AD96,":",AE96)))) -> 25:13:49 | K96: =LEN(G96) -> 6 | N96: =VALUE(MID(G96,1,K96-4)) -> 28 | O96: =VALUE(MID(G96,K96-4+1,2)) -> 3 | P96: =VALUE(RIGHT(G96,2)) -> 49 | R96: =IF(O96<VLOOKUP(F96,'Horario salida'!$C$3:$E$32,3,FALSE),N96-1,N96) -> 27 | S96: =IF(O96<VLOOKUP(F96,'Horario salida'!$C$3:$E$32,3,FALSE),O96+60,O96) -> 63 | T96: =IF(P96<VLOOKUP(F96,'Horario salida'!$C$3:$F$32,4,FALSE),S96-1,S96) -> 63 | U96: =IF(P96<VLOOKUP(F96,'Horario salida'!$C$3:$F$32,4,FALSE),P96+100,P96) -> 49 | Y96: =R96-VLOOKUP(F96,'Horario salida'!$C$3:$D$34,2,FALSE) -> 25 | Z96: =T96-VLOOKUP(F96,'Horario salida'!$C$3:$E$32,3,FALSE) -> 13 | AA96: =U96-VLOOKUP(F96,'Horario salida'!$C$3:$F$32,4,FALSE) -> 49 | AC96: =TEXT(Y96,"00") -> 25 | AD96: =TEXT(Z96,"00") -> 13 | AE96: =TEXT(AA96,"00") -> 49
B97: 29 | C97: 101 | D97: =VLOOKUP(C97,'1 - Dorsales clubs'!B:C,2,FALSE) -> CLAUDIA LARREA CUARTANGO | E97: =VLOOKUP(D97,'1 - Dorsales clubs'!C:D,2,FALSE) -> CLUB PIRAGÜISMO ANTARES | F97: MJK1 | G97: =VLOOKUP(C97,TºCrono!B:C,2,FALSE) -> 280455 | I97: =IF(G97="D","DESCALIF.",IF(G97="A","ABANDONO",IF(G97="N","NO PRES.",CONCATENATE(AC97,":",AD97,":",AE97)))) -> 25:14:55 | K97: =LEN(G97) -> 6 | N97: =VALUE(MID(G97,1,K97-4)) -> 28 | O97: =VALUE(MID(G97,K97-4+1,2)) -> 4 | P97: =VALUE(RIGHT(G97,2)) -> 55 | R97: =IF(O97<VLOOKUP(F97,'Horario salida'!$C$3:$E$32,3,FALSE),N97-1,N97) -> 27 | S97: =IF(O97<VLOOKUP(F97,'Horario salida'!$C$3:$E$32,3,FALSE),O97+60,O97) -> 64 | T97: =IF(P97<VLOOKUP(F97,'Horario salida'!$C$3:$F$32,4,FALSE),S97-1,S97) -> 64 | U97: =IF(P97<VLOOKUP(F97,'Horario salida'!$C$3:$F$32,4,FALSE),P97+100,P97) -> 55 | Y97: =R97-VLOOKUP(F97,'Horario salida'!$C$3:$D$34,2,FALSE) -> 25 | Z97: =T97-VLOOKUP(F97,'Horario salida'!$C$3:$E$32,3,FALSE) -> 14 | AA97: =U97-VLOOKUP(F97,'Horario salida'!$C$3:$F$32,4,FALSE) -> 55 | AC97: =TEXT(Y97,"00") -> 25 | AD97: =TEXT(Z97,"00") -> 14 | AE97: =TEXT(AA97,"00") -> 55
B98: 26 | C98: 121 | D98: =VLOOKUP(C98,'1 - Dorsales clubs'!B:C,2,FALSE) -> Saioa Perez Garcia | E98: =VLOOKUP(D98,'1 - Dorsales clubs'!C:D,2,FALSE) -> CLUB PIRAGUISMO GETXO-GETXO KAYAK | F98: MJK1 | G98: =VLOOKUP(C98,TºCrono!B:C,2,FALSE) -> 284253 | I98: =IF(G98="D","DESCALIF.",IF(G98="A","ABANDONO",IF(G98="N","NO PRES.",CONCATENATE(AC98,":",AD98,":",AE98)))) -> 25:52:53 | K98: =LEN(G98) -> 6 | N98: =VALUE(MID(G98,1,K98-4)) -> 28 | O98: =VALUE(MID(G98,K98-4+1,2)) -> 42 | P98: =VALUE(RIGHT(G98,2)) -> 53 | R98: =IF(O98<VLOOKUP(F98,'Horario salida'!$C$3:$E$32,3,FALSE),N98-1,N98) -> 27 | S98: =IF(O98<VLOOKUP(F98,'Horario salida'!$C$3:$E$32,3,FALSE),O98+60,O98) -> 102 | T98: =IF(P98<VLOOKUP(F98,'Horario salida'!$C$3:$F$32,4,FALSE),S98-1,S98) -> 102 | U98: =IF(P98<VLOOKUP(F98,'Horario salida'!$C$3:$F$32,4,FALSE),P98+100,P98) -> 53 | Y98: =R98-VLOOKUP(F98,'Horario salida'!$C$3:$D$34,2,FALSE) -> 25 | Z98: =T98-VLOOKUP(F98,'Horario salida'!$C$3:$E$32,3,FALSE) -> 52 | AA98: =U98-VLOOKUP(F98,'Horario salida'!$C$3:$F$32,4,FALSE) -> 53 | AC98: =TEXT(Y98,"00") -> 25 | AD98: =TEXT(Z98,"00") -> 52 | AE98: =TEXT(AA98,"00") -> 53
B99: 24 | C99: 9 | D99: =VLOOKUP(C99,'1 - Dorsales clubs'!B:C,2,FALSE) -> Sandra Lopez Iriarte | E99: =VLOOKUP(D99,'1 - Dorsales clubs'!C:D,2,FALSE) -> Club Deportivo enhol Ebrokayak | F99: MJK1 | G99: =VLOOKUP(C99,TºCrono!B:C,2,FALSE) -> 293995 | I99: =IF(G99="D","DESCALIF.",IF(G99="A","ABANDONO",IF(G99="N","NO PRES.",CONCATENATE(AC99,":",AD99,":",AE99)))) -> 26:49:95 | K99: =LEN(G99) -> 6 | N99: =VALUE(MID(G99,1,K99-4)) -> 29 | O99: =VALUE(MID(G99,K99-4+1,2)) -> 39 | P99: =VALUE(RIGHT(G99,2)) -> 95 | R99: =IF(O99<VLOOKUP(F99,'Horario salida'!$C$3:$E$32,3,FALSE),N99-1,N99) -> 28 | S99: =IF(O99<VLOOKUP(F99,'Horario salida'!$C$3:$E$32,3,FALSE),O99+60,O99) -> 99 | T99: =IF(P99<VLOOKUP(F99,'Horario salida'!$C$3:$F$32,4,FALSE),S99-1,S99) -> 99 | U99: =IF(P99<VLOOKUP(F99,'Horario salida'!$C$3:$F$32,4,FALSE),P99+100,P99) -> 95 | Y99: =R99-VLOOKUP(F99,'Horario salida'!$C$3:$D$34,2,FALSE) -> 26 | Z99: =T99-VLOOKUP(F99,'Horario salida'!$C$3:$E$32,3,FALSE) -> 49 | AA99: =U99-VLOOKUP(F99,'Horario salida'!$C$3:$F$32,4,FALSE) -> 95 | AC99: =TEXT(Y99,"00") -> 26 | AD99: =TEXT(Z99,"00") -> 49 | AE99: =TEXT(AA99,"00") -> 95
B100: 23 | C100: 98 | D100: =VLOOKUP(C100,'1 - Dorsales clubs'!B:C,2,FALSE) -> ALBA PÉREZ MARTIN | E100: =VLOOKUP(D100,'1 - Dorsales clubs'!C:D,2,FALSE) -> CLUB PIRAGÜISMO ANTARES | F100: MJK1 | G100: =VLOOKUP(C100,TºCrono!B:C,2,FALSE) -> 310603 | I100: =IF(G100="D","DESCALIF.",IF(G100="A","ABANDONO",IF(G100="N","NO PRES.",CONCATENATE(AC100,":",AD100,":",AE100)))) -> 28:16:03 | K100: =LEN(G100) -> 6 | N100: =VALUE(MID(G100,1,K100-4)) -> 31 | O100: =VALUE(MID(G100,K100-4+1,2)) -> 6 | P100: =VALUE(RIGHT(G100,2)) -> 3 | R100: =IF(O100<VLOOKUP(F100,'Horario salida'!$C$3:$E$32,3,FALSE),N100-1,N100) -> 30 | S100: =IF(O100<VLOOKUP(F100,'Horario salida'!$C$3:$E$32,3,FALSE),O100+60,O100) -> 66 | T100: =IF(P100<VLOOKUP(F100,'Horario salida'!$C$3:$F$32,4,FALSE),S100-1,S100) -> 66 | U100: =IF(P100<VLOOKUP(F100,'Horario salida'!$C$3:$F$32,4,FALSE),P100+100,P100) -> 3 | Y100: =R100-VLOOKUP(F100,'Horario salida'!$C$3:$D$34,2,FALSE) -> 28 | Z100: =T100-VLOOKUP(F100,'Horario salida'!$C$3:$E$32,3,FALSE) -> 16 | AA100: =U100-VLOOKUP(F100,'Horario salida'!$C$3:$F$32,4,FALSE) -> 3 | AC100: =TEXT(Y100,"00") -> 28 | AD100: =TEXT(Z100,"00") -> 16 | AE100: =TEXT(AA100,"00") -> 03
B101: 22 | C101: 183 | D101: =VLOOKUP(C101,'1 - Dorsales clubs'!B:C,2,FALSE) -> INÉS CEBOLLA ALLOZA | E101: =VLOOKUP(D101,'1 - Dorsales clubs'!C:D,2,FALSE) -> CENTRO NATACIÓN HELIOS | F101: MJK1 | G101: =VLOOKUP(C101,TºCrono!B:C,2,FALSE) -> 314899 | I101: =IF(G101="D","DESCALIF.",IF(G101="A","ABANDONO",IF(G101="N","NO PRES.",CONCATENATE(AC101,":",AD101,":",AE101)))) -> 28:58:99 | K101: =LEN(G101) -> 6 | N101: =VALUE(MID(G101,1,K101-4)) -> 31 | O101: =VALUE(MID(G101,K101-4+1,2)) -> 48 | P101: =VALUE(RIGHT(G101,2)) -> 99 | R101: =IF(O101<VLOOKUP(F101,'Horario salida'!$C$3:$E$32,3,FALSE),N101-1,N101) -> 30 | S101: =IF(O101<VLOOKUP(F101,'Horario salida'!$C$3:$E$32,3,FALSE),O101+60,O101) -> 108 | T101: =IF(P101<VLOOKUP(F101,'Horario salida'!$C$3:$F$32,4,FALSE),S101-1,S101) -> 108 | U101: =IF(P101<VLOOKUP(F101,'Horario salida'!$C$3:$F$32,4,FALSE),P101+100,P101) -> 99 | Y101: =R101-VLOOKUP(F101,'Horario salida'!$C$3:$D$34,2,FALSE) -> 28 | Z101: =T101-VLOOKUP(F101,'Horario salida'!$C$3:$E$32,3,FALSE) -> 58 | AA101: =U101-VLOOKUP(F101,'Horario salida'!$C$3:$F$32,4,FALSE) -> 99 | AC101: =TEXT(Y101,"00") -> 28 | AD101: =TEXT(Z101,"00") -> 58 | AE101: =TEXT(AA101,"00") -> 99
D103: CATEGORIA | E103: HOMBRE SENIOR CANOA | F103: C1 | I103: =VLOOKUP(F105,DATOS!$C$5:$D$40,2,FALSE) -> 5 | J103: =COUNTIF(F105:$F$802,F105) -> 5
B104: PTOS | C104: DORSAL | D104: NOMBRE | E104: CLUB | F104: CAT. | G104: Tº CRONO | I104: Tº REAL
B105: 33 | C105: 15 | D105: =VLOOKUP(C105,'1 - Dorsales clubs'!B:C,2,FALSE) -> Ernestas Uzpalis | E105: =VLOOKUP(D105,'1 - Dorsales clubs'!C:D,2,FALSE) -> Club Deportivo enhol Ebrokayak | F105: HSC1 | G105: =VLOOKUP(C105,TºCrono!B:C,2,FALSE) -> 191415 | I105: =IF(G105="D","DESCALIF.",IF(G105="A","ABANDONO",IF(G105="N","NO PRES.",CONCATENATE(AC105,":",AD105,":",AE105)))) -> 17:19:15 | K105: =LEN(G105) -> 6 | N105: =VALUE(MID(G105,1,K105-4)) -> 19 | O105: =VALUE(MID(G105,K105-4+1,2)) -> 14 | P105: =VALUE(RIGHT(G105,2)) -> 15 | R105: =IF(O105<VLOOKUP(F105,'Horario salida'!$C$3:$E$32,3,FALSE),N105-1,N105) -> 18 | S105: =IF(O105<VLOOKUP(F105,'Horario salida'!$C$3:$E$32,3,FALSE),O105+60,O105) -> 74 | T105: =IF(P105<VLOOKUP(F105,'Horario salida'!$C$3:$F$32,4,FALSE),S105-1,S105) -> 74 | U105: =IF(P105<VLOOKUP(F105,'Horario salida'!$C$3:$F$32,4,FALSE),P105+100,P105) -> 15 | Y105: =R105-VLOOKUP(F105,'Horario salida'!$C$3:$D$34,2,FALSE) -> 17 | Z105: =T105-VLOOKUP(F105,'Horario salida'!$C$3:$E$32,3,FALSE) -> 19 | AA105: =U105-VLOOKUP(F105,'Horario salida'!$C$3:$F$32,4,FALSE) -> 15 | AC105: =TEXT(Y105,"00") -> 17 | AD105: =TEXT(Z105,"00") -> 19 | AE105: =TEXT(AA105,"00") -> 15
B106: 29 | C106: 14 | D106: =VLOOKUP(C106,'1 - Dorsales clubs'!B:C,2,FALSE) -> Andrii Koliada | E106: =VLOOKUP(D106,'1 - Dorsales clubs'!C:D,2,FALSE) -> Club Deportivo enhol Ebrokayak | F106: HSC1 | G106: =VLOOKUP(C106,TºCrono!B:C,2,FALSE) -> 191675 | I106: =IF(G106="D","DESCALIF.",IF(G106="A","ABANDONO",IF(G106="N","NO PRES.",CONCATENATE(AC106,":",AD106,":",AE106)))) -> 17:21:75 | K106: =LEN(G106) -> 6 | N106: =VALUE(MID(G106,1,K106-4)) -> 19 | O106: =VALUE(MID(G106,K106-4+1,2)) -> 16 | P106: =VALUE(RIGHT(G106,2)) -> 75 | R106: =IF(O106<VLOOKUP(F106,'Horario salida'!$C$3:$E$32,3,FALSE),N106-1,N106) -> 18 | S106: =IF(O106<VLOOKUP(F106,'Horario salida'!$C$3:$E$32,3,FALSE),O106+60,O106) -> 76 | T106: =IF(P106<VLOOKUP(F106,'Horario salida'!$C$3:$F$32,4,FALSE),S106-1,S106) -> 76 | U106: =IF(P106<VLOOKUP(F106,'Horario salida'!$C$3:$F$32,4,FALSE),P106+100,P106) -> 75 | Y106: =R106-VLOOKUP(F106,'Horario salida'!$C$3:$D$34,2,FALSE) -> 17 | Z106: =T106-VLOOKUP(F106,'Horario salida'!$C$3:$E$32,3,FALSE) -> 21 | AA106: =U106-VLOOKUP(F106,'Horario salida'!$C$3:$F$32,4,FALSE) -> 75 | AC106: =TEXT(Y106,"00") -> 17 | AD106: =TEXT(Z106,"00") -> 21 | AE106: =TEXT(AA106,"00") -> 75
B107: 26 | C107: 13 | D107: =VLOOKUP(C107,'1 - Dorsales clubs'!B:C,2,FALSE) -> Alvaro Oses Arbizu | E107: =VLOOKUP(D107,'1 - Dorsales clubs'!C:D,2,FALSE) -> Club Deportivo enhol Ebrokayak | F107: HSC1 | G107: =VLOOKUP(C107,TºCrono!B:C,2,FALSE) -> 203598 | I107: =IF(G107="D","DESCALIF.",IF(G107="A","ABANDONO",IF(G107="N","NO PRES.",CONCATENATE(AC107,":",AD107,":",AE107)))) -> 18:40:98 | K107: =LEN(G107) -> 6 | N107: =VALUE(MID(G107,1,K107-4)) -> 20 | O107: =VALUE(MID(G107,K107-4+1,2)) -> 35 | P107: =VALUE(RIGHT(G107,2)) -> 98 | R107: =IF(O107<VLOOKUP(F107,'Horario salida'!$C$3:$E$32,3,FALSE),N107-1,N107) -> 19 | S107: =IF(O107<VLOOKUP(F107,'Horario salida'!$C$3:$E$32,3,FALSE),O107+60,O107) -> 95 | T107: =IF(P107<VLOOKUP(F107,'Horario salida'!$C$3:$F$32,4,FALSE),S107-1,S107) -> 95 | U107: =IF(P107<VLOOKUP(F107,'Horario salida'!$C$3:$F$32,4,FALSE),P107+100,P107) -> 98 | Y107: =R107-VLOOKUP(F107,'Horario salida'!$C$3:$D$34,2,FALSE) -> 18 | Z107: =T107-VLOOKUP(F107,'Horario salida'!$C$3:$E$32,3,FALSE) -> 40 | AA107: =U107-VLOOKUP(F107,'Horario salida'!$C$3:$F$32,4,FALSE) -> 98 | AC107: =TEXT(Y107,"00") -> 18 | AD107: =TEXT(Z107,"00") -> 40 | AE107: =TEXT(AA107,"00") -> 98
B108: 24 | C108: 234 | D108: =VLOOKUP(C108,'1 - Dorsales clubs'!B:C,2,FALSE) -> RUBEN JANEIRO | E108: =VLOOKUP(D108,'1 - Dorsales clubs'!C:D,2,FALSE) -> CD MONKAYAK HIBERUS | F108: HSC1 | G108: =VLOOKUP(C108,TºCrono!B:C,2,FALSE) -> 265237 | I108: =IF(G108="D","DESCALIF.",IF(G108="A","ABANDONO",IF(G108="N","NO PRES.",CONCATENATE(AC108,":",AD108,":",AE108)))) -> 24:57:37 | K108: =LEN(G108) -> 6 | N108: =VALUE(MID(G108,1,K108-4)) -> 26 | O108: =VALUE(MID(G108,K108-4+1,2)) -> 52 | P108: =VALUE(RIGHT(G108,2)) -> 37 | R108: =IF(O108<VLOOKUP(F108,'Horario salida'!$C$3:$E$32,3,FALSE),N108-1,N108) -> 25 | S108: =IF(O108<VLOOKUP(F108,'Horario salida'!$C$3:$E$32,3,FALSE),O108+60,O108) -> 112 | T108: =IF(P108<VLOOKUP(F108,'Horario salida'!$C$3:$F$32,4,FALSE),S108-1,S108) -> 112 | U108: =IF(P108<VLOOKUP(F108,'Horario salida'!$C$3:$F$32,4,FALSE),P108+100,P108) -> 37 | Y108: =R108-VLOOKUP(F108,'Horario salida'!$C$3:$D$34,2,FALSE) -> 24 | Z108: =T108-VLOOKUP(F108,'Horario salida'!$C$3:$E$32,3,FALSE) -> 57 | AA108: =U108-VLOOKUP(F108,'Horario salida'!$C$3:$F$32,4,FALSE) -> 37 | AC108: =TEXT(Y108,"00") -> 24 | AD108: =TEXT(Z108,"00") -> 57 | AE108: =TEXT(AA108,"00") -> 37
B109: 23 | C109: 231 | D109: =VLOOKUP(C109,'1 - Dorsales clubs'!B:C,2,FALSE) -> PABLO ECHANIZ | E109: =VLOOKUP(D109,'1 - Dorsales clubs'!C:D,2,FALSE) -> CD MONKAYAK HIBERUS | F109: HSC1 | G109: =VLOOKUP(C109,TºCrono!B:C,2,FALSE) -> 275320 | I109: =IF(G109="D","DESCALIF.",IF(G109="A","ABANDONO",IF(G109="N","NO PRES.",CONCATENATE(AC109,":",AD109,":",AE109)))) -> 25:58:20 | K109: =LEN(G109) -> 6 | N109: =VALUE(MID(G109,1,K109-4)) -> 27 | O109: =VALUE(MID(G109,K109-4+1,2)) -> 53 | P109: =VALUE(RIGHT(G109,2)) -> 20 | R109: =IF(O109<VLOOKUP(F109,'Horario salida'!$C$3:$E$32,3,FALSE),N109-1,N109) -> 26 | S109: =IF(O109<VLOOKUP(F109,'Horario salida'!$C$3:$E$32,3,FALSE),O109+60,O109) -> 113 | T109: =IF(P109<VLOOKUP(F109,'Horario salida'!$C$3:$F$32,4,FALSE),S109-1,S109) -> 113 | U109: =IF(P109<VLOOKUP(F109,'Horario salida'!$C$3:$F$32,4,FALSE),P109+100,P109) -> 20 | Y109: =R109-VLOOKUP(F109,'Horario salida'!$C$3:$D$34,2,FALSE) -> 25 | Z109: =T109-VLOOKUP(F109,'Horario salida'!$C$3:$E$32,3,FALSE) -> 58 | AA109: =U109-VLOOKUP(F109,'Horario salida'!$C$3:$F$32,4,FALSE) -> 20 | AC109: =TEXT(Y109,"00") -> 25 | AD109: =TEXT(Z109,"00") -> 58 | AE109: =TEXT(AA109,"00") -> 20
D111: CATEGORIA | E111: HOMBRE CADETE | F111: K1 | I111: =VLOOKUP(F113,DATOS!$C$5:$D$40,2,FALSE) -> 14 | J111: =COUNTIF(F113:$F$802,F113) -> 14
B112: PTOS | C112: DORSAL | D112: NOMBRE | E112: CLUB | F112: CAT. | G112: Tº CRONO | I112: Tº REAL
B113: 33 | C113: 5 | D113: =VLOOKUP(C113,'1 - Dorsales clubs'!B:C,2,FALSE) -> Arkaitz Arnedo Jimenez | E113: =VLOOKUP(D113,'1 - Dorsales clubs'!C:D,2,FALSE) -> Club Deportivo enhol Ebrokayak | F113: HCK1 | G113: =VLOOKUP(C113,TºCrono!B:C,2,FALSE) -> 252564 | I113: =IF(G113="D","DESCALIF.",IF(G113="A","ABANDONO",IF(G113="N","NO PRES.",CONCATENATE(AC113,":",AD113,":",AE113)))) -> 23:48:64 | K113: =LEN(G113) -> 6 | N113: =VALUE(MID(G113,1,K113-4)) -> 25 | O113: =VALUE(MID(G113,K113-4+1,2)) -> 25 | P113: =VALUE(RIGHT(G113,2)) -> 64 | R113: =IF(O113<VLOOKUP(F113,'Horario salida'!$C$3:$E$32,3,FALSE),N113-1,N113) -> 24 | S113: =IF(O113<VLOOKUP(F113,'Horario salida'!$C$3:$E$32,3,FALSE),O113+60,O113) -> 85 | T113: =IF(P113<VLOOKUP(F113,'Horario salida'!$C$3:$F$32,4,FALSE),S113-1,S113) -> 85 | U113: =IF(P113<VLOOKUP(F113,'Horario salida'!$C$3:$F$32,4,FALSE),P113+100,P113) -> 64 | Y113: =R113-VLOOKUP(F113,'Horario salida'!$C$3:$D$34,2,FALSE) -> 23 | Z113: =T113-VLOOKUP(F113,'Horario salida'!$C$3:$E$32,3,FALSE) -> 48 | AA113: =U113-VLOOKUP(F113,'Horario salida'!$C$3:$F$32,4,FALSE) -> 64 | AC113: =TEXT(Y113,"00") -> 23 | AD113: =TEXT(Z113,"00") -> 48 | AE113: =TEXT(AA113,"00") -> 64
B114: 29 | C114: 6 | D114: =VLOOKUP(C114,'1 - Dorsales clubs'!B:C,2,FALSE) -> Juan Sanchez Calvete | E114: =VLOOKUP(D114,'1 - Dorsales clubs'!C:D,2,FALSE) -> Club Deportivo enhol Ebrokayak | F114: HCK1 | G114: =VLOOKUP(C114,TºCrono!B:C,2,FALSE) -> 253077 | I114: =IF(G114="D","DESCALIF.",IF(G114="A","ABANDONO",IF(G114="N","NO PRES.",CONCATENATE(AC114,":",AD114,":",AE114)))) -> 23:53:77 | K114: =LEN(G114) -> 6 | N114: =VALUE(MID(G114,1,K114-4)) -> 25 | O114: =VALUE(MID(G114,K114-4+1,2)) -> 30 | P114: =VALUE(RIGHT(G114,2)) -> 77 | R114: =IF(O114<VLOOKUP(F114,'Horario salida'!$C$3:$E$32,3,FALSE),N114-1,N114) -> 24 | S114: =IF(O114<VLOOKUP(F114,'Horario salida'!$C$3:$E$32,3,FALSE),O114+60,O114) -> 90 | T114: =IF(P114<VLOOKUP(F114,'Horario salida'!$C$3:$F$32,4,FALSE),S114-1,S114) -> 90 | U114: =IF(P114<VLOOKUP(F114,'Horario salida'!$C$3:$F$32,4,FALSE),P114+100,P114) -> 77 | Y114: =R114-VLOOKUP(F114,'Horario salida'!$C$3:$D$34,2,FALSE) -> 23 | Z114: =T114-VLOOKUP(F114,'Horario salida'!$C$3:$E$32,3,FALSE) -> 53 | AA114: =U114-VLOOKUP(F114,'Horario salida'!$C$3:$F$32,4,FALSE) -> 77 | AC114: =TEXT(Y114,"00") -> 23 | AD114: =TEXT(Z114,"00") -> 53 | AE114: =TEXT(AA114,"00") -> 77
B115: 26 | C115: 110 | D115: =VLOOKUP(C115,'1 - Dorsales clubs'!B:C,2,FALSE) -> DANIEL DELGADO BLANCO | E115: =VLOOKUP(D115,'1 - Dorsales clubs'!C:D,2,FALSE) -> CLUB PIRAGÜISMO ANTARES | F115: HCK1 | G115: =VLOOKUP(C115,TºCrono!B:C,2,FALSE) -> 255716 | I115: =IF(G115="D","DESCALIF.",IF(G115="A","ABANDONO",IF(G115="N","NO PRES.",CONCATENATE(AC115,":",AD115,":",AE115)))) -> 24:20:16 | K115: =LEN(G115) -> 6 | N115: =VALUE(MID(G115,1,K115-4)) -> 25 | O115: =VALUE(MID(G115,K115-4+1,2)) -> 57 | P115: =VALUE(RIGHT(G115,2)) -> 16 | R115: =IF(O115<VLOOKUP(F115,'Horario salida'!$C$3:$E$32,3,FALSE),N115-1,N115) -> 25 | S115: =IF(O115<VLOOKUP(F115,'Horario salida'!$C$3:$E$32,3,FALSE),O115+60,O115) -> 57 | T115: =IF(P115<VLOOKUP(F115,'Horario salida'!$C$3:$F$32,4,FALSE),S115-1,S115) -> 57 | U115: =IF(P115<VLOOKUP(F115,'Horario salida'!$C$3:$F$32,4,FALSE),P115+100,P115) -> 16 | Y115: =R115-VLOOKUP(F115,'Horario salida'!$C$3:$D$34,2,FALSE) -> 24 | Z115: =T115-VLOOKUP(F115,'Horario salida'!$C$3:$E$32,3,FALSE) -> 20 | AA115: =U115-VLOOKUP(F115,'Horario salida'!$C$3:$F$32,4,FALSE) -> 16 | AC115: =TEXT(Y115,"00") -> 24 | AD115: =TEXT(Z115,"00") -> 20 | AE115: =TEXT(AA115,"00") -> 16
B116: 24 | C116: 237 | D116: =VLOOKUP(C116,'1 - Dorsales clubs'!B:C,2,FALSE) -> SAMUEL GRACIA | E116: =VLOOKUP(D116,'1 - Dorsales clubs'!C:D,2,FALSE) -> CD MONKAYAK HIBERUS | F116: HCK1 | G116: =VLOOKUP(C116,TºCrono!B:C,2,FALSE) -> 264074 | I116: =IF(G116="D","DESCALIF.",IF(G116="A","ABANDONO",IF(G116="N","NO PRES.",CONCATENATE(AC116,":",AD116,":",AE116)))) -> 25:03:74 | K116: =LEN(G116) -> 6 | N116: =VALUE(MID(G116,1,K116-4)) -> 26 | O116: =VALUE(MID(G116,K116-4+1,2)) -> 40 | P116: =VALUE(RIGHT(G116,2)) -> 74 | R116: =IF(O116<VLOOKUP(F116,'Horario salida'!$C$3:$E$32,3,FALSE),N116-1,N116) -> 26 | S116: =IF(O116<VLOOKUP(F116,'Horario salida'!$C$3:$E$32,3,FALSE),O116+60,O116) -> 40 | T116: =IF(P116<VLOOKUP(F116,'Horario salida'!$C$3:$F$32,4,FALSE),S116-1,S116) -> 40 | U116: =IF(P116<VLOOKUP(F116,'Horario salida'!$C$3:$F$32,4,FALSE),P116+100,P116) -> 74 | Y116: =R116-VLOOKUP(F116,'Horario salida'!$C$3:$D$34,2,FALSE) -> 25 | Z116: =T116-VLOOKUP(F116,'Horario salida'!$C$3:$E$32,3,FALSE) -> 3 | AA116: =U116-VLOOKUP(F116,'Horario salida'!$C$3:$F$32,4,FALSE) -> 74 | AC116: =TEXT(Y116,"00") -> 25 | AD116: =TEXT(Z116,"00") -> 03 | AE116: =TEXT(AA116,"00") -> 74
B117: 23 | C117: 165 | D117: =VLOOKUP(C117,'1 - Dorsales clubs'!B:C,2,FALSE) -> Hugo Martín Gómez | E117: =VLOOKUP(D117,'1 - Dorsales clubs'!C:D,2,FALSE) -> Santiagotarrak | F117: HCK1 | G117: =VLOOKUP(C117,TºCrono!B:C,2,FALSE) -> 265515 | I117: =IF(G117="D","DESCALIF.",IF(G117="A","ABANDONO",IF(G117="N","NO PRES.",CONCATENATE(AC117,":",AD117,":",AE117)))) -> 25:18:15 | K117: =LEN(G117) -> 6 | N117: =VALUE(MID(G117,1,K117-4)) -> 26 | O117: =VALUE(MID(G117,K117-4+1,2)) -> 55 | P117: =VALUE(RIGHT(G117,2)) -> 15 | R117: =IF(O117<VLOOKUP(F117,'Horario salida'!$C$3:$E$32,3,FALSE),N117-1,N117) -> 26 | S117: =IF(O117<VLOOKUP(F117,'Horario salida'!$C$3:$E$32,3,FALSE),O117+60,O117) -> 55 | T117: =IF(P117<VLOOKUP(F117,'Horario salida'!$C$3:$F$32,4,FALSE),S117-1,S117) -> 55 | U117: =IF(P117<VLOOKUP(F117,'Horario salida'!$C$3:$F$32,4,FALSE),P117+100,P117) -> 15 | Y117: =R117-VLOOKUP(F117,'Horario salida'!$C$3:$D$34,2,FALSE) -> 25 | Z117: =T117-VLOOKUP(F117,'Horario salida'!$C$3:$E$32,3,FALSE) -> 18 | AA117: =U117-VLOOKUP(F117,'Horario salida'!$C$3:$F$32,4,FALSE) -> 15 | AC117: =TEXT(Y117,"00") -> 25 | AD117: =TEXT(Z117,"00") -> 18 | AE117: =TEXT(AA117,"00") -> 15
B118: 22 | C118: 210 | D118: =VLOOKUP(C118,'1 - Dorsales clubs'!B:C,2,FALSE) -> GABRIEL RODRÍGUEZ GONZÁLEZ | E118: =VLOOKUP(D118,'1 - Dorsales clubs'!C:D,2,FALSE) -> CLUB D. PALENTINO PIRAGÜISMO | F118: HCK1 | G118: =VLOOKUP(C118,TºCrono!B:C,2,FALSE) -> 265668 | I118: =IF(G118="D","DESCALIF.",IF(G118="A","ABANDONO",IF(G118="N","NO PRES.",CONCATENATE(AC118,":",AD118,":",AE118)))) -> 25:19:68 | K118: =LEN(G118) -> 6 | N118: =VALUE(MID(G118,1,K118-4)) -> 26 | O118: =VALUE(MID(G118,K118-4+1,2)) -> 56 | P118: =VALUE(RIGHT(G118,2)) -> 68 | R118: =IF(O118<VLOOKUP(F118,'Horario salida'!$C$3:$E$32,3,FALSE),N118-1,N118) -> 26 | S118: =IF(O118<VLOOKUP(F118,'Horario salida'!$C$3:$E$32,3,FALSE),O118+60,O118) -> 56 | T118: =IF(P118<VLOOKUP(F118,'Horario salida'!$C$3:$F$32,4,FALSE),S118-1,S118) -> 56 | U118: =IF(P118<VLOOKUP(F118,'Horario salida'!$C$3:$F$32,4,FALSE),P118+100,P118) -> 68 | Y118: =R118-VLOOKUP(F118,'Horario salida'!$C$3:$D$34,2,FALSE) -> 25 | Z118: =T118-VLOOKUP(F118,'Horario salida'!$C$3:$E$32,3,FALSE) -> 19 | AA118: =U118-VLOOKUP(F118,'Horario salida'!$C$3:$F$32,4,FALSE) -> 68 | AC118: =TEXT(Y118,"00") -> 25 | AD118: =TEXT(Z118,"00") -> 19 | AE118: =TEXT(AA118,"00") -> 68
B119: 21 | C119: 238 | D119: =VLOOKUP(C119,'1 - Dorsales clubs'!B:C,2,FALSE) -> PEDRO GUILLEN | E119: =VLOOKUP(D119,'1 - Dorsales clubs'!C:D,2,FALSE) -> CD MONKAYAK HIBERUS | F119: HCK1 | G119: =VLOOKUP(C119,TºCrono!B:C,2,FALSE) -> 270059 | I119: =IF(G119="D","DESCALIF.",IF(G119="A","ABANDONO",IF(G119="N","NO PRES.",CONCATENATE(AC119,":",AD119,":",AE119)))) -> 25:23:59 | K119: =LEN(G119) -> 6 | N119: =VALUE(MID(G119,1,K119-4)) -> 27 | O119: =VALUE(MID(G119,K119-4+1,2)) -> 0 | P119: =VALUE(RIGHT(G119,2)) -> 59 | R119: =IF(O119<VLOOKUP(F119,'Horario salida'!$C$3:$E$32,3,FALSE),N119-1,N119) -> 26 | S119: =IF(O119<VLOOKUP(F119,'Horario salida'!$C$3:$E$32,3,FALSE),O119+60,O119) -> 60 | T119: =IF(P119<VLOOKUP(F119,'Horario salida'!$C$3:$F$32,4,FALSE),S119-1,S119) -> 60 | U119: =IF(P119<VLOOKUP(F119,'Horario salida'!$C$3:$F$32,4,FALSE),P119+100,P119) -> 59 | Y119: =R119-VLOOKUP(F119,'Horario salida'!$C$3:$D$34,2,FALSE) -> 25 | Z119: =T119-VLOOKUP(F119,'Horario salida'!$C$3:$E$32,3,FALSE) -> 23 | AA119: =U119-VLOOKUP(F119,'Horario salida'!$C$3:$F$32,4,FALSE) -> 59 | AC119: =TEXT(Y119,"00") -> 25 | AD119: =TEXT(Z119,"00") -> 23 | AE119: =TEXT(AA119,"00") -> 59
B120: 20 | C120: 236 | D120: =VLOOKUP(C120,'1 - Dorsales clubs'!B:C,2,FALSE) -> JORGE ORIGÚEN | E120: =VLOOKUP(D120,'1 - Dorsales clubs'!C:D,2,FALSE) -> CD MONKAYAK HIBERUS | F120: HCK1 | G120: =VLOOKUP(C120,TºCrono!B:C,2,FALSE) -> 270123 | I120: =IF(G120="D","DESCALIF.",IF(G120="A","ABANDONO",IF(G120="N","NO PRES.",CONCATENATE(AC120,":",AD120,":",AE120)))) -> 25:24:23 | K120: =LEN(G120) -> 6 | N120: =VALUE(MID(G120,1,K120-4)) -> 27 | O120: =VALUE(MID(G120,K120-4+1,2)) -> 1 | P120: =VALUE(RIGHT(G120,2)) -> 23 | R120: =IF(O120<VLOOKUP(F120,'Horario salida'!$C$3:$E$32,3,FALSE),N120-1,N120) -> 26 | S120: =IF(O120<VLOOKUP(F120,'Horario salida'!$C$3:$E$32,3,FALSE),O120+60,O120) -> 61 | T120: =IF(P120<VLOOKUP(F120,'Horario salida'!$C$3:$F$32,4,FALSE),S120-1,S120) -> 61 | U120: =IF(P120<VLOOKUP(F120,'Horario salida'!$C$3:$F$32,4,FALSE),P120+100,P120) -> 23 | Y120: =R120-VLOOKUP(F120,'Horario salida'!$C$3:$D$34,2,FALSE) -> 25 | Z120: =T120-VLOOKUP(F120,'Horario salida'!$C$3:$E$32,3,FALSE) -> 24 | AA120: =U120-VLOOKUP(F120,'Horario salida'!$C$3:$F$32,4,FALSE) -> 23 | AC120: =TEXT(Y120,"00") -> 25 | AD120: =TEXT(Z120,"00") -> 24 | AE120: =TEXT(AA120,"00") -> 23
...

Sheet TºCrono
B1: DORSAL | C1: TIEMPO | D1: NOMBRE | E1: CATEGORÍA
B2: 91 | C2: 212147 | D2: =VLOOKUP(B2,'1 - Dorsales clubs'!B:C,2,FALSE) -> JAIME RAINERO PARRA | E2: =_xlfn.XLOOKUP(B2,T_DORSALES[DORSAL],T_DORSALES[CATEGORÍA]) -> HSK1
B3: 272 | C3: 212267 | D3: =VLOOKUP(B3,'1 - Dorsales clubs'!B:C,2,FALSE) -> Pablo Zamora Bustamante | E3: =_xlfn.XLOOKUP(B3,T_DORSALES[DORSAL],T_DORSALES[CATEGORÍA]) -> HSK1
B4: 95 | C4: 212382 | D4: =VLOOKUP(B4,'1 - Dorsales clubs'!B:C,2,FALSE) -> IKER BOE GARCIA | E4: =_xlfn.XLOOKUP(B4,T_DORSALES[DORSAL],T_DORSALES[CATEGORÍA]) -> HSK1
B5: 255 | C5: 213293 | D5: =VLOOKUP(B5,'1 - Dorsales clubs'!B:C,2,FALSE) -> Francesco Urdiroz Agati | E5: =_xlfn.XLOOKUP(B5,T_DORSALES[DORSAL],T_DORSALES[CATEGORÍA]) -> HSK1 | G5: A | H5: ABANDONO
B6: 261 | C6: 215001 | D6: =VLOOKUP(B6,'1 - Dorsales clubs'!B:C,2,FALSE) -> Aimar Amundarain Aguirre | E6: =_xlfn.XLOOKUP(B6,T_DORSALES[DORSAL],T_DORSALES[CATEGORÍA]) -> HSK1 | G6: N | H6: NO PRESENTADO
B7: 123 | C7: 220887 | D7: =VLOOKUP(B7,'1 - Dorsales clubs'!B:C,2,FALSE) -> Mikel Velasco | E7: =_xlfn.XLOOKUP(B7,T_DORSALES[DORSAL],T_DORSALES[CATEGORÍA]) -> HSK1 | G7: D | H7: DESCALIFICADO
B8: 209 | C8: 220935 | D8: =VLOOKUP(B8,'1 - Dorsales clubs'!B:C,2,FALSE) -> JAIME SANTOS CRIADO SORS | E8: =_xlfn.XLOOKUP(B8,T_DORSALES[DORSAL],T_DORSALES[CATEGORÍA]) -> HSK1
B9: 92 | C9: 220980 | D9: =VLOOKUP(B9,'1 - Dorsales clubs'!B:C,2,FALSE) -> PABLO MARTÍNEZ LÓPEZ | E9: =_xlfn.XLOOKUP(B9,T_DORSALES[DORSAL],T_DORSALES[CATEGORÍA]) -> HSK1
B10: 254 | C10: 230635 | D10: =VLOOKUP(B10,'1 - Dorsales clubs'!B:C,2,FALSE) -> Aritz Martiartu Orta | E10: =_xlfn.XLOOKUP(B10,T_DORSALES[DORSAL],T_DORSALES[CATEGORÍA]) -> HSK1
B11: 269 | C11: 233034 | D11: =VLOOKUP(B11,'1 - Dorsales clubs'!B:C,2,FALSE) -> David Machado Herrezuelo | E11: =_xlfn.XLOOKUP(B11,T_DORSALES[DORSAL],T_DORSALES[CATEGORÍA]) -> HVK1_35
B12: 36 | C12: 233168 | D12: =VLOOKUP(B12,'1 - Dorsales clubs'!B:C,2,FALSE) -> Jose Ignacio Sanchez Jimenez | E12: =_xlfn.XLOOKUP(B12,T_DORSALES[DORSAL],T_DORSALES[CATEGORÍA]) -> HVK1_50
B13: 217 | C13: 233302 | D13: =VLOOKUP(B13,'1 - Dorsales clubs'!B:C,2,FALSE) -> MARCO A. SANTOS GARCÍA | E13: =_xlfn.XLOOKUP(B13,T_DORSALES[DORSAL],T_DORSALES[CATEGORÍA]) -> HVK1_50
B14: 241 | C14: 235407 | D14: =VLOOKUP(B14,'1 - Dorsales clubs'!B:C,2,FALSE) -> LUIS MARTINEZ | E14: =_xlfn.XLOOKUP(B14,T_DORSALES[DORSAL],T_DORSALES[CATEGORÍA]) -> HSK1
B15: 208 | C15: 235556 | D15: =VLOOKUP(B15,'1 - Dorsales clubs'!B:C,2,FALSE) -> SERGIO MEDINA MERINO | E15: =_xlfn.XLOOKUP(B15,T_DORSALES[DORSAL],T_DORSALES[CATEGORÍA]) -> HSK1
B16: 175 | C16: 240215 | D16: =VLOOKUP(B16,'1 - Dorsales clubs'!B:C,2,FALSE) -> ALEX ASENSIO BOJ | E16: =_xlfn.XLOOKUP(B16,T_DORSALES[DORSAL],T_DORSALES[CATEGORÍA]) -> HSK1
B17: 107 | C17: 240906 | D17: =VLOOKUP(B17,'1 - Dorsales clubs'!B:C,2,FALSE) -> HÉCTOR VELASCO ÁLVAREZ | E17: =_xlfn.XLOOKUP(B17,T_DORSALES[DORSAL],T_DORSALES[CATEGORÍA]) -> HJK1
B18: 45 | C18: 241013 | D18: =VLOOKUP(B18,'1 - Dorsales clubs'!B:C,2,FALSE) -> Víctor Bobillo | E18: =_xlfn.XLOOKUP(B18,T_DORSALES[DORSAL],T_DORSALES[CATEGORÍA]) -> HVK1_35
B19: 192 | C19: 241346 | D19: =VLOOKUP(B19,'1 - Dorsales clubs'!B:C,2,FALSE) -> JORGE PEÑA CARNICER | E19: =_xlfn.XLOOKUP(B19,T_DORSALES[DORSAL],T_DORSALES[CATEGORÍA]) -> HJK1
... B66: 176 | C66: 292188 | D66: =VLOOKUP(B66,'1 - Dorsales clubs'!B:C,2,FALSE) -> IGNACIO BELTRAN DIESTRE | E66: =_xlfn.XLOOKUP(B66,T_DORSALES[DORSAL],T_DORSALES[CATEGORÍA]) -> HVK1_50
C67: 292499 | D67: =VLOOKUP(B67,'1 - Dorsales clubs'!B:C,2,FALSE) -> #N/A | E67: =_xlfn.XLOOKUP(B67,T_DORSALES[DORSAL],T_DORSALES[CATEGORÍA]) -> #N/A
B68: 7 | C68: 292682 | D68: =VLOOKUP(B68,'1 - Dorsales clubs'!B:C,2,FALSE) -> Aarón Novoa Antonio | E68: =_xlfn.XLOOKUP(B68,T_DORSALES[DORSAL],T_DORSALES[CATEGORÍA]) -> HCK1
B69: 185 | C69: 293695 | D69: =VLOOKUP(B69,'1 - Dorsales clubs'!B:C,2,FALSE) -> SIRA GÁLVEZ ORRIOS | E69: =_xlfn.XLOOKUP(B69,T_DORSALES[DORSAL],T_DORSALES[CATEGORÍA]) -> MSK1
B70: 89 | C70: 293851 | D70: =VLOOKUP(B70,'1 - Dorsales clubs'!B:C,2,FALSE) -> MALENA MARCOS RAMIREZ | E70: =_xlfn.XLOOKUP(B70,T_DORSALES[DORSAL],T_DORSALES[CATEGORÍA]) -> MCC1
B71: 9 | C71: 293995 | D71: =VLOOKUP(B71,'1 - Dorsales clubs'!B:C,2,FALSE) -> Sandra Lopez Iriarte | E71: =_xlfn.XLOOKUP(B71,T_DORSALES[DORSAL],T_DORSALES[CATEGORÍA]) -> MJK1
B72: 243 | C72: 294905 | D72: =VLOOKUP(B72,'1 - Dorsales clubs'!B:C,2,FALSE) -> PASCUAL LOPEZ | E72: =_xlfn.XLOOKUP(B72,T_DORSALES[DORSAL],T_DORSALES[CATEGORÍA]) -> HVK1_60
B73: 100 | C73: 300867 | D73: =VLOOKUP(B73,'1 - Dorsales clubs'!B:C,2,FALSE) -> IRENE FUENTES MONTERO | E73: =_xlfn.XLOOKUP(B73,T_DORSALES[DORSAL],T_DORSALES[CATEGORÍA]) -> MCK1
B74: 37 | C74: 304149 | D74: =VLOOKUP(B74,'1 - Dorsales clubs'!B:C,2,FALSE) -> Diego Ruiz Martinez | E74: =_xlfn.XLOOKUP(B74,T_DORSALES[DORSAL],T_DORSALES[CATEGORÍA]) -> HVK1_35
B75: 104 | C75: 304696 | D75: =VLOOKUP(B75,'1 - Dorsales clubs'!B:C,2,FALSE) -> UXUE ALARCÓN RIAÑO | E75: =_xlfn.XLOOKUP(B75,T_DORSALES[DORSAL],T_DORSALES[CATEGORÍA]) -> MCK1
B76: 235 | C76: 304822 | D76: =VLOOKUP(B76,'1 - Dorsales clubs'!B:C,2,FALSE) -> ASIER LOSTAO | E76: =_xlfn.XLOOKUP(B76,T_DORSALES[DORSAL],T_DORSALES[CATEGORÍA]) -> HCK1
B77: 35 | C77: 305644 | D77: =VLOOKUP(B77,'1 - Dorsales clubs'!B:C,2,FALSE) -> Alex Sanmartin Maull | E77: =_xlfn.XLOOKUP(B77,T_DORSALES[DORSAL],T_DORSALES[CATEGORÍA]) -> HVK1_50
B78: 98 | C78: 310603 | D78: =VLOOKUP(B78,'1 - Dorsales clubs'!B:C,2,FALSE) -> ALBA PÉREZ MARTIN | E78: =_xlfn.XLOOKUP(B78,T_DORSALES[DORSAL],T_DORSALES[CATEGORÍA]) -> MJK1
B79: 244 | C79: 312886 | D79: =VLOOKUP(B79,'1 - Dorsales clubs'!B:C,2,FALSE) -> SELMA PALACIN | E79: =_xlfn.XLOOKUP(B79,T_DORSALES[DORSAL],T_DORSALES[CATEGORÍA]) -> MVK1_35
... B136: 231 | C136: 275320 | D136: =VLOOKUP(B136,'1 - Dorsales clubs'!B:C,2,FALSE) -> PABLO ECHANIZ | E136: =_xlfn.XLOOKUP(B136,T_DORSALES[DORSAL],T_DORSALES[CATEGORÍA]) -> HSC1
B137: 106 | C137: DESCALIF. | D137: =VLOOKUP(B137,'1 - Dorsales clubs'!B:C,2,FALSE) -> MARTIN GUINEA URBINA | E137: =_xlfn.XLOOKUP(B137,T_DORSALES[DORSAL],T_DORSALES[CATEGORÍA]) -> HAK1
B138: 139 | C138: 84612 | D138: =VLOOKUP(B138,'1 - Dorsales clubs'!B:C,2,FALSE) -> Oriol Cabello Fernández | E138: =_xlfn.XLOOKUP(B138,T_DORSALES[DORSAL],T_DORSALES[CATEGORÍA]) -> HAK1
B139: 62 | C139: 85774 | D139: =VLOOKUP(B139,'1 - Dorsales clubs'!B:C,2,FALSE) -> HECTOR ASENSIO GUERRA | E139: =_xlfn.XLOOKUP(B139,T_DORSALES[DORSAL],T_DORSALES[CATEGORÍA]) -> HAK1
B140: 63 | C140: 90787 | D140: =VLOOKUP(B140,'1 - Dorsales clubs'!B:C,2,FALSE) -> FERNANDO SARDON ARENAS | E140: =_xlfn.XLOOKUP(B140,T_DORSALES[DORSAL],T_DORSALES[CATEGORÍA]) -> HAK1
B141: 138 | C141: 90876 | D141: =VLOOKUP(B141,'1 - Dorsales clubs'!B:C,2,FALSE) -> Ixel Archanco García | E141: =_xlfn.XLOOKUP(B141,T_DORSALES[DORSAL],T_DORSALES[CATEGORÍA]) -> MAK1
B142: 151 | C142: 90952 | D142: =VLOOKUP(B142,'1 - Dorsales clubs'!B:C,2,FALSE) -> Anne Gomez González | E142: =_xlfn.XLOOKUP(B142,T_DORSALES[DORSAL],T_DORSALES[CATEGORÍA]) -> MAK1
B143: 4 | C143: 93905 | D143: =VLOOKUP(B143,'1 - Dorsales clubs'!B:C,2,FALSE) -> Aimar Arnedo Jimenez | E143: =_xlfn.XLOOKUP(B143,T_DORSALES[DORSAL],T_DORSALES[CATEGORÍA]) -> HAK1
B144: 140 | C144: 94003 | D144: =VLOOKUP(B144,'1 - Dorsales clubs'!B:C,2,FALSE) -> David Bykovets | E144: =_xlfn.XLOOKUP(B144,T_DORSALES[DORSAL],T_DORSALES[CATEGORÍA]) -> HAK1
B145: 64 | C145: 95067 | D145: =VLOOKUP(B145,'1 - Dorsales clubs'!B:C,2,FALSE) -> ADRIAN ERCILLA RODRGUEZ | E145: =_xlfn.XLOOKUP(B145,T_DORSALES[DORSAL],T_DORSALES[CATEGORÍA]) -> HAK1
B146: 51 | C146: 95748 | D146: =VLOOKUP(B146,'1 - Dorsales clubs'!B:C,2,FALSE) -> SOFIA GOMEZ ROLDAN | E146: =_xlfn.XLOOKUP(B146,T_DORSALES[DORSAL],T_DORSALES[CATEGORÍA]) -> MBK1
B147: 152 | C147: 100063 | D147: =VLOOKUP(B147,'1 - Dorsales clubs'!B:C,2,FALSE) -> Lide Caballero Otermin | E147: =_xlfn.XLOOKUP(B147,T_DORSALES[DORSAL],T_DORSALES[CATEGORÍA]) -> MAK1
B148: 59 | C148: 100992 | D148: =VLOOKUP(B148,'1 - Dorsales clubs'!B:C,2,FALSE) -> LUCRECIA LOBILLA CRISTOFOLI | E148: =_xlfn.XLOOKUP(B148,T_DORSALES[DORSAL],T_DORSALES[CATEGORÍA]) -> MAK1
B149: 65 | C149: 101184 | D149: =VLOOKUP(B149,'1 - Dorsales clubs'!B:C,2,FALSE) -> LUCAS GARCIA PEREZ | E149: =_xlfn.XLOOKUP(B149,T_DORSALES[DORSAL],T_DORSALES[CATEGORÍA]) -> HAK1
... B203: 117 | C203: 222343 | D203: =VLOOKUP(B203,'1 - Dorsales clubs'!B:C,2,FALSE) -> IKER BOE - LIDIA DIEZ | E203: =_xlfn.XLOOKUP(B203,T_DORSALES[DORSAL],T_DORSALES[CATEGORÍA]) -> MixtaK2
B204: 116 | C204: DESCALIF. | D204: =VLOOKUP(B204,'1 - Dorsales clubs'!B:C,2,FALSE) -> MARIO GONZÁLEZ Y HÉCTOR VELASCO | E204: =_xlfn.XLOOKUP(B204,T_DORSALES[DORSAL],T_DORSALES[CATEGORÍA]) -> HJK2
B205: 201 | C205: 222613 | D205: =VLOOKUP(B205,'1 - Dorsales clubs'!B:C,2,FALSE) -> MATEO PULIDO BERDUN - JORGE PEÑA CARNICER | E205: =_xlfn.XLOOKUP(B205,T_DORSALES[DORSAL],T_DORSALES[CATEGORÍA]) -> HJK2
B206: 145 | C206: 223124 | D206: =VLOOKUP(B206,'1 - Dorsales clubs'!B:C,2,FALSE) -> Dánae Sanmartín Riz - Jaimne Rainero Parra | E206: =_xlfn.XLOOKUP(B206,T_DORSALES[DORSAL],T_DORSALES[CATEGORÍA]) -> MixtaK2
B207: 125 | C207: 225410 | D207: =VLOOKUP(B207,'1 - Dorsales clubs'!B:C,2,FALSE) -> Izar Libano Sanchez - Saioa Perez Garcia | E207: =_xlfn.XLOOKUP(B207,T_DORSALES[DORSAL],T_DORSALES[CATEGORÍA]) -> MSK2
B208: 204 | C208: 225523 | D208: =VLOOKUP(B208,'1 - Dorsales clubs'!B:C,2,FALSE) -> ALEX ASENSIO BOJ - FERNANDO BENTUÉ MARTÍNEZ | E208: =_xlfn.XLOOKUP(B208,T_DORSALES[DORSAL],T_DORSALES[CATEGORÍA]) -> HSK2
B209: 248 | C209: 225857 | D209: =VLOOKUP(B209,'1 - Dorsales clubs'!B:C,2,FALSE) -> SAMUEL GRACIA -PEDRO GUILLEN | E209: =_xlfn.XLOOKUP(B209,T_DORSALES[DORSAL],T_DORSALES[CATEGORÍA]) -> HJK2
B210: 115 | C210: 231604 | D210: =VLOOKUP(B210,'1 - Dorsales clubs'!B:C,2,FALSE) -> CLAUDIA LARREA Y CARLOS LARREA | E210: =_xlfn.XLOOKUP(B210,T_DORSALES[DORSAL],T_DORSALES[CATEGORÍA]) -> MixtaK2
B211: 249 | C211: 233903 | D211: =VLOOKUP(B211,'1 - Dorsales clubs'!B:C,2,FALSE) -> MARKEL COTERA- SERGIO SANCHEZ | E211: =_xlfn.XLOOKUP(B211,T_DORSALES[DORSAL],T_DORSALES[CATEGORÍA]) -> HSK2
B212: 202 | C212: 234279 | D212: =VLOOKUP(B212,'1 - Dorsales clubs'!B:C,2,FALSE) -> MIGUEL CATIVIELA CAMACHO - SIRA GÁLVEZ ORRIOS | E212: =_xlfn.XLOOKUP(B212,T_DORSALES[DORSAL],T_DORSALES[CATEGORÍA]) -> MixtaK2
B213: 90 | C213: 234965 | D213: =VLOOKUP(B213,'1 - Dorsales clubs'!B:C,2,FALSE) -> AITANA GASTALDO ARIZA - JUAN CARLOS SANCHEZ-BEATO | E213: =_xlfn.XLOOKUP(B213,T_DORSALES[DORSAL],T_DORSALES[CATEGORÍA]) -> MixtaK2
B214: 267 | C214: 235245 | D214: =VLOOKUP(B214,'1 - Dorsales clubs'!B:C,2,FALSE) -> JOSE LUIS GIL RENEDO - ENRIQUE TORRES PEDRIZA | E214: =_xlfn.XLOOKUP(B214,T_DORSALES[DORSAL],T_DORSALES[CATEGORÍA]) -> HVK2
B215: 114 | C215: 235861 | D215: =VLOOKUP(B215,'1 - Dorsales clubs'!B:C,2,FALSE) -> ANDER OCHOA E IBAI GARCIA | E215: =_xlfn.XLOOKUP(B215,T_DORSALES[DORSAL],T_DORSALES[CATEGORÍA]) -> HSK2
B216: 41 | C216: 240126 | D216: =VLOOKUP(B216,'1 - Dorsales clubs'!B:C,2,FALSE) -> Carlos Reviriego Cuenca-Javier Rodero la Fuente | E216: =_xlfn.XLOOKUP(B216,T_DORSALES[DORSAL],T_DORSALES[CATEGORÍA]) -> HVK2
... B229: 251 | C229: 325652 | D229: =VLOOKUP(B229,'1 - Dorsales clubs'!B:C,2,FALSE) -> LAURA GARCIA -BELEN VILLAR | E229: =_xlfn.XLOOKUP(B229,T_DORSALES[DORSAL],T_DORSALES[CATEGORÍA]) -> MVK2
B230: 205 | C230: ABANDONO | D230: =VLOOKUP(B230,'1 - Dorsales clubs'!B:C,2,FALSE) -> FRANCISCO JAVIER RUIZ ROMEO - DANIEL HERNÁNDEZ BURRIEL | E230: =_xlfn.XLOOKUP(B230,T_DORSALES[DORSAL],T_DORSALES[CATEGORÍA]) -> HVK2
D231: =VLOOKUP(B231,'1 - Dorsales clubs'!B:C,2,FALSE) -> #N/A | E231: =_xlfn.XLOOKUP(B231,T_DORSALES[DORSAL],T_DORSALES[CATEGORÍA]) -> #N/A
D232: =VLOOKUP(B232,'1 - Dorsales clubs'!B:C,2,FALSE) -> #N/A | E232: =_xlfn.XLOOKUP(B232,T_DORSALES[DORSAL],T_DORSALES[CATEGORÍA]) -> #N/A
D233: =VLOOKUP(B233,'1 - Dorsales clubs'!B:C,2,FALSE) -> #N/A | E233: =_xlfn.XLOOKUP(B233,T_DORSALES[DORSAL],T_DORSALES[CATEGORÍA]) -> #N/A
D234: =VLOOKUP(B234,'1 - Dorsales clubs'!B:C,2,FALSE) -> #N/A | E234: =_xlfn.XLOOKUP(B234,T_DORSALES[DORSAL],T_DORSALES[CATEGORÍA]) -> #N/A
D235: =VLOOKUP(B235,'1 - Dorsales clubs'!B:C,2,FALSE) -> #N/A | E235: =_xlfn.XLOOKUP(B235,T_DORSALES[DORSAL],T_DORSALES[CATEGORÍA]) -> #N/A
D236: =VLOOKUP(B236,'1 - Dorsales clubs'!B:C,2,FALSE) -> #N/A | E236: =_xlfn.XLOOKUP(B236,T_DORSALES[DORSAL],T_DORSALES[CATEGORÍA]) -> #N/A
D237: =VLOOKUP(B237,'1 - Dorsales clubs'!B:C,2,FALSE) -> #N/A | E237: =_xlfn.XLOOKUP(B237,T_DORSALES[DORSAL],T_DORSALES[CATEGORÍA]) -> #N/A
D238: =VLOOKUP(B238,'1 - Dorsales clubs'!B:C,2,FALSE) -> #N/A | E238: =_xlfn.XLOOKUP(B238,T_DORSALES[DORSAL],T_DORSALES[CATEGORÍA]) -> #N/A
D239: =VLOOKUP(B239,'1 - Dorsales clubs'!B:C,2,FALSE) -> #N/A | E239: =_xlfn.XLOOKUP(B239,T_DORSALES[DORSAL],T_DORSALES[CATEGORÍA]) -> #N/A
D240: =VLOOKUP(B240,'1 - Dorsales clubs'!B:C,2,FALSE) -> #N/A | E240: =_xlfn.XLOOKUP(B240,T_DORSALES[DORSAL],T_DORSALES[CATEGORÍA]) -> #N/A
D241: =VLOOKUP(B241,'1 - Dorsales clubs'!B:C,2,FALSE) -> #N/A | E241: =_xlfn.XLOOKUP(B241,T_DORSALES[DORSAL],T_DORSALES[CATEGORÍA]) -> #N/A
D242: =VLOOKUP(B242,'1 - Dorsales clubs'!B:C,2,FALSE) -> #N/A | E242: =_xlfn.XLOOKUP(B242,T_DORSALES[DORSAL],T_DORSALES[CATEGORÍA]) -> #N/A
... D292: =VLOOKUP(B292,'1 - Dorsales clubs'!B:C,2,FALSE) -> #N/A | E292: =_xlfn.XLOOKUP(B292,T_DORSALES[DORSAL],T_DORSALES[CATEGORÍA]) -> #N/A

Sheet Horario salida
B2: ord | C2: cat | D2: mm | E2: ss | F2: cc
B3: 1a | C3: HSK1
B4: 1a | C4: HJK1
B5: 1b | C5: HVK1_35 | E5: 45
B6: 1b | C6: HVK1_50 | E6: 45
B7: 1b | C7: HVK1_60 | E7: 45
B8: 1c | C8: HCK1 | D8: 1 | E8: 37
B9: 1e | C9: MSK1 | D9: 2 | E9: 50
B10: 1e | C10: MJK1 | D10: 2 | E10: 50
B11: 1e | C11: MVK1_35 | D11: 2 | E11: 50
B12: 1e | C12: MVK1_50 | D12: 2 | E12: 50
B13: 1e | C13: MCK1 | D13: 2 | E13: 50
B14: 2a | C14: HIK1
B15: 2a | C15: MIK1
B16: 2b | C16: HSC1 | D16: 1 | E16: 55
B17: 2b | C17: HCC1 | D17: 1 | E17: 55
B18: 2b | C18: MCC1 | D18: 1 | E18: 55
B19: 3A | C19: HAK1
B20: 3A | C20: MAK1
B21: 3A | C21: HBK1
B22: 3A | C22: MBK1
B23: 3B | C23: HIC1 | D23: 1 | E23: 52
B24: 3B | C24: MIC1 | D24: 1 | E24: 52
B25: 3C | C25: HPK1 | D25: 2 | E25: 50
B26: 3C | C26: MPK1
B27: 4 | C27: HSK2
B28: 4 | C28: MSK2
B29: 4 | C29: MixtaK2
B30: 4 | C30: HJK2
B31: 4 | C31: MJK2
B32: 4 | C32: HVK2
B33: 4 | C33: MVK2
C34: HIC1

Sheet Clasificacion por Clubs
B2: =ENTREPUENTES!B2 -> X Regata Entrepuentes - ENHOL Ebrokayak - Tudela
B3: =ENTREPUENTES!B3 -> Lugar, fecha y hora: Río Ebro, 20/09/2026
B4: =ENTREPUENTES!B4 -> Organiza: ENHOL-Ebrokayak - Federación Navarra de Piragüismo
C6: CLASIFICACION GENERAL
C7: PTOS | D7: CLUB
C8: =SUMIF(ENTREPUENTES!E$8:E$336,D8,ENTREPUENTES!B$8:B$336) -> 488 | D8: CD MONKAYAK HIBERUS
C9: =SUMIF(ENTREPUENTES!E$8:E$336,D9,ENTREPUENTES!B$8:B$336) -> 632 | D9: CENTRO NATACIÓN HELIOS
C10: =SUMIF(ENTREPUENTES!E$8:E$336,D10,ENTREPUENTES!B$8:B$336) -> 29 | D10: CLUB D. FUENTES CARRIONAS
C11: =SUMIF(ENTREPUENTES!E$8:E$336,D11,ENTREPUENTES!B$8:B$336) -> 176 | D11: CLUB D. PALENTINO PIRAGÜISMO
C12: =SUMIF(ENTREPUENTES!E$8:E$336,D12,ENTREPUENTES!B$8:B$336) -> 800 | D12: Club Deportivo enhol Ebrokayak
C13: =SUMIF(ENTREPUENTES!E$8:E$336,D13,ENTREPUENTES!B$8:B$336) -> 966 | D13: CLUB ESCUELA DE PIRAGUISMO ARANJUEZ
C14: =SUMIF(ENTREPUENTES!E$8:E$336,D14,ENTREPUENTES!B$8:B$336) -> 105 | D14: Club Natación Pamplona
C15: =SUMIF(ENTREPUENTES!E$8:E$336,D15,ENTREPUENTES!B$8:B$336) -> 140 | D15: Club Náutico de Zaragoza
C16: =SUMIF(ENTREPUENTES!E$8:E$336,D16,ENTREPUENTES!B$8:B$336) -> 502 | D16: CLUB PIRAGÜISMO ANTARES
C17: =SUMIF(ENTREPUENTES!E$8:E$336,D17,ENTREPUENTES!B$8:B$336) -> 181 | D17: CLUB PIRAGUISMO GETXO-GETXO KAYAK
C18: =SUMIF(ENTREPUENTES!E$8:E$336,D18,ENTREPUENTES!B$8:B$336) -> 29 | D18: Club Piragüismo Las Grajas
C19: =SUMIF(ENTREPUENTES!E$8:E$336,D19,ENTREPUENTES!B$8:B$336) -> 268 | D19: Club Piragüismo Pamplona
... C24: =SUMIF(ENTREPUENTES!E$8:E$336,D24,ENTREPUENTES!B$8:B$336) -> 459 | D24: Santiagotarrak
C25: =SUMIF(ENTREPUENTES!E$8:E$3404,D25,ENTREPUENTES!B$8:B$336) -> 0 | D25: SDR ARENAS
C26: =SUMIF(ENTREPUENTES!E$8:E$336,D26,ENTREPUENTES!B$8:B$336) -> 89 | D26: Zumaiako Urola Itsas Adar
C27: =SUMIF(ENTREPUENTES!E$8:E$293,D27,ENTREPUENTES!B$8:B$293) -> 0
C28: =SUMIF(ENTREPUENTES!E$8:E$293,D28,ENTREPUENTES!B$8:B$293) -> 0
C29: =SUMIF(ENTREPUENTES!E$8:E$293,D29,ENTREPUENTES!B$8:B$293) -> 0
C30: =SUMIF(ENTREPUENTES!E$8:E$293,D30,ENTREPUENTES!B$8:B$293) -> 0
C31: =SUMIF(ENTREPUENTES!E$8:E$293,D31,ENTREPUENTES!B$8:B$293) -> 0
C32: =SUMIF(ENTREPUENTES!E$8:E$293,D32,ENTREPUENTES!B$8:B$293) -> 0

Sheet DATOS
D3: =SUM(D5:D35) -> 232
C4: CATEGORÍA | D4: Nº INSCRITOS | F4: CLUB | G4: Nº PIRAGUAS
C5: HSK1 | D5: =COUNTIF('1 - Dorsales clubs'!$E$6:$E$527,C5) -> 21 | F5: ANTARES | G5: =COUNTIF('1 - Dorsales clubs'!$D$6:$D$333,F5) -> 0
C6: HJK1 | D6: =COUNTIF('1 - Dorsales clubs'!$E$6:$E$527,C6) -> 4 | F6: CD MONKAYAK HIBERUS | G6: =COUNTIF('1 - Dorsales clubs'!$D$6:$D$333,F6) -> 24
C7: HVK1_35 | D7: =COUNTIF('1 - Dorsales clubs'!$E$6:$E$527,C7) -> 10 | F7: CENTRO NATACION HELIOS | G7: =COUNTIF('1 - Dorsales clubs'!$D$6:$D$333,F7) -> 0
C8: HVK1_50 | D8: =COUNTIF('1 - Dorsales clubs'!$E$6:$E$527,C8) -> 14 | F8: CLUB DE PIRAGÜISMO LA HÍPICA DE LOGROÑO | G8: =COUNTIF('1 - Dorsales clubs'!$D$6:$D$333,F8) -> 0
C9: HVK1_60 | D9: =COUNTIF('1 - Dorsales clubs'!$E$6:$E$527,C9) -> 9 | F9: Club Natación Pamplona | G9: =COUNTIF('1 - Dorsales clubs'!$D$6:$D$333,F9) -> 4
C10: MSK1 | D10: =COUNTIF('1 - Dorsales clubs'!$E$6:$E$527,C10) -> 4 | F10: CLUB NÁUTICO ZARAGOZA | G10: =COUNTIF('1 - Dorsales clubs'!$D$6:$D$333,F10) -> 0
C11: MJK1 | D11: =COUNTIF('1 - Dorsales clubs'!$E$6:$E$527,C11) -> 6 | F11: Club Piragüiso Pamplona | G11: =COUNTIF('1 - Dorsales clubs'!$D$6:$D$333,F11) -> 0
C12: MVK1_35 | D12: =COUNTIF('1 - Dorsales clubs'!$E$6:$E$527,C12) -> 4 | F12: DONOSTIA KAYAK | G12: =COUNTIF('1 - Dorsales clubs'!$D$6:$D$333,F12) -> 0
C13: MVK1_50 | D13: =COUNTIF('1 - Dorsales clubs'!$E$6:$E$527,C13) -> 2 | F13: EBROKAYAK | G13: =COUNTIF('1 - Dorsales clubs'!$D$6:$D$333,F13) -> 0
C14: MVK1_60 | D14: =COUNTIF('1 - Dorsales clubs'!$E$6:$E$527,C14) -> 0 | F14: GETXO KAYAKA | G14: =COUNTIF('1 - Dorsales clubs'!$D$6:$D$333,F14) -> 0
C15: HCK1 | D15: =COUNTIF('1 - Dorsales clubs'!$E$6:$E$527,C15) -> 14 | F15: ITXAS GAIN | G15: =COUNTIF('1 - Dorsales clubs'!$D$6:$D$333,F15) -> 0
C16: HIK1 | D16: =COUNTIF('1 - Dorsales clubs'!$E$6:$E$527,C16) -> 18 | F16: LIMPIAS HERMET | G16: =COUNTIF('1 - Dorsales clubs'!$D$6:$D$333,F16) -> 0
... C20: MIK1 | D20: =COUNTIF('1 - Dorsales clubs'!$E$6:$E$527,C20) -> 19 | F20: SDR ARENAS | G20: =COUNTIF('1 - Dorsales clubs'!$D$6:$D$333,F20) -> 2
C21: MAK1 | D21: =COUNTIF('1 - Dorsales clubs'!$E$6:$E$527,C21) -> 6 | G21: =COUNTIF('1 - Dorsales clubs'!$D$6:$D$333,F21) -> 0
C22: MBK1 | D22: =COUNTIF('1 - Dorsales clubs'!$E$6:$E$527,C22) -> 8 | G22: =COUNTIF('1 - Dorsales clubs'!$D$6:$D$333,F22) -> 0
C23: MPK1 | D23: =COUNTIF('1 - Dorsales clubs'!$E$6:$E$527,C23) -> 1 | G23: =COUNTIF('1 - Dorsales clubs'!$D$6:$D$333,F23) -> 0
C24: HPK1 | D24: =COUNTIF('1 - Dorsales clubs'!$E$6:$E$527,C24) -> 6 | G24: =COUNTIF('1 - Dorsales clubs'!$D$6:$D$333,F24) -> 0
C25: HIC1 | D25: =COUNTIF('1 - Dorsales clubs'!$E$6:$E$527,C25) -> 10 | G25: =COUNTIF('1 - Dorsales clubs'!$D$6:$D$333,F25) -> 0
C26: HSC1 | D26: =COUNTIF('1 - Dorsales clubs'!$E$6:$E$527,C26) -> 5 | G26: =COUNTIF('1 - Dorsales clubs'!$D$6:$D$333,F26) -> 0
C27: MIC1 | D27: =COUNTIF('1 - Dorsales clubs'!$E$6:$E$527,C27) -> 7
C28: MSC1 | D28: =COUNTIF('1 - Dorsales clubs'!$E$6:$E$527,C28) -> 0 | F28: TOTAL | G28: =SUM(G31:G41) -> 0
C29: HSK2 | D29: =COUNTIF('1 - Dorsales clubs'!$E$6:$E$527,C29) -> 7 | F29: 6,250 M - SALIDA 1a - 10:30 | G29: =COUNTIF('1 - Dorsales clubs'!$F:$F,"1a") -> 0 | H29: HSK1 | I29: HJK1
C30: HVK2 | D30: =COUNTIF('1 - Dorsales clubs'!$E$6:$E$527,C30) -> 7 | F30: 6,250 M - SALIDA 1b - 10:31 | G30: =COUNTIF('1 - Dorsales clubs'!$F:$F,"1b") -> 0 | H30: HVK135 | I30: HVK150 | J30: HVK160
C31: HJK2 | D31: =COUNTIF('1 - Dorsales clubs'!$E$6:$E$527,C31) -> 4 | F31: 6,250 M - SALIDA 1c - 10:32 | G31: =COUNTIF('1 - Dorsales clubs'!$F:$F,"1c") -> 0 | H31: HCK1
C32: MixtaK2 | D32: =COUNTIF('1 - Dorsales clubs'!$E$6:$E$527,C32) -> 11 | F32: 6,250 M - SALIDA 1d - 10:33 | G32: =COUNTIF('1 - Dorsales clubs'!$F:$F,"1d") -> 0 | H32: MSK1 | I32: MJK1 | J32: MCK1 | K32: MVK135 | L32: MVK150
C33: MJK2 | D33: =COUNTIF('1 - Dorsales clubs'!$E$6:$E$527,C33) -> 0 | F33: 2,500 M - SALIDA 2a - 11:15 | G33: =COUNTIF('1 - Dorsales clubs'!$F:$F,"2a") -> 0 | H33: HIK1 | I33: MIK1
C34: MSK2 | D34: =COUNTIF('1 - Dorsales clubs'!$E$6:$E$527,C34) -> 3 | F34: 2,500 M - SALIDA 2b - 11:16 | G34: =COUNTIF('1 - Dorsales clubs'!$F:$F,"2b") -> 0 | H34: HSC1 | I34: MSC1
C35: MVK2 | D35: =COUNTIF('1 - Dorsales clubs'!$E$6:$E$527,C35) -> 3 | F35: 1,250 M - SALIDA 3a - 11:40 | G35: =COUNTIF('1 - Dorsales clubs'!$F:$F,"3a") -> 0 | H35: HAK1 | I35: MAK1
F36: 1,250 M - SALIDA 3b - 11:41 | G36: =COUNTIF('1 - Dorsales clubs'!$F:$F,"3b") -> 0 | H36: HPK1 | I36: MPK1
F37: 1,250 M - SALIDA 4 - 12:00 | G37: =COUNTIF('1 - Dorsales clubs'!$F:$F,4) -> 0 | H37: HBK1 | I37: MBK1
F38: 6,250 M - SALIDA 5a - 12:00 | G38: =COUNTIF('1 - Dorsales clubs'!$F:$F,"5a") -> 0 | H38: HSK2 | I38: HJK2 | J38: MixtaK2
F39: 6,250 M - SALIDA 5b - 12:00 | G39: =COUNTIF('1 - Dorsales clubs'!$F:$F,"5b") -> 0 | H39: HVK2
F40: 6,250 M - SALIDA 5c - 12:00 | G40: =COUNTIF('1 - Dorsales clubs'!$F:$F,"5c") -> 0 | H40: MSK2 | I40: MJK2 | J40: MVK2

Sheet Podium
C1: CATEGORIA | D1: HOMBRE JUNIOR | E1: K1
B2: DORSAL | C2: NOMBRE | D2: CLUB | E2: CAT.
C7: CATEGORIA | D7: MUJER JUNIOR | E7: K1
B8: DORSAL | C8: NOMBRE | D8: CLUB | E8: CAT. | G8: ABSOLUTOS INDIVIDUAL
B9: 81 | C9: Saioa Perez Garcia | D9: GETXO KAYAKA | E9: MJK1 | G9: Masculino
B10: 80 | C10: Izar Libano Sanchez | D10: GETXO KAYAKA | E10: MJK1 | G10: Femenino
B11: 9 | C11: LAURA NUÑO PARA CUELLOS | D11: CLUB NÁUTICO ZARAGOZA | E11: MJK1
C13: CATEGORIA | D13: HOMBRE SENIOR | E13: K1 | G13: PTOS | H13: CLASIFICACIÓN CLUBES
B14: DORSAL | C14: NOMBRE | D14: CLUB | E14: CAT.
B15: 175 | C15: Luis Martínez Cortés | D15: CD MONKAYAK HIBERUS | E15: HSK1
B16: 85 | C16: Mikel de Velasco | D16: GETXO KAYAKA | E16: HSK1
B17: 101 | C17: Sergio López Chow | D17: Club Natación Pamplona | E17: HSK1
C19: CATEGORIA | D19: MUJER SENIOR | E19: K1
B20: DORSAL | C20: NOMBRE | D20: CLUB | E20: CAT.
B21: 119 | C21: IRATI OSA | D21: ITXAS GAIN | E21: MSK1
B22: 120 | C22: JOSEFA MOLINA | D22: ITXAS GAIN | E22: MSK1
B23: 52 | C23: Belén Sánchez Jiménez | D23: EBROKAYAK | E23: MSK1
C25: CATEGORIA | D25: HOMBRE VETERANO 35 | E25: K1
B26: DORSAL | C26: NOMBRE | D26: CLUB | E26: CAT.
B27: 128 | C27: IÑAKI FERNANDEZ | D27: ITXAS GAIN | E27: HVK135
B28: 129 | C28: EÑAUT AIZPURUA | D28: ITXAS GAIN | E28: HVK135
B29: 163 | C29: Daniel Gago Alberdi | D29: Mansilla | E29: HVK135
C31: CATEGORIA | D31: MUJER VETERANO 35 | E31: K1
B32: DORSAL | C32: NOMBRE | D32: CLUB | E32: CAT.
B33: 130 | C33: MAITE ETXABE | D33: ITXAS GAIN | E33: MVK135
B34: 196 | C34: Selma Palacín | D34: CD MONKAYAK HIBERUS | E34: MVK135
B35: 161 | C35: Amaya Villarreal Nestares | D35: Mansilla | E35: MVK135
C37: CATEGORIA | D37: HOMBRE VETERANO 50 | E37: K1
B38: DORSAL | C38: NOMBRE | D38: CLUB | E38: CAT.
B39: 55 | C39: Jose Ignacio Sanchez Jimenez | D39: EBROKAYAK | E39: HVK150
B40: 126 | C40: XABIER OSA | D40: ITXAS GAIN | E40: HVK150
B41: 23 | C41: JUAN JOSÉ SÁNCHEZ SERRANO | D41: CLUB NÁUTICO ZARAGOZA | E41: HVK150
C43: CATEGORIA | D43: MUJER VETERANO 50 | E43: K1
B44: DORSAL | C44: NOMBRE | D44: CLUB | E44: CAT.
B45: 25 | C45: MARÍA CARMEN PELEGRÍN RODRIGO | D45: CLUB NÁUTICO ZARAGOZA | E45: MVK150
B46: 53 | C46: Mai Moneo Arcos | D46: EBROKAYAK | E46: MVK150
B47: 59 | C47: Teresa Lorza Burgui | D47: EBROKAYAK | E47: MVK150
C49: CATEGORIA | D49: HOMBRE VETERANO 60 | E49: K1
B50: DORSAL | C50: NOMBRE | D50: CLUB | E50: CAT.
B51: 104 | C51: Gabriel Malon | D51: Club Natación Pamplona | E51: HVK160
B52: 89 | C52: Jose Trujillo Doblas | D52: GETXO KAYAKA | E52: HVK160
B53: 107 | C53: Fernando Martiartu | D53: Club Natación Pamplona | E53: HVK160
C55: CATEGORIA | D55: HOMBRE SENIOR CANOA | E55: C1
B56: DORSAL | C56: NOMBRE | D56: CLUB | E56: CAT.
B57: 54 | C57: Alvaro Oses Arbizu | D57: EBROKAYAK | E57: HSC1
B58: 72 | C58: Andrii Koliada | D58: EBROKAYAK | E58: HSC1
E59: HSC1
C61: CATEGORIA | D61: HOMBRE PARACANOE | E61: PARAC
B62: DORSAL | C62: NOMBRE | D62: CLUB | E62: CAT.
B63: 19 | C63: FERNANDO CARRASCO GARCÍA | D63: CLUB NÁUTICO ZARAGOZA | E63: HPK1
B64: 97 | C64: Javier Perez Rodriguez | D64: GETXO KAYAKA | E64: HPK1
B65: 21 | C65: VÍCTOR HERNÁNDEZ CANO | D65: CLUB NÁUTICO ZARAGOZA | E65: HPK1
C67: CATEGORIA | D67: MUJER BENJAMIN | E67: K1
B68: DORSAL | C68: NOMBRE | D68: CLUB | E68: CAT.
B69: 176 | C69: Clara Gaudo Gallego | D69: CD MONKAYAK HIBERUS | E69: MPK1
C73: CATEGORIA | D73: HOMBRE ALEVIN | E73: K1
B74: DORSAL | C74: NOMBRE | D74: CLUB | E74: CAT.
B75: 39 | C75: Oriol Cabello Fernández | D75: Club Piragüiso Pamplona | E75: HAK1
B76: 110 | C76: RODRIGO MORER GIL | D76: CENTRO NATACION HELIOS | E76: HAK1
B77: 92 | C77: Dani Guitian | D77: GETXO KAYAKA | E77: HAK1
C79: CATEGORIA | D79: MUJER ALEVIN | E79: K1
B80: DORSAL | C80: NOMBRE | D80: CLUB | E80: CAT.
B81: 38 | C81: Ixel Archanco García | D81: Club Piragüiso Pamplona | E81: MAK1
E82: MAK1
E83: MAK1
C85: CATEGORIA | D85: HOMBRE BENJAMIN | E85: K1
B86: DORSAL | C86: NOMBRE | D86: CLUB | E86: CAT.
B87: 64 | C87: Nicolas Facenda Serrano | D87: EBROKAYAK | E87: HBK1
B88: 62 | C88: Izan Pérez LLorca | D88: EBROKAYAK | E88: HBK1
B89: 65 | C89: Luca Pierce Sadoul | D89: EBROKAYAK | E89: HBK1
C91: CATEGORIA | D91: MUJER BENJAMIN | E91: K1
B92: DORSAL | C92: NOMBRE | D92: CLUB | E92: CAT.
B93: 44 | C93: Nicole Lecumberri Perepérez | D93: Club Piragüiso Pamplona | E93: MBK1
B94: 61 | C94: Leire Rodero Sainz | D94: EBROKAYAK | E94: MBK1
E95: MBK1
C97: CATEGORIA | D97: HOMBRE INFANTIL | E97: K1
B98: DORSAL | C98: NOMBRE | D98: CLUB | E98: CAT.
B99: 46 | C99: Arkaitz Arnedo Jimenez | D99: EBROKAYAK | E99: HIK1
B100: 141 | C100: EÑAUT BEAUMONT BALERDI | D100: DONOSTIA KAYAK | E100: HIK1
B101: 35 | C101: Matías Grijalba San Julián | D101: Club Piragüiso Pamplona | E101: HIK1
C103: CATEGORIA | D103: MUJER INFANTIL | E103: K1
B104: DORSAL | C104: NOMBRE | D104: CLUB | E104: CAT.
B105: 189 | C105: SUZANNE CASTRO WITOS | D105: PLENTZIA PIRAGÜISMO TALDEA | E105: MIK1
B106: 31 | C106: Maitane Imbuluzketa Arzoz | D106: Club Piragüiso Pamplona | E106: MIK1
B107: 199 | C107: Ivanna Algüera Niño | D107: LIMPIAS HERMET | E107: MIK1
C109: CATEGORIA | D109: HOMBRE CADETE | E109: K1
B110: DORSAL | C110: NOMBRE | D110: CLUB | E110: CAT.
B111: 149 | C111: IRAITZ IZAGIRRE MARTINEZ | D111: DONOSTIA KAYAK | E111: HCK1
B112: 148 | C112: IKER RUBIO SOUTO | D112: DONOSTIA KAYAK | E112: HCK1
B113: 47 | C113: Javier Martinez Remacha | D113: EBROKAYAK | E113: HCK1
C115: CATEGORIA | D115: MUJER CADETE | E115: K1
B116: DORSAL | C116: NOMBRE | D116: CLUB | E116: CAT.
B117: 142 | C117: EKAI IRAETA URIA | D117: DONOSTIA KAYAK | E117: MCK1
B118: 50 | C118: Sandra Lopez Iriarte | D118: EBROKAYAK | E118: MCK1
B119: 125 | C119: MADDI OLAIZOLA | D119: ITXAS GAIN | E119: MCK1
C122: CATEGORIA | D122: HOMBRE JUVENIL | E122: K2
B123: DORSAL | C123: NOMBRE | D123: CLUB | E123: CAT.
B124: 157 | C124: IKER RUBIO / IRAITZ IZAGIRRE | D124: DONOSTIA KAYAK | E124: HJK2
B125: 156 | C125: ERIK GAZTELU / BEÑAT MOZO | D125: DONOSTIA KAYAK | E125: HJK2
B126: 158 | C126: OIER LUCAS / ANDER GARCIA | D126: DONOSTIA KAYAK | E126: HJK2
...
