Workbook

Sheet Clasificacion por Clubs (2)
B2: =ENTREPUENTES!B2 -> X Regata Entrepuentes - ENHOL Ebrokayak - Tudela
B3: =ENTREPUENTES!B3 -> Lugar, fecha y hora: Río Ebro, 20/09/2026
B4: =ENTREPUENTES!B4 -> Organiza: ENHOL-Ebrokayak - Federación Navarra de Piragüismo
C6: CLASIFICACION GENERAL
C7: PTOS | D7: CLUB
C8: =SUMIF(ENTREPUENTES!E$8:E$336,D8,ENTREPUENTES!B$8:B$336) -> 488 | D8: CD MONKAYAK HIBERUS
C9: =SUMIF(ENTREPUENTES!E$8:E$336,D9,ENTREPUENTES!B$8:B$336) -> 632 | D9: CENTRO NATACIÓN HELIOS
C10: =SUMIF(ENTREPUENTES!E$8:E$336,D10,ENTREPUENTES!B$8:B$336) -> 29 | D10: CLUB D. FUENTES CARRIONAS
C11: =SUMIF(ENTREPUENTES!E$8:E$336,D11,ENTREPUENTES!B$8:B$336) -> 176 | D11: CLUB D. PALENTINO PIRAGÜISMO
C12: =SUMIF(ENTREPUENTES!E$8:E$336,D12,ENTREPUENTES!B$8:B$336) -> 800 | D12: Club Deportivo enhol Ebrokayak
C13: =SUMIF(ENTREPUENTES!E$8:E$336,D13,ENTREPUENTES!B$8:B$336) -> 966 | D13: CLUB ESCUELA DE PIRAGUISMO ARANJUEZ
C14: =SUMIF(ENTREPUENTES!E$8:E$336,D14,ENTREPUENTES!B$8:B$336) -> 105 | D14: Club Natación Pamplona
C15: =SUMIF(ENTREPUENTES!E$8:E$336,D15,ENTREPUENTES!B$8:B$336) -> 140 | D15: Club Náutico de Zaragoza
C16: =SUMIF(ENTREPUENTES!E$8:E$336,D16,ENTREPUENTES!B$8:B$336) -> 502 | D16: CLUB PIRAGÜISMO ANTARES
C17: =SUMIF(ENTREPUENTES!E$8:E$336,D17,ENTREPUENTES!B$8:B$336) -> 181 | D17: CLUB PIRAGUISMO GETXO-GETXO KAYAK
C18: =SUMIF(ENTREPUENTES!E$8:E$336,D18,ENTREPUENTES!B$8:B$336) -> 29 | D18: Club Piragüismo Las Grajas
C19: =SUMIF(ENTREPUENTES!E$8:E$336,D19,ENTREPUENTES!B$8:B$336) -> 268 | D19: Club Piragüismo Pamplona
... C24: =SUMIF(ENTREPUENTES!E$8:E$336,D24,ENTREPUENTES!B$8:B$336) -> 459 | D24: Santiagotarrak
C25: =SUMIF(ENTREPUENTES!E$8:E$3404,D25,ENTREPUENTES!B$8:B$336) -> 0 | D25: SDR ARENAS
C26: =SUMIF(ENTREPUENTES!E$8:E$336,D26,ENTREPUENTES!B$8:B$336) -> 89 | D26: Zumaiako Urola Itsas Adar
C27: =SUMIF(ENTREPUENTES!E$8:E$293,D27,ENTREPUENTES!B$8:B$293) -> 0
C28: =SUMIF(ENTREPUENTES!E$8:E$293,D28,ENTREPUENTES!B$8:B$293) -> 0
C29: =SUMIF(ENTREPUENTES!E$8:E$293,D29,ENTREPUENTES!B$8:B$293) -> 0
C30: =SUMIF(ENTREPUENTES!E$8:E$293,D30,ENTREPUENTES!B$8:B$293) -> 0
C31: =SUMIF(ENTREPUENTES!E$8:E$293,D31,ENTREPUENTES!B$8:B$293) -> 0
C32: =SUMIF(ENTREPUENTES!E$8:E$293,D32,ENTREPUENTES!B$8:B$293) -> 0

Sheet 1 - Dorsales clubs
B1: =ENTREPUENTES!B2 -> X Regata Entrepuentes - ENHOL Ebrokayak - Tudela
B2: =ENTREPUENTES!B3 -> Lugar, fecha y hora: Río Ebro, 20/09/2026
B3: =ENTREPUENTES!B4 -> Organiza: ENHOL-Ebrokayak - Federación Navarra de Piragüismo
Y4: N | Z4: NO PRESENTADO
B5: DORSAL | C5: NOMBRE | D5: CLUB | E5: CATEGORÍA | F5: SALIDA
B6: 1 | C6: Miguel Angel Ducros Estavillo | D6: Mansilla | E6: HPK1
B7: 2 | C7: Jose Maria Hollos Llorente | D7: Mansilla | E7: HVK1_60
B8: 3
B9: 4 | C9: Aimar Arnedo Jimenez | D9: Club Deportivo enhol Ebrokayak | E9: HAK1
B10: 5 | C10: Arkaitz Arnedo Jimenez | D10: Club Deportivo enhol Ebrokayak | E10: HCK1
B11: 6 | C11: Juan Sanchez Calvete | D11: Club Deportivo enhol Ebrokayak | E11: HCK1
B12: 7 | C12: Aarón Novoa Antonio | D12: Club Deportivo enhol Ebrokayak | E12: HCK1
B13: 8
B14: 9 | C14: Sandra Lopez Iriarte | D14: Club Deportivo enhol Ebrokayak | E14: MJK1
B15: 10 | C15: Eva Ivanova Ivanova | D15: Club Deportivo enhol Ebrokayak | E15: MCK1
B16: 11 | C16: Belén Sánchez Jiménez | D16: Club Deportivo enhol Ebrokayak | E16: MVK1_35
B17: 12 | C17: Mai Moneo Arcos | D17: Club Deportivo enhol Ebrokayak | E17: MVK1_35
B18: 13 | C18: Alvaro Oses Arbizu | D18: Club Deportivo enhol Ebrokayak | E18: HSC1
B19: 14 | C19: Andrii Koliada | D19: Club Deportivo enhol Ebrokayak | E19: HSC1
B20: 15 | C20: Ernestas Uzpalis | D20: Club Deportivo enhol Ebrokayak | E20: HSC1
B21: 16 | C21: Javier Rodero la Fuente | D21: Club Deportivo enhol Ebrokayak | E21: HVK1_35
B22: 17 | C22: Javier Arnedo Lopez | D22: Club Deportivo enhol Ebrokayak | E22: HVK1_35
B23: 18 | C23: Valeria Arnedo Gil | D23: Club Deportivo enhol Ebrokayak | E23: MBK1
B24: 19 | C24: Claudia Arnedo Gil | D24: Club Deportivo enhol Ebrokayak | E24: MAK1
B25: 20
B26: 21 | C26: Hugo Delgado Orce | D26: Club Deportivo enhol Ebrokayak | E26: HBK1
B27: 22 | C27: Rodrigo Berrueta Crespo | D27: Club Deportivo enhol Ebrokayak | E27: HAK1
B28: 23
B29: 24
B30: 25
B31: 26 | C31: Myshell Kirilov Serpa | D31: Club Deportivo enhol Ebrokayak | E31: MBK1
B32: 27 | C32: Luca Pierce Sadoul | D32: Club Deportivo enhol Ebrokayak | E32: HAK1
B33: 28 | C33: Alexander Sanchez Arranz | D33: Club Deportivo enhol Ebrokayak | E33: HIK1
B34: 29 | C34: Candela Pérez Moneo | D34: Club Deportivo enhol Ebrokayak | E34: MIK1
B35: 30 | C35: Julia Salcedo Moneo | D35: Club Deportivo enhol Ebrokayak | E35: MIK1
B36: 31 | C36: Victoria Sanz Barral | D36: Club Deportivo enhol Ebrokayak | E36: MIK1
B37: 32 | C37: Santiago Arellano Mesa | D37: Club Deportivo enhol Ebrokayak | E37: HIK1
B38: 33
B39: 34 | C39: Izan Pérez LLorca | D39: Club Deportivo enhol Ebrokayak | E39: HBK1
B40: 35 | C40: Alex Sanmartin Maull | D40: Club Deportivo enhol Ebrokayak | E40: HVK1_50
...

Sheet PIVOT
A3: Cuenta de DORSAL
A4: CATEGORÍA | B4: Total
A5: HAK1 | B5: 15
A6: HBK1 | B6: 8
A7: HCK1 | B7: 14
A8: HIK1 | B8: 19
A9: HJK1 | B9: 4
A10: HJK2 | B10: 3
A11: HPK1 | B11: 6
A12: HSC1 | B12: 5
A13: HSK1 | B13: 21
A14: HSK2 | B14: 8
A15: HVK2 | B15: 7
A16: MAK1 | B16: 6
... A36: Total general | B36: 239

Sheet Separar categorías calsif
B2: DORSAL | C2: NOMBRE | D2: CLUB | E2: CAT. | F2: Tº CRONO | H2: Tº REAL
C3: =VLOOKUP(B3,'1 - Dorsales clubs'!B:C,2,FALSE) -> #N/A | D3: =VLOOKUP(C3,'1 - Dorsales clubs'!C:D,2,FALSE) -> #N/A | E3: =VLOOKUP(B3,'1 - Dorsales clubs'!B:F,4,FALSE) -> #N/A | F3: =VLOOKUP(B3,TºCrono!B:C,2,FALSE) -> #N/A | H3: =IF(F3="D","DESCALIF.",IF(F3="A","ABANDONO",IF(F3="N","NO PRES.",CONCATENATE(AB3,":",AC3,":",AD3)))) -> #N/A | J3: =LEN(F3) -> #N/A | M3: =VALUE(MID(F3,1,J3-4)) -> #N/A | N3: =VALUE(MID(F3,J3-4+1,2)) -> #N/A | O3: =VALUE(RIGHT(F3,2)) -> #N/A | Q3: =IF(N3<VLOOKUP(E3,'Horario salida'!$C$3:$E$41,3,FALSE),M3-1,M3) -> #N/A | R3: =IF(N3<VLOOKUP(E3,'Horario salida'!$C$3:$E$41,3,FALSE),N3+60,N3) -> #N/A | S3: =IF(O3<VLOOKUP(E3,'Horario salida'!$C$3:$F$41,4,FALSE),R3-1,R3) -> #N/A | T3: =IF(O3<VLOOKUP(E3,'Horario salida'!$C$3:$F$41,4,FALSE),O3+100,O3) -> #N/A | X3: =Q3-VLOOKUP(E3,'Horario salida'!$C$3:$D$41,2,FALSE) -> #N/A | Y3: =S3-VLOOKUP(E3,'Horario salida'!$C$3:$E$41,3,FALSE) -> #N/A | Z3: =T3-VLOOKUP(E3,'Horario salida'!$C$3:$F$41,4,FALSE) -> #N/A | AB3: =TEXT(X3,"00") -> #N/A | AC3: =TEXT(Y3,"00") -> #N/A | AD3: =TEXT(Z3,"00") -> #N/A
C4: =VLOOKUP(B4,'1 - Dorsales clubs'!B:C,2,FALSE) -> #N/A | D4: =VLOOKUP(C4,'1 - Dorsales clubs'!C:D,2,FALSE) -> #N/A | E4: =VLOOKUP(B4,'1 - Dorsales clubs'!B:F,4,FALSE) -> #N/A | F4: =VLOOKUP(B4,TºCrono!B:C,2,FALSE) -> #N/A | H4: =IF(F4="D","DESCALIF.",IF(F4="A","ABANDONO",IF(F4="N","NO PRES.",CONCATENATE(AB4,":",AC4,":",AD4)))) -> #N/A | J4: =LEN(F4) -> #N/A | M4: =VALUE(MID(F4,1,J4-4)) -> #N/A | N4: =VALUE(MID(F4,J4-4+1,2)) -> #N/A | O4: =VALUE(RIGHT(F4,2)) -> #N/A | Q4: =IF(N4<VLOOKUP(E4,'Horario salida'!$C$3:$E$41,3,FALSE),M4-1,M4) -> #N/A | R4: =IF(N4<VLOOKUP(E4,'Horario salida'!$C$3:$E$41,3,FALSE),N4+60,N4) -> #N/A | S4: =IF(O4<VLOOKUP(E4,'Horario salida'!$C$3:$F$41,4,FALSE),R4-1,R4) -> #N/A | T4: =IF(O4<VLOOKUP(E4,'Horario salida'!$C$3:$F$41,4,FALSE),O4+100,O4) -> #N/A | X4: =Q4-VLOOKUP(E4,'Horario salida'!$C$3:$D$41,2,FALSE) -> #N/A | Y4: =S4-VLOOKUP(E4,'Horario salida'!$C$3:$E$41,3,FALSE) -> #N/A | Z4: =T4-VLOOKUP(E4,'Horario salida'!$C$3:$F$41,4,FALSE) -> #N/A | AB4: =TEXT(X4,"00") -> #N/A | AC4: =TEXT(Y4,"00") -> #N/A | AD4: =TEXT(Z4,"00") -> #N/A
C5: =VLOOKUP(B5,'1 - Dorsales clubs'!B:C,2,FALSE) -> #N/A | D5: =VLOOKUP(C5,'1 - Dorsales clubs'!C:D,2,FALSE) -> #N/A | E5: =VLOOKUP(B5,'1 - Dorsales clubs'!B:F,4,FALSE) -> #N/A | F5: =VLOOKUP(B5,TºCrono!B:C,2,FALSE) -> #N/A | H5: =IF(F5="D","DESCALIF.",IF(F5="A","ABANDONO",IF(F5="N","NO PRES.",CONCATENATE(AB5,":",AC5,":",AD5)))) -> #N/A | J5: =LEN(F5) -> #N/A | M5: =VALUE(MID(F5,1,J5-4)) -> #N/A | N5: =VALUE(MID(F5,J5-4+1,2)) -> #N/A | O5: =VALUE(RIGHT(F5,2)) -> #N/A | Q5: =IF(N5<VLOOKUP(E5,'Horario salida'!$C$3:$E$41,3,FALSE),M5-1,M5) -> #N/A | R5: =IF(N5<VLOOKUP(E5,'Horario salida'!$C$3:$E$41,3,FALSE),N5+60,N5) -> #N/A | S5: =IF(O5<VLOOKUP(E5,'Horario salida'!$C$3:$F$41,4,FALSE),R5-1,R5) -> #N/A | T5: =IF(O5<VLOOKUP(E5,'Horario salida'!$C$3:$F$41,4,FALSE),O5+100,O5) -> #N/A | X5: =Q5-VLOOKUP(E5,'Horario salida'!$C$3:$D$41,2,FALSE) -> #N/A | Y5: =S5-VLOOKUP(E5,'Horario salida'!$C$3:$E$41,3,FALSE) -> #N/A | Z5: =T5-VLOOKUP(E5,'Horario salida'!$C$3:$F$41,4,FALSE) -> #N/A | AB5: =TEXT(X5,"00") -> #N/A | AC5: =TEXT(Y5,"00") -> #N/A | AD5: =TEXT(Z5,"00") -> #N/A
C6: =VLOOKUP(B6,'1 - Dorsales clubs'!B:C,2,FALSE) -> #N/A | D6: =VLOOKUP(C6,'1 - Dorsales clubs'!C:D,2,FALSE) -> #N/A | E6: =VLOOKUP(B6,'1 - Dorsales clubs'!B:F,4,FALSE) -> #N/A | F6: =VLOOKUP(B6,TºCrono!B:C,2,FALSE) -> #N/A | H6: =IF(F6="D","DESCALIF.",IF(F6="A","ABANDONO",IF(F6="N","NO PRES.",CONCATENATE(AB6,":",AC6,":",AD6)))) -> #N/A | J6: =LEN(F6) -> #N/A | M6: =VALUE(MID(F6,1,J6-4)) -> #N/A | N6: =VALUE(MID(F6,J6-4+1,2)) -> #N/A | O6: =VALUE(RIGHT(F6,2)) -> #N/A | Q6: =IF(N6<VLOOKUP(E6,'Horario salida'!$C$3:$E$41,3,FALSE),M6-1,M6) -> #N/A | R6: =IF(N6<VLOOKUP(E6,'Horario salida'!$C$3:$E$41,3,FALSE),N6+60,N6) -> #N/A | S6: =IF(O6<VLOOKUP(E6,'Horario salida'!$C$3:$F$41,4,FALSE),R6-1,R6) -> #N/A | T6: =IF(O6<VLOOKUP(E6,'Horario salida'!$C$3:$F$41,4,FALSE),O6+100,O6) -> #N/A | X6: =Q6-VLOOKUP(E6,'Horario salida'!$C$3:$D$41,2,FALSE) -> #N/A | Y6: =S6-VLOOKUP(E6,'Horario salida'!$C$3:$E$41,3,FALSE) -> #N/A | Z6: =T6-VLOOKUP(E6,'Horario salida'!$C$3:$F$41,4,FALSE) -> #N/A | AB6: =TEXT(X6,"00") -> #N/A | AC6: =TEXT(Y6,"00") -> #N/A | AD6: =TEXT(Z6,"00") -> #N/A
C7: =VLOOKUP(B7,'1 - Dorsales clubs'!B:C,2,FALSE) -> #N/A | D7: =VLOOKUP(C7,'1 - Dorsales clubs'!C:D,2,FALSE) -> #N/A | E7: =VLOOKUP(B7,'1 - Dorsales clubs'!B:F,4,FALSE) -> #N/A | F7: =VLOOKUP(B7,TºCrono!B:C,2,FALSE) -> #N/A | H7: =IF(F7="D","DESCALIF.",IF(F7="A","ABANDONO",IF(F7="N","NO PRES.",CONCATENATE(AB7,":",AC7,":",AD7)))) -> #N/A | J7: =LEN(F7) -> #N/A | M7: =VALUE(MID(F7,1,J7-4)) -> #N/A | N7: =VALUE(MID(F7,J7-4+1,2)) -> #N/A | O7: =VALUE(RIGHT(F7,2)) -> #N/A | Q7: =IF(N7<VLOOKUP(E7,'Horario salida'!$C$3:$E$41,3,FALSE),M7-1,M7) -> #N/A | R7: =IF(N7<VLOOKUP(E7,'Horario salida'!$C$3:$E$41,3,FALSE),N7+60,N7) -> #N/A | S7: =IF(O7<VLOOKUP(E7,'Horario salida'!$C$3:$F$41,4,FALSE),R7-1,R7) -> #N/A | T7: =IF(O7<VLOOKUP(E7,'Horario salida'!$C$3:$F$41,4,FALSE),O7+100,O7) -> #N/A | X7: =Q7-VLOOKUP(E7,'Horario salida'!$C$3:$D$41,2,FALSE) -> #N/A | Y7: =S7-VLOOKUP(E7,'Horario salida'!$C$3:$E$41,3,FALSE) -> #N/A | Z7: =T7-VLOOKUP(E7,'Horario salida'!$C$3:$F$41,4,FALSE) -> #N/A | AB7: =TEXT(X7,"00") -> #N/A | AC7: =TEXT(Y7,"00") -> #N/A | AD7: =TEXT(Z7,"00") -> #N/A
C8: =VLOOKUP(B8,'1 - Dorsales clubs'!B:C,2,FALSE) -> #N/A | D8: =VLOOKUP(C8,'1 - Dorsales clubs'!C:D,2,FALSE) -> #N/A | E8: =VLOOKUP(B8,'1 - Dorsales clubs'!B:F,4,FALSE) -> #N/A | F8: =VLOOKUP(B8,TºCrono!B:C,2,FALSE) -> #N/A | H8: =IF(F8="D","DESCALIF.",IF(F8="A","ABANDONO",IF(F8="N","NO PRES.",CONCATENATE(AB8,":",AC8,":",AD8)))) -> #N/A | J8: =LEN(F8) -> #N/A | M8: =VALUE(MID(F8,1,J8-4)) -> #N/A | N8: =VALUE(MID(F8,J8-4+1,2)) -> #N/A | O8: =VALUE(RIGHT(F8,2)) -> #N/A | Q8: =IF(N8<VLOOKUP(E8,'Horario salida'!$C$3:$E$41,3,FALSE),M8-1,M8) -> #N/A | R8: =IF(N8<VLOOKUP(E8,'Horario salida'!$C$3:$E$41,3,FALSE),N8+60,N8) -> #N/A | S8: =IF(O8<VLOOKUP(E8,'Horario salida'!$C$3:$F$41,4,FALSE),R8-1,R8) -> #N/A | T8: =IF(O8<VLOOKUP(E8,'Horario salida'!$C$3:$F$41,4,FALSE),O8+100,O8) -> #N/A | X8: =Q8-VLOOKUP(E8,'Horario salida'!$C$3:$D$41,2,FALSE) -> #N/A | Y8: =S8-VLOOKUP(E8,'Horario salida'!$C$3:$E$41,3,FALSE) -> #N/A | Z8: =T8-VLOOKUP(E8,'Horario salida'!$C$3:$F$41,4,FALSE) -> #N/A | AB8: =TEXT(X8,"00") -> #N/A | AC8: =TEXT(Y8,"00") -> #N/A | AD8: =TEXT(Z8,"00") -> #N/A
C9: =VLOOKUP(B9,'1 - Dorsales clubs'!B:C,2,FALSE) -> #N/A | D9: =VLOOKUP(C9,'1 - Dorsales clubs'!C:D,2,FALSE) -> #N/A | E9: =VLOOKUP(B9,'1 - Dorsales clubs'!B:F,4,FALSE) -> #N/A | F9: =VLOOKUP(B9,TºCrono!B:C,2,FALSE) -> #N/A | H9: =IF(F9="D","DESCALIF.",IF(F9="A","ABANDONO",IF(F9="N","NO PRES.",CONCATENATE(AB9,":",AC9,":",AD9)))) -> #N/A | J9: =LEN(F9) -> #N/A | M9: =VALUE(MID(F9,1,J9-4)) -> #N/A | N9: =VALUE(MID(F9,J9-4+1,2)) -> #N/A | O9: =VALUE(RIGHT(F9,2)) -> #N/A | Q9: =IF(N9<VLOOKUP(E9,'Horario salida'!$C$3:$E$41,3,FALSE),M9-1,M9) -> #N/A | R9: =IF(N9<VLOOKUP(E9,'Horario salida'!$C$3:$E$41,3,FALSE),N9+60,N9) -> #N/A | S9: =IF(O9<VLOOKUP(E9,'Horario salida'!$C$3:$F$41,4,FALSE),R9-1,R9) -> #N/A | T9: =IF(O9<VLOOKUP(E9,'Horario salida'!$C$3:$F$41,4,FALSE),O9+100,O9) -> #N/A | X9: =Q9-VLOOKUP(E9,'Horario salida'!$C$3:$D$41,2,FALSE) -> #N/A | Y9: =S9-VLOOKUP(E9,'Horario salida'!$C$3:$E$41,3,FALSE) -> #N/A | Z9: =T9-VLOOKUP(E9,'Horario salida'!$C$3:$F$41,4,FALSE) -> #N/A | AB9: =TEXT(X9,"00") -> #N/A | AC9: =TEXT(Y9,"00") -> #N/A | AD9: =TEXT(Z9,"00") -> #N/A
C10: =VLOOKUP(B10,'1 - Dorsales clubs'!B:C,2,FALSE) -> #N/A | D10: =VLOOKUP(C10,'1 - Dorsales clubs'!C:D,2,FALSE) -> #N/A | E10: =VLOOKUP(B10,'1 - Dorsales clubs'!B:F,4,FALSE) -> #N/A | F10: =VLOOKUP(B10,TºCrono!B:C,2,FALSE) -> #N/A | H10: =IF(F10="D","DESCALIF.",IF(F10="A","ABANDONO",IF(F10="N","NO PRES.",CONCATENATE(AB10,":",AC10,":",AD10)))) -> #N/A | J10: =LEN(F10) -> #N/A | M10: =VALUE(MID(F10,1,J10-4)) -> #N/A | N10: =VALUE(MID(F10,J10-4+1,2)) -> #N/A | O10: =VALUE(RIGHT(F10,2)) -> #N/A | Q10: =IF(N10<VLOOKUP(E10,'Horario salida'!$C$3:$E$41,3,FALSE),M10-1,M10) -> #N/A | R10: =IF(N10<VLOOKUP(E10,'Horario salida'!$C$3:$E$41,3,FALSE),N10+60,N10) -> #N/A | S10: =IF(O10<VLOOKUP(E10,'Horario salida'!$C$3:$F$41,4,FALSE),R10-1,R10) -> #N/A | T10: =IF(O10<VLOOKUP(E10,'Horario salida'!$C$3:$F$41,4,FALSE),O10+100,O10) -> #N/A | X10: =Q10-VLOOKUP(E10,'Horario salida'!$C$3:$D$41,2,FALSE) -> #N/A | Y10: =S10-VLOOKUP(E10,'Horario salida'!$C$3:$E$41,3,FALSE) -> #N/A | Z10: =T10-VLOOKUP(E10,'Horario salida'!$C$3:$F$41,4,FALSE) -> #N/A | AB10: =TEXT(X10,"00") -> #N/A | AC10: =TEXT(Y10,"00") -> #N/A | AD10: =TEXT(Z10,"00") -> #N/A
C11: =VLOOKUP(B11,'1 - Dorsales clubs'!B:C,2,FALSE) -> #N/A | D11: =VLOOKUP(C11,'1 - Dorsales clubs'!C:D,2,FALSE) -> #N/A | E11: =VLOOKUP(B11,'1 - Dorsales clubs'!B:F,4,FALSE) -> #N/A | F11: =VLOOKUP(B11,TºCrono!B:C,2,FALSE) -> #N/A | H11: =IF(F11="D","DESCALIF.",IF(F11="A","ABANDONO",IF(F11="N","NO PRES.",CONCATENATE(AB11,":",AC11,":",AD11)))) -> #N/A | J11: =LEN(F11) -> #N/A | M11: =VALUE(MID(F11,1,J11-4)) -> #N/A | N11: =VALUE(MID(F11,J11-4+1,2)) -> #N/A | O11: =VALUE(RIGHT(F11,2)) -> #N/A | Q11: =IF(N11<VLOOKUP(E11,'Horario salida'!$C$3:$E$41,3,FALSE),M11-1,M11) -> #N/A | R11: =IF(N11<VLOOKUP(E11,'Horario salida'!$C$3:$E$41,3,FALSE),N11+60,N11) -> #N/A | S11: =IF(O11<VLOOKUP(E11,'Horario salida'!$C$3:$F$41,4,FALSE),R11-1,R11) -> #N/A | T11: =IF(O11<VLOOKUP(E11,'Horario salida'!$C$3:$F$41,4,FALSE),O11+100,O11) -> #N/A | X11: =Q11-VLOOKUP(E11,'Horario salida'!$C$3:$D$41,2,FALSE) -> #N/A | Y11: =S11-VLOOKUP(E11,'Horario salida'!$C$3:$E$41,3,FALSE) -> #N/A | Z11: =T11-VLOOKUP(E11,'Horario salida'!$C$3:$F$41,4,FALSE) -> #N/A | AB11: =TEXT(X11,"00") -> #N/A | AC11: =TEXT(Y11,"00") -> #N/A | AD11: =TEXT(Z11,"00") -> #N/A
C12: =VLOOKUP(B12,'1 - Dorsales clubs'!B:C,2,FALSE) -> #N/A | D12: =VLOOKUP(C12,'1 - Dorsales clubs'!C:D,2,FALSE) -> #N/A | E12: =VLOOKUP(B12,'1 - Dorsales clubs'!B:F,4,FALSE) -> #N/A | F12: =VLOOKUP(B12,TºCrono!B:C,2,FALSE) -> #N/A | H12: =IF(F12="D","DESCALIF.",IF(F12="A","ABANDONO",IF(F12="N","NO PRES.",CONCATENATE(AB12,":",AC12,":",AD12)))) -> #N/A | J12: =LEN(F12) -> #N/A | M12: =VALUE(MID(F12,1,J12-4)) -> #N/A | N12: =VALUE(MID(F12,J12-4+1,2)) -> #N/A | O12: =VALUE(RIGHT(F12,2)) -> #N/A | Q12: =IF(N12<VLOOKUP(E12,'Horario salida'!$C$3:$E$41,3,FALSE),M12-1,M12) -> #N/A | R12: =IF(N12<VLOOKUP(E12,'Horario salida'!$C$3:$E$41,3,FALSE),N12+60,N12) -> #N/A | S12: =IF(O12<VLOOKUP(E12,'Horario salida'!$C$3:$F$41,4,FALSE),R12-1,R12) -> #N/A | T12: =IF(O12<VLOOKUP(E12,'Horario salida'!$C$3:$F$41,4,FALSE),O12+100,O12) -> #N/A | X12: =Q12-VLOOKUP(E12,'Horario salida'!$C$3:$D$41,2,FALSE) -> #N/A | Y12: =S12-VLOOKUP(E12,'Horario salida'!$C$3:$E$41,3,FALSE) -> #N/A | Z12: =T12-VLOOKUP(E12,'Horario salida'!$C$3:$F$41,4,FALSE) -> #N/A | AB12: =TEXT(X12,"00") -> #N/A | AC12: =TEXT(Y12,"00") -> #N/A | AD12: =TEXT(Z12,"00") -> #N/A
C13: =VLOOKUP(B13,'1 - Dorsales clubs'!B:C,2,FALSE) -> #N/A | D13: =VLOOKUP(C13,'1 - Dorsales clubs'!C:D,2,FALSE) -> #N/A | E13: =VLOOKUP(B13,'1 - Dorsales clubs'!B:F,4,FALSE) -> #N/A | F13: =VLOOKUP(B13,TºCrono!B:C,2,FALSE) -> #N/A | H13: =IF(F13="D","DESCALIF.",IF(F13="A","ABANDONO",IF(F13="N","NO PRES.",CONCATENATE(AB13,":",AC13,":",AD13)))) -> #N/A | J13: =LEN(F13) -> #N/A | M13: =VALUE(MID(F13,1,J13-4)) -> #N/A | N13: =VALUE(MID(F13,J13-4+1,2)) -> #N/A | O13: =VALUE(RIGHT(F13,2)) -> #N/A | Q13: =IF(N13<VLOOKUP(E13,'Horario salida'!$C$3:$E$41,3,FALSE),M13-1,M13) -> #N/A | R13: =IF(N13<VLOOKUP(E13,'Horario salida'!$C$3:$E$41,3,FALSE),N13+60,N13) -> #N/A | S13: =IF(O13<VLOOKUP(E13,'Horario salida'!$C$3:$F$41,4,FALSE),R13-1,R13) -> #N/A | T13: =IF(O13<VLOOKUP(E13,'Horario salida'!$C$3:$F$41,4,FALSE),O13+100,O13) -> #N/A | X13: =Q13-VLOOKUP(E13,'Horario salida'!$C$3:$D$41,2,FALSE) -> #N/A | Y13: =S13-VLOOKUP(E13,'Horario salida'!$C$3:$E$41,3,FALSE) -> #N/A | Z13: =T13-VLOOKUP(E13,'Horario salida'!$C$3:$F$41,4,FALSE) -> #N/A | AB13: =TEXT(X13,"00") -> #N/A | AC13: =TEXT(Y13,"00") -> #N/A | AD13: =TEXT(Z13,"00") -> #N/A
C14: =VLOOKUP(B14,'1 - Dorsales clubs'!B:C,2,FALSE) -> #N/A | D14: =VLOOKUP(C14,'1 - Dorsales clubs'!C:D,2,FALSE) -> #N/A | E14: =VLOOKUP(B14,'1 - Dorsales clubs'!B:F,4,FALSE) -> #N/A | F14: =VLOOKUP(B14,TºCrono!B:C,2,FALSE) -> #N/A | H14: =IF(F14="D","DESCALIF.",IF(F14="A","ABANDONO",IF(F14="N","NO PRES.",CONCATENATE(AB14,":",AC14,":",AD14)))) -> #N/A | J14: =LEN(F14) -> #N/A | M14: =VALUE(MID(F14,1,J14-4)) -> #N/A | N14: =VALUE(MID(F14,J14-4+1,2)) -> #N/A | O14: =VALUE(RIGHT(F14,2)) -> #N/A | Q14: =IF(N14<VLOOKUP(E14,'Horario salida'!$C$3:$E$41,3,FALSE),M14-1,M14) -> #N/A | R14: =IF(N14<VLOOKUP(E14,'Horario salida'!$C$3:$E$41,3,FALSE),N14+60,N14) -> #N/A | S14: =IF(O14<VLOOKUP(E14,'Horario salida'!$C$3:$F$41,4,FALSE),R14-1,R14) -> #N/A | T14: =IF(O14<VLOOKUP(E14,'Horario salida'!$C$3:$F$41,4,FALSE),O14+100,O14) -> #N/A | X14: =Q14-VLOOKUP(E14,'Horario salida'!$C$3:$D$41,2,FALSE) -> #N/A | Y14: =S14-VLOOKUP(E14,'Horario salida'!$C$3:$E$41,3,FALSE) -> #N/A | Z14: =T14-VLOOKUP(E14,'Horario salida'!$C$3:$F$41,4,FALSE) -> #N/A | AB14: =TEXT(X14,"00") -> #N/A | AC14: =TEXT(Y14,"00") -> #N/A | AD14: =TEXT(Z14,"00") -> #N/A
... C362: =VLOOKUP(B362,'1 - Dorsales clubs'!B:C,2,FALSE) -> #N/A | D362: =VLOOKUP(C362,'1 - Dorsales clubs'!C:D,2,FALSE) -> #N/A | E362: =VLOOKUP(B362,'1 - Dorsales clubs'!B:F,4,FALSE) -> #N/A | F362: =VLOOKUP(B362,TºCrono!B:C,2,FALSE) -> #N/A | H362: =IF(F362="D","DESCALIF.",IF(F362="A","ABANDONO",IF(F362="N","NO PRES.",CONCATENATE(AB362,":",AC362,":",AD362)))) -> #N/A | J362: =LEN(F362) -> #N/A | M362: =VALUE(MID(F362,1,J362-4)) -> #N/A | N362: =VALUE(MID(F362,J362-4+1,2)) -> #N/A | O362: =VALUE(RIGHT(F362,2)) -> #N/A | Q362: =IF(N362<VLOOKUP(E362,'Horario salida'!$C$3:$E$41,3,FALSE),M362-1,M362) -> #N/A | R362: =IF(N362<VLOOKUP(E362,'Horario salida'!$C$3:$E$41,3,FALSE),N362+60,N362) -> #N/A | S362: =IF(O362<VLOOKUP(E362,'Horario salida'!$C$3:$F$41,4,FALSE),R362-1,R362) -> #N/A | T362: =IF(O362<VLOOKUP(E362,'Horario salida'!$C$3:$F$41,4,FALSE),O362+100,O362) -> #N/A | X362: =Q362-VLOOKUP(E362,'Horario salida'!$C$3:$D$41,2,FALSE) -> #N/A | Y362: =S362-VLOOKUP(E362,'Horario salida'!$C$3:$E$41,3,FALSE) -> #N/A | Z362: =T362-VLOOKUP(E362,'Horario salida'!$C$3:$F$41,4,FALSE) -> #N/A | AB362: =TEXT(X362,"00") -> #N/A | AC362: =TEXT(Y362,"00") -> #N/A | AD362: =TEXT(Z362,"00") -> #N/A

Sheet ENTREPUENTES
B2: X Regata Entrepuentes - ENHOL Ebrokayak - Tudela
B3: Lugar, fecha y hora: Río Ebro, 20/09/2026
B4: Organiza: ENHOL-Ebrokayak - Federación Navarra de Piragüismo
D6: CATEGORIA | E6: HOMBRE SENIOR | F6: K1 | I6: =VLOOKUP(F8,DATOS!$C$5:$D$40,2,FALSE) -> 21 | J6: =COUNTIF(F8:$F$802,F8) -> 21
B7: PTOS | C7: DORSAL | D7: NOMBRE | E7: CLUB | F7: CAT. | G7: Tº CRONO | I7: Tº REAL
B8: 33 | C8: 91 | D8: =VLOOKUP(C8,'1 - Dorsales clubs'!B:C,2,FALSE) -> JAIME RAINERO PARRA | E8: =VLOOKUP(D8,'1 - Dorsales clubs'!C:D,2,FALSE) -> CLUB ESCUELA DE PIRAGUISMO ARANJUEZ | F8: HSK1 | G8: =VLOOKUP(C8,TºCrono!B:C,2,FALSE) -> 212147 | I8: =IF(G8="D","DESCALIF.",IF(G8="A","ABANDONO",IF(G8="N","NO PRES.",CONCATENATE(AC8,":",AD8,":",AE8)))) -> 21:21:47 | K8: =LEN(G8) -> 6 | N8: =VALUE(MID(G8,1,K8-4)) -> 21 | O8: =VALUE(MID(G8,K8-4+1,2)) -> 21 | P8: =VALUE(RIGHT(G8,2)) -> 47 | R8: =IF(O8<VLOOKUP(F8,'Horario salida'!$C$3:$E$32,3,FALSE),N8-1,N8) -> 21 | S8: =IF(O8<VLOOKUP(F8,'Horario salida'!$C$3:$E$32,3,FALSE),O8+60,O8) -> 21 | T8: =IF(P8<VLOOKUP(F8,'Horario salida'!$C$3:$F$32,4,FALSE),S8-1,S8) -> 21 | U8: =IF(P8<VLOOKUP(F8,'Horario salida'!$C$3:$F$32,4,FALSE),P8+100,P8) -> 47 | Y8: =R8-VLOOKUP(F8,'Horario salida'!$C$3:$D$34,2,FALSE) -> 21 | Z8: =T8-VLOOKUP(F8,'Horario salida'!$C$3:$E$32,3,FALSE) -> 21 | AA8: =U8-VLOOKUP(F8,'Horario salida'!$C$3:$F$32,4,FALSE) -> 47 | AC8: =TEXT(Y8,"00") -> 21 | AD8: =TEXT(Z8,"00") -> 21 | AE8: =TEXT(AA8,"00") -> 47
B9: 29 | C9: 272 | D9: =VLOOKUP(C9,'1 - Dorsales clubs'!B:C,2,FALSE) -> Pablo Zamora Bustamante | E9: =VLOOKUP(D9,'1 - Dorsales clubs'!C:D,2,FALSE) -> Club Piragüismo Las Grajas | F9: HSK1 | G9: =VLOOKUP(C9,TºCrono!B:C,2,FALSE) -> 212267 | I9: =IF(G9="D","DESCALIF.",IF(G9="A","ABANDONO",IF(G9="N","NO PRES.",CONCATENATE(AC9,":",AD9,":",AE9)))) -> 21:22:67 | K9: =LEN(G9) -> 6 | N9: =VALUE(MID(G9,1,K9-4)) -> 21 | O9: =VALUE(MID(G9,K9-4+1,2)) -> 22 | P9: =VALUE(RIGHT(G9,2)) -> 67 | R9: =IF(O9<VLOOKUP(F9,'Horario salida'!$C$3:$E$32,3,FALSE),N9-1,N9) -> 21 | S9: =IF(O9<VLOOKUP(F9,'Horario salida'!$C$3:$E$32,3,FALSE),O9+60,O9) -> 22 | T9: =IF(P9<VLOOKUP(F9,'Horario salida'!$C$3:$F$32,4,FALSE),S9-1,S9) -> 22 | U9: =IF(P9<VLOOKUP(F9,'Horario salida'!$C$3:$F$32,4,FALSE),P9+100,P9) -> 67 | Y9: =R9-VLOOKUP(F9,'Horario salida'!$C$3:$D$34,2,FALSE) -> 21 | Z9: =T9-VLOOKUP(F9,'Horario salida'!$C$3:$E$32,3,FALSE) -> 22 | AA9: =U9-VLOOKUP(F9,'Horario salida'!$C$3:$F$32,4,FALSE) -> 67 | AC9: =TEXT(Y9,"00") -> 21 | AD9: =TEXT(Z9,"00") -> 22 | AE9: =TEXT(AA9,"00") -> 67
B10: 26 | C10: 95 | D10: =VLOOKUP(C10,'1 - Dorsales clubs'!B:C,2,FALSE) -> IKER BOE GARCIA | E10: =VLOOKUP(D10,'1 - Dorsales clubs'!C:D,2,FALSE) -> CLUB PIRAGÜISMO ANTARES | F10: HSK1 | G10: =VLOOKUP(C10,TºCrono!B:C,2,FALSE) -> 212382 | I10: =IF(G10="D","DESCALIF.",IF(G10="A","ABANDONO",IF(G10="N","NO PRES.",CONCATENATE(AC10,":",AD10,":",AE10)))) -> 21:23:82 | K10: =LEN(G10) -> 6 | N10: =VALUE(MID(G10,1,K10-4)) -> 21 | O10: =VALUE(MID(G10,K10-4+1,2)) -> 23 | P10: =VALUE(RIGHT(G10,2)) -> 82 | R10: =IF(O10<VLOOKUP(F10,'Horario salida'!$C$3:$E$32,3,FALSE),N10-1,N10) -> 21 | S10: =IF(O10<VLOOKUP(F10,'Horario salida'!$C$3:$E$32,3,FALSE),O10+60,O10) -> 23 | T10: =IF(P10<VLOOKUP(F10,'Horario salida'!$C$3:$F$32,4,FALSE),S10-1,S10) -> 23 | U10: =IF(P10<VLOOKUP(F10,'Horario salida'!$C$3:$F$32,4,FALSE),P10+100,P10) -> 82 | Y10: =R10-VLOOKUP(F10,'Horario salida'!$C$3:$D$34,2,FALSE) -> 21 | Z10: =T10-VLOOKUP(F10,'Horario salida'!$C$3:$E$32,3,FALSE) -> 23 | AA10: =U10-VLOOKUP(F10,'Horario salida'!$C$3:$F$32,4,FALSE) -> 82 | AC10: =TEXT(Y10,"00") -> 21 | AD10: =TEXT(Z10,"00") -> 23 | AE10: =TEXT(AA10,"00") -> 82
B11: 24 | C11: 255 | D11: =VLOOKUP(C11,'1 - Dorsales clubs'!B:C,2,FALSE) -> Francesco Urdiroz Agati | E11: =VLOOKUP(D11,'1 - Dorsales clubs'!C:D,2,FALSE) -> Club Natación Pamplona | F11: HSK1 | G11: =VLOOKUP(C11,TºCrono!B:C,2,FALSE) -> 213293 | I11: =IF(G11="D","DESCALIF.",IF(G11="A","ABANDONO",IF(G11="N","NO PRES.",CONCATENATE(AC11,":",AD11,":",AE11)))) -> 21:32:93 | K11: =LEN(G11) -> 6 | N11: =VALUE(MID(G11,1,K11-4)) -> 21 | O11: =VALUE(MID(G11,K11-4+1,2)) -> 32 | P11: =VALUE(RIGHT(G11,2)) -> 93 | R11: =IF(O11<VLOOKUP(F11,'Horario salida'!$C$3:$E$32,3,FALSE),N11-1,N11) -> 21 | S11: =IF(O11<VLOOKUP(F11,'Horario salida'!$C$3:$E$32,3,FALSE),O11+60,O11) -> 32 | T11: =IF(P11<VLOOKUP(F11,'Horario salida'!$C$3:$F$32,4,FALSE),S11-1,S11) -> 32 | U11: =IF(P11<VLOOKUP(F11,'Horario salida'!$C$3:$F$32,4,FALSE),P11+100,P11) -> 93 | Y11: =R11-VLOOKUP(F11,'Horario salida'!$C$3:$D$34,2,FALSE) -> 21 | Z11: =T11-VLOOKUP(F11,'Horario salida'!$C$3:$E$32,3,FALSE) -> 32 | AA11: =U11-VLOOKUP(F11,'Horario salida'!$C$3:$F$32,4,FALSE) -> 93 | AC11: =TEXT(Y11,"00") -> 21 | AD11: =TEXT(Z11,"00") -> 32 | AE11: =TEXT(AA11,"00") -> 93
B12: 23 | C12: 261 | D12: =VLOOKUP(C12,'1 - Dorsales clubs'!B:C,2,FALSE) -> Aimar Amundarain Aguirre | E12: =VLOOKUP(D12,'1 - Dorsales clubs'!C:D,2,FALSE) -> Zumaiako Urola Itsas Adar | F12: HSK1 | G12: =VLOOKUP(C12,TºCrono!B:C,2,FALSE) -> 215001 | I12: =IF(G12="D","DESCALIF.",IF(G12="A","ABANDONO",IF(G12="N","NO PRES.",CONCATENATE(AC12,":",AD12,":",AE12)))) -> 21:50:01 | K12: =LEN(G12) -> 6 | N12: =VALUE(MID(G12,1,K12-4)) -> 21 | O12: =VALUE(MID(G12,K12-4+1,2)) -> 50 | P12: =VALUE(RIGHT(G12,2)) -> 1 | R12: =IF(O12<VLOOKUP(F12,'Horario salida'!$C$3:$E$32,3,FALSE),N12-1,N12) -> 21 | S12: =IF(O12<VLOOKUP(F12,'Horario salida'!$C$3:$E$32,3,FALSE),O12+60,O12) -> 50 | T12: =IF(P12<VLOOKUP(F12,'Horario salida'!$C$3:$F$32,4,FALSE),S12-1,S12) -> 50 | U12: =IF(P12<VLOOKUP(F12,'Horario salida'!$C$3:$F$32,4,FALSE),P12+100,P12) -> 1 | Y12: =R12-VLOOKUP(F12,'Horario salida'!$C$3:$D$34,2,FALSE) -> 21 | Z12: =T12-VLOOKUP(F12,'Horario salida'!$C$3:$E$32,3,FALSE) -> 50 | AA12: =U12-VLOOKUP(F12,'Horario salida'!$C$3:$F$32,4,FALSE) -> 1 | AC12: =TEXT(Y12,"00") -> 21 | AD12: =TEXT(Z12,"00") -> 50 | AE12: =TEXT(AA12,"00") -> 01
B13: 22 | C13: 123 | D13: =VLOOKUP(C13,'1 - Dorsales clubs'!B:C,2,FALSE) -> Mikel Velasco | E13: =VLOOKUP(D13,'1 - Dorsales clubs'!C:D,2,FALSE) -> CLUB PIRAGUISMO GETXO-GETXO KAYAK | F13: HSK1 | G13: =VLOOKUP(C13,TºCrono!B:C,2,FALSE) -> 220887 | I13: =IF(G13="D","DESCALIF.",IF(G13="A","ABANDONO",IF(G13="N","NO PRES.",CONCATENATE(AC13,":",AD13,":",AE13)))) -> 22:08:87 | K13: =LEN(G13) -> 6 | N13: =VALUE(MID(G13,1,K13-4)) -> 22 | O13: =VALUE(MID(G13,K13-4+1,2)) -> 8 | P13: =VALUE(RIGHT(G13,2)) -> 87 | R13: =IF(O13<VLOOKUP(F13,'Horario salida'!$C$3:$E$32,3,FALSE),N13-1,N13) -> 22 | S13: =IF(O13<VLOOKUP(F13,'Horario salida'!$C$3:$E$32,3,FALSE),O13+60,O13) -> 8 | T13: =IF(P13<VLOOKUP(F13,'Horario salida'!$C$3:$F$32,4,FALSE),S13-1,S13) -> 8 | U13: =IF(P13<VLOOKUP(F13,'Horario salida'!$C$3:$F$32,4,FALSE),P13+100,P13) -> 87 | Y13: =R13-VLOOKUP(F13,'Horario salida'!$C$3:$D$34,2,FALSE) -> 22 | Z13: =T13-VLOOKUP(F13,'Horario salida'!$C$3:$E$32,3,FALSE) -> 8 | AA13: =U13-VLOOKUP(F13,'Horario salida'!$C$3:$F$32,4,FALSE) -> 87 | AC13: =TEXT(Y13,"00") -> 22 | AD13: =TEXT(Z13,"00") -> 08 | AE13: =TEXT(AA13,"00") -> 87
B14: 21 | C14: 209 | D14: =VLOOKUP(C14,'1 - Dorsales clubs'!B:C,2,FALSE) -> JAIME SANTOS CRIADO SORS | E14: =VLOOKUP(D14,'1 - Dorsales clubs'!C:D,2,FALSE) -> CLUB D. PALENTINO PIRAGÜISMO | F14: HSK1 | G14: =VLOOKUP(C14,TºCrono!B:C,2,FALSE) -> 220935 | I14: =IF(G14="D","DESCALIF.",IF(G14="A","ABANDONO",IF(G14="N","NO PRES.",CONCATENATE(AC14,":",AD14,":",AE14)))) -> 22:09:35 | K14: =LEN(G14) -> 6 | N14: =VALUE(MID(G14,1,K14-4)) -> 22 | O14: =VALUE(MID(G14,K14-4+1,2)) -> 9 | P14: =VALUE(RIGHT(G14,2)) -> 35 | R14: =IF(O14<VLOOKUP(F14,'Horario salida'!$C$3:$E$32,3,FALSE),N14-1,N14) -> 22 | S14: =IF(O14<VLOOKUP(F14,'Horario salida'!$C$3:$E$32,3,FALSE),O14+60,O14) -> 9 | T14: =IF(P14<VLOOKUP(F14,'Horario salida'!$C$3:$F$32,4,FALSE),S14-1,S14) -> 9 | U14: =IF(P14<VLOOKUP(F14,'Horario salida'!$C$3:$F$32,4,FALSE),P14+100,P14) -> 35 | Y14: =R14-VLOOKUP(F14,'Horario salida'!$C$3:$D$34,2,FALSE) -> 22 | Z14: =T14-VLOOKUP(F14,'Horario salida'!$C$3:$E$32,3,FALSE) -> 9 | AA14: =U14-VLOOKUP(F14,'Horario salida'!$C$3:$F$32,4,FALSE) -> 35 | AC14: =TEXT(Y14,"00") -> 22 | AD14: =TEXT(Z14,"00") -> 09 | AE14: =TEXT(AA14,"00") -> 35
B15: 20 | C15: 92 | D15: =VLOOKUP(C15,'1 - Dorsales clubs'!B:C,2,FALSE) -> PABLO MARTÍNEZ LÓPEZ | E15: =VLOOKUP(D15,'1 - Dorsales clubs'!C:D,2,FALSE) -> CLUB ESCUELA DE PIRAGUISMO ARANJUEZ | F15: HSK1 | G15: =VLOOKUP(C15,TºCrono!B:C,2,FALSE) -> 220980 | I15: =IF(G15="D","DESCALIF.",IF(G15="A","ABANDONO",IF(G15="N","NO PRES.",CONCATENATE(AC15,":",AD15,":",AE15)))) -> 22:09:80 | K15: =LEN(G15) -> 6 | N15: =VALUE(MID(G15,1,K15-4)) -> 22 | O15: =VALUE(MID(G15,K15-4+1,2)) -> 9 | P15: =VALUE(RIGHT(G15,2)) -> 80 | R15: =IF(O15<VLOOKUP(F15,'Horario salida'!$C$3:$E$32,3,FALSE),N15-1,N15) -> 22 | S15: =IF(O15<VLOOKUP(F15,'Horario salida'!$C$3:$E$32,3,FALSE),O15+60,O15) -> 9 | T15: =IF(P15<VLOOKUP(F15,'Horario salida'!$C$3:$F$32,4,FALSE),S15-1,S15) -> 9 | U15: =IF(P15<VLOOKUP(F15,'Horario salida'!$C$3:$F$32,4,FALSE),P15+100,P15) -> 80 | Y15: =R15-VLOOKUP(F15,'Horario salida'!$C$3:$D$34,2,FALSE) -> 22 | Z15: =T15-VLOOKUP(F15,'Horario salida'!$C$3:$E$32,3,FALSE) -> 9 | AA15: =U15-VLOOKUP(F15,'Horario salida'!$C$3:$F$32,4,FALSE) -> 80 | AC15: =TEXT(Y15,"00") -> 22 | AD15: =TEXT(Z15,"00") -> 09 | AE15: =TEXT(AA15,"00") -> 80
B16: 19 | C16: 254 | D16: =VLOOKUP(C16,'1 - Dorsales clubs'!B:C,2,FALSE) -> Aritz Martiartu Orta | E16: =VLOOKUP(D16,'1 - Dorsales clubs'!C:D,2,FALSE) -> Club Natación Pamplona | F16: HSK1 | G16: =VLOOKUP(C16,TºCrono!B:C,2,FALSE) -> 230635 | I16: =IF(G16="D","DESCALIF.",IF(G16="A","ABANDONO",IF(G16="N","NO PRES.",CONCATENATE(AC16,":",AD16,":",AE16)))) -> 23:06:35 | K16: =LEN(G16) -> 6 | N16: =VALUE(MID(G16,1,K16-4)) -> 23 | O16: =VALUE(MID(G16,K16-4+1,2)) -> 6 | P16: =VALUE(RIGHT(G16,2)) -> 35 | R16: =IF(O16<VLOOKUP(F16,'Horario salida'!$C$3:$E$32,3,FALSE),N16-1,N16) -> 23 | S16: =IF(O16<VLOOKUP(F16,'Horario salida'!$C$3:$E$32,3,FALSE),O16+60,O16) -> 6 | T16: =IF(P16<VLOOKUP(F16,'Horario salida'!$C$3:$F$32,4,FALSE),S16-1,S16) -> 6 | U16: =IF(P16<VLOOKUP(F16,'Horario salida'!$C$3:$F$32,4,FALSE),P16+100,P16) -> 35 | Y16: =R16-VLOOKUP(F16,'Horario salida'!$C$3:$D$34,2,FALSE) -> 23 | Z16: =T16-VLOOKUP(F16,'Horario salida'!$C$3:$E$32,3,FALSE) -> 6 | AA16: =U16-VLOOKUP(F16,'Horario salida'!$C$3:$F$32,4,FALSE) -> 35 | AC16: =TEXT(Y16,"00") -> 23 | AD16: =TEXT(Z16,"00") -> 06 | AE16: =TEXT(AA16,"00") -> 35
B17: 18 | C17: 241 | D17: =VLOOKUP(C17,'1 - Dorsales clubs'!B:C,2,FALSE) -> LUIS MARTINEZ | E17: =VLOOKUP(D17,'1 - Dorsales clubs'!C:D,2,FALSE) -> CD MONKAYAK HIBERUS | F17: HSK1 | G17: =VLOOKUP(C17,TºCrono!B:C,2,FALSE) -> 235407 | I17: =IF(G17="D","DESCALIF.",IF(G17="A","ABANDONO",IF(G17="N","NO PRES.",CONCATENATE(AC17,":",AD17,":",AE17)))) -> 23:54:07 | K17: =LEN(G17) -> 6 | N17: =VALUE(MID(G17,1,K17-4)) -> 23 | O17: =VALUE(MID(G17,K17-4+1,2)) -> 54 | P17: =VALUE(RIGHT(G17,2)) -> 7 | R17: =IF(O17<VLOOKUP(F17,'Horario salida'!$C$3:$E$32,3,FALSE),N17-1,N17) -> 23 | S17: =IF(O17<VLOOKUP(F17,'Horario salida'!$C$3:$E$32,3,FALSE),O17+60,O17) -> 54 | T17: =IF(P17<VLOOKUP(F17,'Horario salida'!$C$3:$F$32,4,FALSE),S17-1,S17) -> 54 | U17: =IF(P17<VLOOKUP(F17,'Horario salida'!$C$3:$F$32,4,FALSE),P17+100,P17) -> 7 | Y17: =R17-VLOOKUP(F17,'Horario salida'!$C$3:$D$34,2,FALSE) -> 23 | Z17: =T17-VLOOKUP(F17,'Horario salida'!$C$3:$E$32,3,FALSE) -> 54 | AA17: =U17-VLOOKUP(F17,'Horario salida'!$C$3:$F$32,4,FALSE) -> 7 | AC17: =TEXT(Y17,"00") -> 23 | AD17: =TEXT(Z17,"00") -> 54 | AE17: =TEXT(AA17,"00") -> 07
B18: 17 | C18: 208 | D18: =VLOOKUP(C18,'1 - Dorsales clubs'!B:C,2,FALSE) -> SERGIO MEDINA MERINO | E18: =VLOOKUP(D18,'1 - Dorsales clubs'!C:D,2,FALSE) -> CLUB D. PALENTINO PIRAGÜISMO | F18: HSK1 | G18: =VLOOKUP(C18,TºCrono!B:C,2,FALSE) -> 235556 | I18: =IF(G18="D","DESCALIF.",IF(G18="A","ABANDONO",IF(G18="N","NO PRES.",CONCATENATE(AC18,":",AD18,":",AE18)))) -> 23:55:56 | K18: =LEN(G18) -> 6 | N18: =VALUE(MID(G18,1,K18-4)) -> 23 | O18: =VALUE(MID(G18,K18-4+1,2)) -> 55 | P18: =VALUE(RIGHT(G18,2)) -> 56 | R18: =IF(O18<VLOOKUP(F18,'Horario salida'!$C$3:$E$32,3,FALSE),N18-1,N18) -> 23 | S18: =IF(O18<VLOOKUP(F18,'Horario salida'!$C$3:$E$32,3,FALSE),O18+60,O18) -> 55 | T18: =IF(P18<VLOOKUP(F18,'Horario salida'!$C$3:$F$32,4,FALSE),S18-1,S18) -> 55 | U18: =IF(P18<VLOOKUP(F18,'Horario salida'!$C$3:$F$32,4,FALSE),P18+100,P18) -> 56 | Y18: =R18-VLOOKUP(F18,'Horario salida'!$C$3:$D$34,2,FALSE) -> 23 | Z18: =T18-VLOOKUP(F18,'Horario salida'!$C$3:$E$32,3,FALSE) -> 55 | AA18: =U18-VLOOKUP(F18,'Horario salida'!$C$3:$F$32,4,FALSE) -> 56 | AC18: =TEXT(Y18,"00") -> 23 | AD18: =TEXT(Z18,"00") -> 55 | AE18: =TEXT(AA18,"00") -> 56
B19: 16 | C19: 175 | D19: =VLOOKUP(C19,'1 - Dorsales clubs'!B:C,2,FALSE) -> ALEX ASENSIO BOJ | E19: =VLOOKUP(D19,'1 - Dorsales clubs'!C:D,2,FALSE) -> CENTRO NATACIÓN HELIOS | F19: HSK1 | G19: =VLOOKUP(C19,TºCrono!B:C,2,FALSE) -> 240215 | I19: =IF(G19="D","DESCALIF.",IF(G19="A","ABANDONO",IF(G19="N","NO PRES.",CONCATENATE(AC19,":",AD19,":",AE19)))) -> 24:02:15 | K19: =LEN(G19) -> 6 | N19: =VALUE(MID(G19,1,K19-4)) -> 24 | O19: =VALUE(MID(G19,K19-4+1,2)) -> 2 | P19: =VALUE(RIGHT(G19,2)) -> 15 | R19: =IF(O19<VLOOKUP(F19,'Horario salida'!$C$3:$E$32,3,FALSE),N19-1,N19) -> 24 | S19: =IF(O19<VLOOKUP(F19,'Horario salida'!$C$3:$E$32,3,FALSE),O19+60,O19) -> 2 | T19: =IF(P19<VLOOKUP(F19,'Horario salida'!$C$3:$F$32,4,FALSE),S19-1,S19) -> 2 | U19: =IF(P19<VLOOKUP(F19,'Horario salida'!$C$3:$F$32,4,FALSE),P19+100,P19) -> 15 | Y19: =R19-VLOOKUP(F19,'Horario salida'!$C$3:$D$34,2,FALSE) -> 24 | Z19: =T19-VLOOKUP(F19,'Horario salida'!$C$3:$E$32,3,FALSE) -> 2 | AA19: =U19-VLOOKUP(F19,'Horario salida'!$C$3:$F$32,4,FALSE) -> 15 | AC19: =TEXT(Y19,"00") -> 24 | AD19: =TEXT(Z19,"00") -> 02 | AE19: =TEXT(AA19,"00") -> 15
... B28: 7 | C28: 113 | D28: =VLOOKUP(C28,'1 - Dorsales clubs'!B:C,2,FALSE) -> IBAI GARCIA DEL VAL | E28: =VLOOKUP(D28,'1 - Dorsales clubs'!C:D,2,FALSE) -> CLUB PIRAGÜISMO ANTARES | F28: HSK1 | G28: =VLOOKUP(C28,TºCrono!B:C,2,FALSE) -> 282720 | I28: =IF(G28="D","DESCALIF.",IF(G28="A","ABANDONO",IF(G28="N","NO PRES.",CONCATENATE(AC28,":",AD28,":",AE28)))) -> 28:27:20 | K28: =LEN(G28) -> 6 | N28: =VALUE(MID(G28,1,K28-4)) -> 28 | O28: =VALUE(MID(G28,K28-4+1,2)) -> 27 | P28: =VALUE(RIGHT(G28,2)) -> 20 | R28: =IF(O28<VLOOKUP(F28,'Horario salida'!$C$3:$E$32,3,FALSE),N28-1,N28) -> 28 | S28: =IF(O28<VLOOKUP(F28,'Horario salida'!$C$3:$E$32,3,FALSE),O28+60,O28) -> 27 | T28: =IF(P28<VLOOKUP(F28,'Horario salida'!$C$3:$F$32,4,FALSE),S28-1,S28) -> 27 | U28: =IF(P28<VLOOKUP(F28,'Horario salida'!$C$3:$F$32,4,FALSE),P28+100,P28) -> 20 | Y28: =R28-VLOOKUP(F28,'Horario salida'!$C$3:$D$34,2,FALSE) -> 28 | Z28: =T28-VLOOKUP(F28,'Horario salida'!$C$3:$E$32,3,FALSE) -> 27 | AA28: =U28-VLOOKUP(F28,'Horario salida'!$C$3:$F$32,4,FALSE) -> 20 | AC28: =TEXT(Y28,"00") -> 28 | AD28: =TEXT(Z28,"00") -> 27 | AE28: =TEXT(AA28,"00") -> 20
D30: CATEGORIA | E30: HOMBRE JUNIOR | F30: K1 | I30: =VLOOKUP(F32,DATOS!$C$5:$D$40,2,FALSE) -> 4 | J30: =COUNTIF(F32:$F$802,F32) -> 4
B31: PTOS | C31: DORSAL | D31: NOMBRE | E31: CLUB | F31: CAT. | G31: Tº CRONO | I31: Tº REAL
B32: 33 | C32: 107 | D32: =VLOOKUP(C32,'1 - Dorsales clubs'!B:C,2,FALSE) -> HÉCTOR VELASCO ÁLVAREZ | E32: =VLOOKUP(D32,'1 - Dorsales clubs'!C:D,2,FALSE) -> CLUB PIRAGÜISMO ANTARES | F32: HJK1 | G32: =VLOOKUP(C32,TºCrono!B:C,2,FALSE) -> 240906 | I32: =IF(G32="D","DESCALIF.",IF(G32="A","ABANDONO",IF(G32="N","NO PRES.",CONCATENATE(AC32,":",AD32,":",AE32)))) -> 24:09:06 | K32: =LEN(G32) -> 6 | N32: =VALUE(MID(G32,1,K32-4)) -> 24 | O32: =VALUE(MID(G32,K32-4+1,2)) -> 9 | P32: =VALUE(RIGHT(G32,2)) -> 6 | R32: =IF(O32<VLOOKUP(F32,'Horario salida'!$C$3:$E$32,3,FALSE),N32-1,N32) -> 24 | S32: =IF(O32<VLOOKUP(F32,'Horario salida'!$C$3:$E$32,3,FALSE),O32+60,O32) -> 9 | T32: =IF(P32<VLOOKUP(F32,'Horario salida'!$C$3:$F$32,4,FALSE),S32-1,S32) -> 9 | U32: =IF(P32<VLOOKUP(F32,'Horario salida'!$C$3:$F$32,4,FALSE),P32+100,P32) -> 6 | Y32: =R32-VLOOKUP(F32,'Horario salida'!$C$3:$D$34,2,FALSE) -> 24 | Z32: =T32-VLOOKUP(F32,'Horario salida'!$C$3:$E$32,3,FALSE) -> 9 | AA32: =U32-VLOOKUP(F32,'Horario salida'!$C$3:$F$32,4,FALSE) -> 6 | AC32: =TEXT(Y32,"00") -> 24 | AD32: =TEXT(Z32,"00") -> 09 | AE32: =TEXT(AA32,"00") -> 06
B33: 29 | C33: 192 | D33: =VLOOKUP(C33,'1 - Dorsales clubs'!B:C,2,FALSE) -> JORGE PEÑA CARNICER | E33: =VLOOKUP(D33,'1 - Dorsales clubs'!C:D,2,FALSE) -> CENTRO NATACIÓN HELIOS | F33: HJK1 | G33: =VLOOKUP(C33,TºCrono!B:C,2,FALSE) -> 241346 | I33: =IF(G33="D","DESCALIF.",IF(G33="A","ABANDONO",IF(G33="N","NO PRES.",CONCATENATE(AC33,":",AD33,":",AE33)))) -> 24:13:46 | K33: =LEN(G33) -> 6 | N33: =VALUE(MID(G33,1,K33-4)) -> 24 | O33: =VALUE(MID(G33,K33-4+1,2)) -> 13 | P33: =VALUE(RIGHT(G33,2)) -> 46 | R33: =IF(O33<VLOOKUP(F33,'Horario salida'!$C$3:$E$32,3,FALSE),N33-1,N33) -> 24 | S33: =IF(O33<VLOOKUP(F33,'Horario salida'!$C$3:$E$32,3,FALSE),O33+60,O33) -> 13 | T33: =IF(P33<VLOOKUP(F33,'Horario salida'!$C$3:$F$32,4,FALSE),S33-1,S33) -> 13 | U33: =IF(P33<VLOOKUP(F33,'Horario salida'!$C$3:$F$32,4,FALSE),P33+100,P33) -> 46 | Y33: =R33-VLOOKUP(F33,'Horario salida'!$C$3:$D$34,2,FALSE) -> 24 | Z33: =T33-VLOOKUP(F33,'Horario salida'!$C$3:$E$32,3,FALSE) -> 13 | AA33: =U33-VLOOKUP(F33,'Horario salida'!$C$3:$F$32,4,FALSE) -> 46 | AC33: =TEXT(Y33,"00") -> 24 | AD33: =TEXT(Z33,"00") -> 13 | AE33: =TEXT(AA33,"00") -> 46
B34: 26 | C34: 194 | D34: =VLOOKUP(C34,'1 - Dorsales clubs'!B:C,2,FALSE) -> MATEO PULIDO BERDUN | E34: =VLOOKUP(D34,'1 - Dorsales clubs'!C:D,2,FALSE) -> CENTRO NATACIÓN HELIOS | F34: HJK1 | G34: =VLOOKUP(C34,TºCrono!B:C,2,FALSE) -> 243880 | I34: =IF(G34="D","DESCALIF.",IF(G34="A","ABANDONO",IF(G34="N","NO PRES.",CONCATENATE(AC34,":",AD34,":",AE34)))) -> 24:38:80 | K34: =LEN(G34) -> 6 | N34: =VALUE(MID(G34,1,K34-4)) -> 24 | O34: =VALUE(MID(G34,K34-4+1,2)) -> 38 | P34: =VALUE(RIGHT(G34,2)) -> 80 | R34: =IF(O34<VLOOKUP(F34,'Horario salida'!$C$3:$E$32,3,FALSE),N34-1,N34) -> 24 | S34: =IF(O34<VLOOKUP(F34,'Horario salida'!$C$3:$E$32,3,FALSE),O34+60,O34) -> 38 | T34: =IF(P34<VLOOKUP(F34,'Horario salida'!$C$3:$F$32,4,FALSE),S34-1,S34) -> 38 | U34: =IF(P34<VLOOKUP(F34,'Horario salida'!$C$3:$F$32,4,FALSE),P34+100,P34) -> 80 | Y34: =R34-VLOOKUP(F34,'Horario salida'!$C$3:$D$34,2,FALSE) -> 24 | Z34: =T34-VLOOKUP(F34,'Horario salida'!$C$3:$E$32,3,FALSE) -> 38 | AA34: =U34-VLOOKUP(F34,'Horario salida'!$C$3:$F$32,4,FALSE) -> 80 | AC34: =TEXT(Y34,"00") -> 24 | AD34: =TEXT(Z34,"00") -> 38 | AE34: =TEXT(AA34,"00") -> 80
B35: 24 | C35: 239 | D35: =VLOOKUP(C35,'1 - Dorsales clubs'!B:C,2,FALSE) -> MARKEL COTERA | E35: =VLOOKUP(D35,'1 - Dorsales clubs'!C:D,2,FALSE) -> CD MONKAYAK HIBERUS | F35: HJK1 | G35: =VLOOKUP(C35,TºCrono!B:C,2,FALSE) -> 262804 | I35: =IF(G35="D","DESCALIF.",IF(G35="A","ABANDONO",IF(G35="N","NO PRES.",CONCATENATE(AC35,":",AD35,":",AE35)))) -> 26:28:04 | K35: =LEN(G35) -> 6 | N35: =VALUE(MID(G35,1,K35-4)) -> 26 | O35: =VALUE(MID(G35,K35-4+1,2)) -> 28 | P35: =VALUE(RIGHT(G35,2)) -> 4 | R35: =IF(O35<VLOOKUP(F35,'Horario salida'!$C$3:$E$32,3,FALSE),N35-1,N35) -> 26 | S35: =IF(O35<VLOOKUP(F35,'Horario salida'!$C$3:$E$32,3,FALSE),O35+60,O35) -> 28 | T35: =IF(P35<VLOOKUP(F35,'Horario salida'!$C$3:$F$32,4,FALSE),S35-1,S35) -> 28 | U35: =IF(P35<VLOOKUP(F35,'Horario salida'!$C$3:$F$32,4,FALSE),P35+100,P35) -> 4 | Y35: =R35-VLOOKUP(F35,'Horario salida'!$C$3:$D$34,2,FALSE) -> 26 | Z35: =T35-VLOOKUP(F35,'Horario salida'!$C$3:$E$32,3,FALSE) -> 28 | AA35: =U35-VLOOKUP(F35,'Horario salida'!$C$3:$F$32,4,FALSE) -> 4 | AC35: =TEXT(Y35,"00") -> 26 | AD35: =TEXT(Z35,"00") -> 28 | AE35: =TEXT(AA35,"00") -> 04
D37: CATEGORIA | E37: HOMBRE VETERANO 35 | F37: K1 | I37: =VLOOKUP(F39,DATOS!$C$5:$D$40,2,FALSE) -> 10 | J37: =COUNTIF(F39:$F$802,F39) -> 10
B38: PTOS | C38: DORSAL | D38: NOMBRE | E38: CLUB | F38: CAT. | G38: Tº CRONO | I38: Tº REAL
B39: 33 | C39: 269 | D39: =VLOOKUP(C39,'1 - Dorsales clubs'!B:C,2,FALSE) -> David Machado Herrezuelo | E39: =VLOOKUP(D39,'1 - Dorsales clubs'!C:D,2,FALSE) -> Los Cuervos de Pravia | F39: HVK1_35 | G39: =VLOOKUP(C39,TºCrono!B:C,2,FALSE) -> 233034 | I39: =IF(G39="D","DESCALIF.",IF(G39="A","ABANDONO",IF(G39="N","NO PRES.",CONCATENATE(AC39,":",AD39,":",AE39)))) -> 22:45:34 | K39: =LEN(G39) -> 6 | N39: =VALUE(MID(G39,1,K39-4)) -> 23 | O39: =VALUE(MID(G39,K39-4+1,2)) -> 30 | P39: =VALUE(RIGHT(G39,2)) -> 34 | R39: =IF(O39<VLOOKUP(F39,'Horario salida'!$C$3:$E$32,3,FALSE),N39-1,N39) -> 22 | S39: =IF(O39<VLOOKUP(F39,'Horario salida'!$C$3:$E$32,3,FALSE),O39+60,O39) -> 90 | T39: =IF(P39<VLOOKUP(F39,'Horario salida'!$C$3:$F$32,4,FALSE),S39-1,S39) -> 90 | U39: =IF(P39<VLOOKUP(F39,'Horario salida'!$C$3:$F$32,4,FALSE),P39+100,P39) -> 34 | Y39: =R39-VLOOKUP(F39,'Horario salida'!$C$3:$D$34,2,FALSE) -> 22 | Z39: =T39-VLOOKUP(F39,'Horario salida'!$C$3:$E$32,3,FALSE) -> 45 | AA39: =U39-VLOOKUP(F39,'Horario salida'!$C$3:$F$32,4,FALSE) -> 34 | AC39: =TEXT(Y39,"00") -> 22 | AD39: =TEXT(Z39,"00") -> 45 | AE39: =TEXT(AA39,"00") -> 34
B40: 29 | C40: 45 | D40: =VLOOKUP(C40,'1 - Dorsales clubs'!B:C,2,FALSE) -> Víctor Bobillo | E40: =VLOOKUP(D40,'1 - Dorsales clubs'!C:D,2,FALSE) -> Alberche Kayak Club | F40: HVK1_35 | G40: =VLOOKUP(C40,TºCrono!B:C,2,FALSE) -> 241013 | I40: =IF(G40="D","DESCALIF.",IF(G40="A","ABANDONO",IF(G40="N","NO PRES.",CONCATENATE(AC40,":",AD40,":",AE40)))) -> 23:25:13 | K40: =LEN(G40) -> 6 | N40: =VALUE(MID(G40,1,K40-4)) -> 24 | O40: =VALUE(MID(G40,K40-4+1,2)) -> 10 | P40: =VALUE(RIGHT(G40,2)) -> 13 | R40: =IF(O40<VLOOKUP(F40,'Horario salida'!$C$3:$E$32,3,FALSE),N40-1,N40) -> 23 | S40: =IF(O40<VLOOKUP(F40,'Horario salida'!$C$3:$E$32,3,FALSE),O40+60,O40) -> 70 | T40: =IF(P40<VLOOKUP(F40,'Horario salida'!$C$3:$F$32,4,FALSE),S40-1,S40) -> 70 | U40: =IF(P40<VLOOKUP(F40,'Horario salida'!$C$3:$F$32,4,FALSE),P40+100,P40) -> 13 | Y40: =R40-VLOOKUP(F40,'Horario salida'!$C$3:$D$34,2,FALSE) -> 23 | Z40: =T40-VLOOKUP(F40,'Horario salida'!$C$3:$E$32,3,FALSE) -> 25 | AA40: =U40-VLOOKUP(F40,'Horario salida'!$C$3:$F$32,4,FALSE) -> 13 | AC40: =TEXT(Y40,"00") -> 23 | AD40: =TEXT(Z40,"00") -> 25 | AE40: =TEXT(AA40,"00") -> 13
B41: 26 | C41: 16 | D41: =VLOOKUP(C41,'1 - Dorsales clubs'!B:C,2,FALSE) -> Javier Rodero la Fuente | E41: =VLOOKUP(D41,'1 - Dorsales clubs'!C:D,2,FALSE) -> Club Deportivo enhol Ebrokayak | F41: HVK1_35 | G41: =VLOOKUP(C41,TºCrono!B:C,2,FALSE) -> 254079 | I41: =IF(G41="D","DESCALIF.",IF(G41="A","ABANDONO",IF(G41="N","NO PRES.",CONCATENATE(AC41,":",AD41,":",AE41)))) -> 24:55:79 | K41: =LEN(G41) -> 6 | N41: =VALUE(MID(G41,1,K41-4)) -> 25 | O41: =VALUE(MID(G41,K41-4+1,2)) -> 40 | P41: =VALUE(RIGHT(G41,2)) -> 79 | R41: =IF(O41<VLOOKUP(F41,'Horario salida'!$C$3:$E$32,3,FALSE),N41-1,N41) -> 24 | S41: =IF(O41<VLOOKUP(F41,'Horario salida'!$C$3:$E$32,3,FALSE),O41+60,O41) -> 100 | T41: =IF(P41<VLOOKUP(F41,'Horario salida'!$C$3:$F$32,4,FALSE),S41-1,S41) -> 100 | U41: =IF(P41<VLOOKUP(F41,'Horario salida'!$C$3:$F$32,4,FALSE),P41+100,P41) -> 79 | Y41: =R41-VLOOKUP(F41,'Horario salida'!$C$3:$D$34,2,FALSE) -> 24 | Z41: =T41-VLOOKUP(F41,'Horario salida'!$C$3:$E$32,3,FALSE) -> 55 | AA41: =U41-VLOOKUP(F41,'Horario salida'!$C$3:$F$32,4,FALSE) -> 79 | AC41: =TEXT(Y41,"00") -> 24 | AD41: =TEXT(Z41,"00") -> 55 | AE41: =TEXT(AA41,"00") -> 79
B42: 24 | C42: 242 | D42: =VLOOKUP(C42,'1 - Dorsales clubs'!B:C,2,FALSE) -> CARLOS ORIGÜEN | E42: =VLOOKUP(D42,'1 - Dorsales clubs'!C:D,2,FALSE) -> CD MONKAYAK HIBERUS | F42: HVK1_35 | G42: =VLOOKUP(C42,TºCrono!B:C,2,FALSE) -> 264593 | I42: =IF(G42="D","DESCALIF.",IF(G42="A","ABANDONO",IF(G42="N","NO PRES.",CONCATENATE(AC42,":",AD42,":",AE42)))) -> 26:00:93 | K42: =LEN(G42) -> 6 | N42: =VALUE(MID(G42,1,K42-4)) -> 26 | O42: =VALUE(MID(G42,K42-4+1,2)) -> 45 | P42: =VALUE(RIGHT(G42,2)) -> 93 | R42: =IF(O42<VLOOKUP(F42,'Horario salida'!$C$3:$E$32,3,FALSE),N42-1,N42) -> 26 | S42: =IF(O42<VLOOKUP(F42,'Horario salida'!$C$3:$E$32,3,FALSE),O42+60,O42) -> 45 | T42: =IF(P42<VLOOKUP(F42,'Horario salida'!$C$3:$F$32,4,FALSE),S42-1,S42) -> 45 | U42: =IF(P42<VLOOKUP(F42,'Horario salida'!$C$3:$F$32,4,FALSE),P42+100,P42) -> 93 | Y42: =R42-VLOOKUP(F42,'Horario salida'!$C$3:$D$34,2,FALSE) -> 26 | Z42: =T42-VLOOKUP(F42,'Horario salida'!$C$3:$E$32,3,FALSE) -> 0 | AA42: =U42-VLOOKUP(F42,'Horario salida'!$C$3:$F$32,4,FALSE) -> 93 | AC42: =TEXT(Y42,"00") -> 26 | AD42: =TEXT(Z42,"00") -> 00 | AE42: =TEXT(AA42,"00") -> 93
B43: 23 | C43: 102 | D43: =VLOOKUP(C43,'1 - Dorsales clubs'!B:C,2,FALSE) -> VICTOR SEGURA IZQUIERDO | E43: =VLOOKUP(D43,'1 - Dorsales clubs'!C:D,2,FALSE) -> CLUB PIRAGÜISMO ANTARES | F43: HVK1_35 | G43: =VLOOKUP(C43,TºCrono!B:C,2,FALSE) -> 271243 | I43: =IF(G43="D","DESCALIF.",IF(G43="A","ABANDONO",IF(G43="N","NO PRES.",CONCATENATE(AC43,":",AD43,":",AE43)))) -> 26:27:43 | K43: =LEN(G43) -> 6 | N43: =VALUE(MID(G43,1,K43-4)) -> 27 | O43: =VALUE(MID(G43,K43-4+1,2)) -> 12 | P43: =VALUE(RIGHT(G43,2)) -> 43 | R43: =IF(O43<VLOOKUP(F43,'Horario salida'!$C$3:$E$32,3,FALSE),N43-1,N43) -> 26 | S43: =IF(O43<VLOOKUP(F43,'Horario salida'!$C$3:$E$32,3,FALSE),O43+60,O43) -> 72 | T43: =IF(P43<VLOOKUP(F43,'Horario salida'!$C$3:$F$32,4,FALSE),S43-1,S43) -> 72 | U43: =IF(P43<VLOOKUP(F43,'Horario salida'!$C$3:$F$32,4,FALSE),P43+100,P43) -> 43 | Y43: =R43-VLOOKUP(F43,'Horario salida'!$C$3:$D$34,2,FALSE) -> 26 | Z43: =T43-VLOOKUP(F43,'Horario salida'!$C$3:$E$32,3,FALSE) -> 27 | AA43: =U43-VLOOKUP(F43,'Horario salida'!$C$3:$F$32,4,FALSE) -> 43 | AC43: =TEXT(Y43,"00") -> 26 | AD43: =TEXT(Z43,"00") -> 27 | AE43: =TEXT(AA43,"00") -> 43
B44: 22 | C44: 184 | D44: =VLOOKUP(C44,'1 - Dorsales clubs'!B:C,2,FALSE) -> JAVIER CORTÉS SANTIDRIÁN | E44: =VLOOKUP(D44,'1 - Dorsales clubs'!C:D,2,FALSE) -> CENTRO NATACIÓN HELIOS | F44: HVK1_35 | G44: =VLOOKUP(C44,TºCrono!B:C,2,FALSE) -> 283581 | I44: =IF(G44="D","DESCALIF.",IF(G44="A","ABANDONO",IF(G44="N","NO PRES.",CONCATENATE(AC44,":",AD44,":",AE44)))) -> 27:50:81 | K44: =LEN(G44) -> 6 | N44: =VALUE(MID(G44,1,K44-4)) -> 28 | O44: =VALUE(MID(G44,K44-4+1,2)) -> 35 | P44: =VALUE(RIGHT(G44,2)) -> 81 | R44: =IF(O44<VLOOKUP(F44,'Horario salida'!$C$3:$E$32,3,FALSE),N44-1,N44) -> 27 | S44: =IF(O44<VLOOKUP(F44,'Horario salida'!$C$3:$E$32,3,FALSE),O44+60,O44) -> 95 | T44: =IF(P44<VLOOKUP(F44,'Horario salida'!$C$3:$F$32,4,FALSE),S44-1,S44) -> 95 | U44: =IF(P44<VLOOKUP(F44,'Horario salida'!$C$3:$F$32,4,FALSE),P44+100,P44) -> 81 | Y44: =R44-VLOOKUP(F44,'Horario salida'!$C$3:$D$34,2,FALSE) -> 27 | Z44: =T44-VLOOKUP(F44,'Horario salida'!$C$3:$E$32,3,FALSE) -> 50 | AA44: =U44-VLOOKUP(F44,'Horario salida'!$C$3:$F$32,4,FALSE) -> 81 | AC44: =TEXT(Y44,"00") -> 27 | AD44: =TEXT(Z44,"00") -> 50 | AE44: =TEXT(AA44,"00") -> 81
B45: 21 | C45: 17 | D45: =VLOOKUP(C45,'1 - Dorsales clubs'!B:C,2,FALSE) -> Javier Arnedo Lopez | E45: =VLOOKUP(D45,'1 - Dorsales clubs'!C:D,2,FALSE) -> Club Deportivo enhol Ebrokayak | F45: HVK1_35 | G45: =VLOOKUP(C45,TºCrono!B:C,2,FALSE) -> 291529 | I45: =IF(G45="D","DESCALIF.",IF(G45="A","ABANDONO",IF(G45="N","NO PRES.",CONCATENATE(AC45,":",AD45,":",AE45)))) -> 28:30:29 | K45: =LEN(G45) -> 6 | N45: =VALUE(MID(G45,1,K45-4)) -> 29 | O45: =VALUE(MID(G45,K45-4+1,2)) -> 15 | P45: =VALUE(RIGHT(G45,2)) -> 29 | R45: =IF(O45<VLOOKUP(F45,'Horario salida'!$C$3:$E$32,3,FALSE),N45-1,N45) -> 28 | S45: =IF(O45<VLOOKUP(F45,'Horario salida'!$C$3:$E$32,3,FALSE),O45+60,O45) -> 75 | T45: =IF(P45<VLOOKUP(F45,'Horario salida'!$C$3:$F$32,4,FALSE),S45-1,S45) -> 75 | U45: =IF(P45<VLOOKUP(F45,'Horario salida'!$C$3:$F$32,4,FALSE),P45+100,P45) -> 29 | Y45: =R45-VLOOKUP(F45,'Horario salida'!$C$3:$D$34,2,FALSE) -> 28 | Z45: =T45-VLOOKUP(F45,'Horario salida'!$C$3:$E$32,3,FALSE) -> 30 | AA45: =U45-VLOOKUP(F45,'Horario salida'!$C$3:$F$32,4,FALSE) -> 29 | AC45: =TEXT(Y45,"00") -> 28 | AD45: =TEXT(Z45,"00") -> 30 | AE45: =TEXT(AA45,"00") -> 29
B46: 20 | C46: 37 | D46: =VLOOKUP(C46,'1 - Dorsales clubs'!B:C,2,FALSE) -> Diego Ruiz Martinez | E46: =VLOOKUP(D46,'1 - Dorsales clubs'!C:D,2,FALSE) -> Club Deportivo enhol Ebrokayak | F46: HVK1_35 | G46: =VLOOKUP(C46,TºCrono!B:C,2,FALSE) -> 304149 | I46: =IF(G46="D","DESCALIF.",IF(G46="A","ABANDONO",IF(G46="N","NO PRES.",CONCATENATE(AC46,":",AD46,":",AE46)))) -> 29:56:49 | K46: =LEN(G46) -> 6 | N46: =VALUE(MID(G46,1,K46-4)) -> 30 | O46: =VALUE(MID(G46,K46-4+1,2)) -> 41 | P46: =VALUE(RIGHT(G46,2)) -> 49 | R46: =IF(O46<VLOOKUP(F46,'Horario salida'!$C$3:$E$32,3,FALSE),N46-1,N46) -> 29 | S46: =IF(O46<VLOOKUP(F46,'Horario salida'!$C$3:$E$32,3,FALSE),O46+60,O46) -> 101 | T46: =IF(P46<VLOOKUP(F46,'Horario salida'!$C$3:$F$32,4,FALSE),S46-1,S46) -> 101 | U46: =IF(P46<VLOOKUP(F46,'Horario salida'!$C$3:$F$32,4,FALSE),P46+100,P46) -> 49 | Y46: =R46-VLOOKUP(F46,'Horario salida'!$C$3:$D$34,2,FALSE) -> 29 | Z46: =T46-VLOOKUP(F46,'Horario salida'!$C$3:$E$32,3,FALSE) -> 56 | AA46: =U46-VLOOKUP(F46,'Horario salida'!$C$3:$F$32,4,FALSE) -> 49 | AC46: =TEXT(Y46,"00") -> 29 | AD46: =TEXT(Z46,"00") -> 56 | AE46: =TEXT(AA46,"00") -> 49
B47: 19 | C47: 219 | D47: =VLOOKUP(C47,'1 - Dorsales clubs'!B:C,2,FALSE) -> Carlos Aparicio Morlanes | E47: =VLOOKUP(D47,'1 - Dorsales clubs'!C:D,2,FALSE) -> Club Náutico de Zaragoza | F47: HVK1_35 | G47: =VLOOKUP(C47,TºCrono!B:C,2,FALSE) -> 314187 | I47: =IF(G47="D","DESCALIF.",IF(G47="A","ABANDONO",IF(G47="N","NO PRES.",CONCATENATE(AC47,":",AD47,":",AE47)))) -> 30:56:87 | K47: =LEN(G47) -> 6 | N47: =VALUE(MID(G47,1,K47-4)) -> 31 | O47: =VALUE(MID(G47,K47-4+1,2)) -> 41 | P47: =VALUE(RIGHT(G47,2)) -> 87 | R47: =IF(O47<VLOOKUP(F47,'Horario salida'!$C$3:$E$32,3,FALSE),N47-1,N47) -> 30 | S47: =IF(O47<VLOOKUP(F47,'Horario salida'!$C$3:$E$32,3,FALSE),O47+60,O47) -> 101 | T47: =IF(P47<VLOOKUP(F47,'Horario salida'!$C$3:$F$32,4,FALSE),S47-1,S47) -> 101 | U47: =IF(P47<VLOOKUP(F47,'Horario salida'!$C$3:$F$32,4,FALSE),P47+100,P47) -> 87 | Y47: =R47-VLOOKUP(F47,'Horario salida'!$C$3:$D$34,2,FALSE) -> 30 | Z47: =T47-VLOOKUP(F47,'Horario salida'!$C$3:$E$32,3,FALSE) -> 56 | AA47: =U47-VLOOKUP(F47,'Horario salida'!$C$3:$F$32,4,FALSE) -> 87 | AC47: =TEXT(Y47,"00") -> 30 | AD47: =TEXT(Z47,"00") -> 56 | AE47: =TEXT(AA47,"00") -> 87
B48: 18 | C48: 173 | D48: =VLOOKUP(C48,'1 - Dorsales clubs'!B:C,2,FALSE) -> Unai Blanco Emazabel | E48: =VLOOKUP(D48,'1 - Dorsales clubs'!C:D,2,FALSE) -> Santiagotarrak | F48: HVK1_35 | G48: =VLOOKUP(C48,TºCrono!B:C,2,FALSE) -> 320728 | I48: =IF(G48="D","DESCALIF.",IF(G48="A","ABANDONO",IF(G48="N","NO PRES.",CONCATENATE(AC48,":",AD48,":",AE48)))) -> 31:22:28 | K48: =LEN(G48) -> 6 | N48: =VALUE(MID(G48,1,K48-4)) -> 32 | O48: =VALUE(MID(G48,K48-4+1,2)) -> 7 | P48: =VALUE(RIGHT(G48,2)) -> 28 | R48: =IF(O48<VLOOKUP(F48,'Horario salida'!$C$3:$E$32,3,FALSE),N48-1,N48) -> 31 | S48: =IF(O48<VLOOKUP(F48,'Horario salida'!$C$3:$E$32,3,FALSE),O48+60,O48) -> 67 | T48: =IF(P48<VLOOKUP(F48,'Horario salida'!$C$3:$F$32,4,FALSE),S48-1,S48) -> 67 | U48: =IF(P48<VLOOKUP(F48,'Horario salida'!$C$3:$F$32,4,FALSE),P48+100,P48) -> 28 | Y48: =R48-VLOOKUP(F48,'Horario salida'!$C$3:$D$34,2,FALSE) -> 31 | Z48: =T48-VLOOKUP(F48,'Horario salida'!$C$3:$E$32,3,FALSE) -> 22 | AA48: =U48-VLOOKUP(F48,'Horario salida'!$C$3:$F$32,4,FALSE) -> 28 | AC48: =TEXT(Y48,"00") -> 31 | AD48: =TEXT(Z48,"00") -> 22 | AE48: =TEXT(AA48,"00") -> 28
D50: CATEGORIA | E50: HOMBRE VETERANO 50 | F50: K1 | I50: =VLOOKUP(F52,DATOS!$C$5:$D$40,2,FALSE) -> 14 | J50: =COUNTIF(F52:$F$802,F52) -> 14
B51: PTOS | C51: DORSAL | D51: NOMBRE | E51: CLUB | F51: CAT. | G51: Tº CRONO | I51: Tº REAL
B52: 33 | C52: 36 | D52: =VLOOKUP(C52,'1 - Dorsales clubs'!B:C,2,FALSE) -> Jose Ignacio Sanchez Jimenez | E52: =VLOOKUP(D52,'1 - Dorsales clubs'!C:D,2,FALSE) -> Club Deportivo enhol Ebrokayak | F52: HVK1_50 | G52: =VLOOKUP(C52,TºCrono!B:C,2,FALSE) -> 233168 | I52: =IF(G52="D","DESCALIF.",IF(G52="A","ABANDONO",IF(G52="N","NO PRES.",CONCATENATE(AC52,":",AD52,":",AE52)))) -> 22:46:68 | K52: =LEN(G52) -> 6 | N52: =VALUE(MID(G52,1,K52-4)) -> 23 | O52: =VALUE(MID(G52,K52-4+1,2)) -> 31 | P52: =VALUE(RIGHT(G52,2)) -> 68 | R52: =IF(O52<VLOOKUP(F52,'Horario salida'!$C$3:$E$32,3,FALSE),N52-1,N52) -> 22 | S52: =IF(O52<VLOOKUP(F52,'Horario salida'!$C$3:$E$32,3,FALSE),O52+60,O52) -> 91 | T52: =IF(P52<VLOOKUP(F52,'Horario salida'!$C$3:$F$32,4,FALSE),S52-1,S52) -> 91 | U52: =IF(P52<VLOOKUP(F52,'Horario salida'!$C$3:$F$32,4,FALSE),P52+100,P52) -> 68 | Y52: =R52-VLOOKUP(F52,'Horario salida'!$C$3:$D$34,2,FALSE) -> 22 | Z52: =T52-VLOOKUP(F52,'Horario salida'!$C$3:$E$32,3,FALSE) -> 46 | AA52: =U52-VLOOKUP(F52,'Horario salida'!$C$3:$F$32,4,FALSE) -> 68 | AC52: =TEXT(Y52,"00") -> 22 | AD52: =TEXT(Z52,"00") -> 46 | AE52: =TEXT(AA52,"00") -> 68
B53: 29 | C53: 217 | D53: =VLOOKUP(C53,'1 - Dorsales clubs'!B:C,2,FALSE) -> MARCO A. SANTOS GARCÍA | E53: =VLOOKUP(D53,'1 - Dorsales clubs'!C:D,2,FALSE) -> CLUB D. FUENTES CARRIONAS | F53: HVK1_50 | G53: =VLOOKUP(C53,TºCrono!B:C,2,FALSE) -> 233302 | I53: =IF(G53="D","DESCALIF.",IF(G53="A","ABANDONO",IF(G53="N","NO PRES.",CONCATENATE(AC53,":",AD53,":",AE53)))) -> 22:48:02 | K53: =LEN(G53) -> 6 | N53: =VALUE(MID(G53,1,K53-4)) -> 23 | O53: =VALUE(MID(G53,K53-4+1,2)) -> 33 | P53: =VALUE(RIGHT(G53,2)) -> 2 | R53: =IF(O53<VLOOKUP(F53,'Horario salida'!$C$3:$E$32,3,FALSE),N53-1,N53) -> 22 | S53: =IF(O53<VLOOKUP(F53,'Horario salida'!$C$3:$E$32,3,FALSE),O53+60,O53) -> 93 | T53: =IF(P53<VLOOKUP(F53,'Horario salida'!$C$3:$F$32,4,FALSE),S53-1,S53) -> 93 | U53: =IF(P53<VLOOKUP(F53,'Horario salida'!$C$3:$F$32,4,FALSE),P53+100,P53) -> 2 | Y53: =R53-VLOOKUP(F53,'Horario salida'!$C$3:$D$34,2,FALSE) -> 22 | Z53: =T53-VLOOKUP(F53,'Horario salida'!$C$3:$E$32,3,FALSE) -> 48 | AA53: =U53-VLOOKUP(F53,'Horario salida'!$C$3:$F$32,4,FALSE) -> 2 | AC53: =TEXT(Y53,"00") -> 22 | AD53: =TEXT(Z53,"00") -> 48 | AE53: =TEXT(AA53,"00") -> 02
...

Sheet TºCrono
B1: DORSAL | C1: TIEMPO | D1: NOMBRE | E1: CATEGORÍA
B2: 91 | C2: 212147 | D2: =VLOOKUP(B2,'1 - Dorsales clubs'!B:C,2,FALSE) -> JAIME RAINERO PARRA | E2: =_xlfn.XLOOKUP(B2,T_DORSALES[DORSAL],T_DORSALES[CATEGORÍA]) -> HSK1
B3: 272 | C3: 212267 | D3: =VLOOKUP(B3,'1 - Dorsales clubs'!B:C,2,FALSE) -> Pablo Zamora Bustamante | E3: =_xlfn.XLOOKUP(B3,T_DORSALES[DORSAL],T_DORSALES[CATEGORÍA]) -> HSK1
B4: 95 | C4: 212382 | D4: =VLOOKUP(B4,'1 - Dorsales clubs'!B:C,2,FALSE) -> IKER BOE GARCIA | E4: =_xlfn.XLOOKUP(B4,T_DORSALES[DORSAL],T_DORSALES[CATEGORÍA]) -> HSK1
B5: 255 | C5: 213293 | D5: =VLOOKUP(B5,'1 - Dorsales clubs'!B:C,2,FALSE) -> Francesco Urdiroz Agati | E5: =_xlfn.XLOOKUP(B5,T_DORSALES[DORSAL],T_DORSALES[CATEGORÍA]) -> HSK1 | G5: A | H5: ABANDONO
B6: 261 | C6: 215001 | D6: =VLOOKUP(B6,'1 - Dorsales clubs'!B:C,2,FALSE) -> Aimar Amundarain Aguirre | E6: =_xlfn.XLOOKUP(B6,T_DORSALES[DORSAL],T_DORSALES[CATEGORÍA]) -> HSK1 | G6: N | H6: NO PRESENTADO
B7: 123 | C7: 220887 | D7: =VLOOKUP(B7,'1 - Dorsales clubs'!B:C,2,FALSE) -> Mikel Velasco | E7: =_xlfn.XLOOKUP(B7,T_DORSALES[DORSAL],T_DORSALES[CATEGORÍA]) -> HSK1 | G7: D | H7: DESCALIFICADO
B8: 209 | C8: 220935 | D8: =VLOOKUP(B8,'1 - Dorsales clubs'!B:C,2,FALSE) -> JAIME SANTOS CRIADO SORS | E8: =_xlfn.XLOOKUP(B8,T_DORSALES[DORSAL],T_DORSALES[CATEGORÍA]) -> HSK1
B9: 92 | C9: 220980 | D9: =VLOOKUP(B9,'1 - Dorsales clubs'!B:C,2,FALSE) -> PABLO MARTÍNEZ LÓPEZ | E9: =_xlfn.XLOOKUP(B9,T_DORSALES[DORSAL],T_DORSALES[CATEGORÍA]) -> HSK1
B10: 254 | C10: 230635 | D10: =VLOOKUP(B10,'1 - Dorsales clubs'!B:C,2,FALSE) -> Aritz Martiartu Orta | E10: =_xlfn.XLOOKUP(B10,T_DORSALES[DORSAL],T_DORSALES[CATEGORÍA]) -> HSK1
B11: 269 | C11: 233034 | D11: =VLOOKUP(B11,'1 - Dorsales clubs'!B:C,2,FALSE) -> David Machado Herrezuelo | E11: =_xlfn.XLOOKUP(B11,T_DORSALES[DORSAL],T_DORSALES[CATEGORÍA]) -> HVK1_35
B12: 36 | C12: 233168 | D12: =VLOOKUP(B12,'1 - Dorsales clubs'!B:C,2,FALSE) -> Jose Ignacio Sanchez Jimenez | E12: =_xlfn.XLOOKUP(B12,T_DORSALES[DORSAL],T_DORSALES[CATEGORÍA]) -> HVK1_50
B13: 217 | C13: 233302 | D13: =VLOOKUP(B13,'1 - Dorsales clubs'!B:C,2,FALSE) -> MARCO A. SANTOS GARCÍA | E13: =_xlfn.XLOOKUP(B13,T_DORSALES[DORSAL],T_DORSALES[CATEGORÍA]) -> HVK1_50
B14: 241 | C14: 235407 | D14: =VLOOKUP(B14,'1 - Dorsales clubs'!B:C,2,FALSE) -> LUIS MARTINEZ | E14: =_xlfn.XLOOKUP(B14,T_DORSALES[DORSAL],T_DORSALES[CATEGORÍA]) -> HSK1
B15: 208 | C15: 235556 | D15: =VLOOKUP(B15,'1 - Dorsales clubs'!B:C,2,FALSE) -> SERGIO MEDINA MERINO | E15: =_xlfn.XLOOKUP(B15,T_DORSALES[DORSAL],T_DORSALES[CATEGORÍA]) -> HSK1
B16: 175 | C16: 240215 | D16: =VLOOKUP(B16,'1 - Dorsales clubs'!B:C,2,FALSE) -> ALEX ASENSIO BOJ | E16: =_xlfn.XLOOKUP(B16,T_DORSALES[DORSAL],T_DORSALES[CATEGORÍA]) -> HSK1
B17: 107 | C17: 240906 | D17: =VLOOKUP(B17,'1 - Dorsales clubs'!B:C,2,FALSE) -> HÉCTOR VELASCO ÁLVAREZ | E17: =_xlfn.XLOOKUP(B17,T_DORSALES[DORSAL],T_DORSALES[CATEGORÍA]) -> HJK1
B18: 45 | C18: 241013 | D18: =VLOOKUP(B18,'1 - Dorsales clubs'!B:C,2,FALSE) -> Víctor Bobillo | E18: =_xlfn.XLOOKUP(B18,T_DORSALES[DORSAL],T_DORSALES[CATEGORÍA]) -> HVK1_35
B19: 192 | C19: 241346 | D19: =VLOOKUP(B19,'1 - Dorsales clubs'!B:C,2,FALSE) -> JORGE PEÑA CARNICER | E19: =_xlfn.XLOOKUP(B19,T_DORSALES[DORSAL],T_DORSALES[CATEGORÍA]) -> HJK1
... B66: 176 | C66: 292188 | D66: =VLOOKUP(B66,'1 - Dorsales clubs'!B:C,2,FALSE) -> IGNACIO BELTRAN DIESTRE | E66: =_xlfn.XLOOKUP(B66,T_DORSALES[DORSAL],T_DORSALES[CATEGORÍA]) -> HVK1_50
C67: 292499 | D67: =VLOOKUP(B67,'1 - Dorsales clubs'!B:C,2,FALSE) -> #N/A | E67: =_xlfn.XLOOKUP(B67,T_DORSALES[DORSAL],T_DORSALES[CATEGORÍA]) -> #N/A
B68: 7 | C68: 292682 | D68: =VLOOKUP(B68,'1 - Dorsales clubs'!B:C,2,FALSE) -> Aarón Novoa Antonio | E68: =_xlfn.XLOOKUP(B68,T_DORSALES[DORSAL],T_DORSALES[CATEGORÍA]) -> HCK1
B69: 185 | C69: 293695 | D69: =VLOOKUP(B69,'1 - Dorsales clubs'!B:C,2,FALSE) -> SIRA GÁLVEZ ORRIOS | E69: =_xlfn.XLOOKUP(B69,T_DORSALES[DORSAL],T_DORSALES[CATEGORÍA]) -> MSK1
B70: 89 | C70: 293851 | D70: =VLOOKUP(B70,'1 - Dorsales clubs'!B:C,2,FALSE) -> MALENA MARCOS RAMIREZ | E70: =_xlfn.XLOOKUP(B70,T_DORSALES[DORSAL],T_DORSALES[CATEGORÍA]) -> MCC1
B71: 9 | C71: 293995 | D71: =VLOOKUP(B71,'1 - Dorsales clubs'!B:C,2,FALSE) -> Sandra Lopez Iriarte | E71: =_xlfn.XLOOKUP(B71,T_DORSALES[DORSAL],T_DORSALES[CATEGORÍA]) -> MJK1
B72: 243 | C72: 294905 | D72: =VLOOKUP(B72,'1 - Dorsales clubs'!B:C,2,FALSE) -> PASCUAL LOPEZ | E72: =_xlfn.XLOOKUP(B72,T_DORSALES[DORSAL],T_DORSALES[CATEGORÍA]) -> HVK1_60
B73: 100 | C73: 300867 | D73: =VLOOKUP(B73,'1 - Dorsales clubs'!B:C,2,FALSE) -> IRENE FUENTES MONTERO | E73: =_xlfn.XLOOKUP(B73,T_DORSALES[DORSAL],T_DORSALES[CATEGORÍA]) -> MCK1
B74: 37 | C74: 304149 | D74: =VLOOKUP(B74,'1 - Dorsales clubs'!B:C,2,FALSE) -> Diego Ruiz Martinez | E74: =_xlfn.XLOOKUP(B74,T_DORSALES[DORSAL],T_DORSALES[CATEGORÍA]) -> HVK1_35
B75: 104 | C75: 304696 | D75: =VLOOKUP(B75,'1 - Dorsales clubs'!B:C,2,FALSE) -> UXUE ALARCÓN RIAÑO | E75: =_xlfn.XLOOKUP(B75,T_DORSALES[DORSAL],T_DORSALES[CATEGORÍA]) -> MCK1
B76: 235 | C76: 304822 | D76: =VLOOKUP(B76,'1 - Dorsales clubs'!B:C,2,FALSE) -> ASIER LOSTAO | E76: =_xlfn.XLOOKUP(B76,T_DORSALES[DORSAL],T_DORSALES[CATEGORÍA]) -> HCK1
B77: 35 | C77: 305644 | D77: =VLOOKUP(B77,'1 - Dorsales clubs'!B:C,2,FALSE) -> Alex Sanmartin Maull | E77: =_xlfn.XLOOKUP(B77,T_DORSALES[DORSAL],T_DORSALES[CATEGORÍA]) -> HVK1_50
B78: 98 | C78: 310603 | D78: =VLOOKUP(B78,'1 - Dorsales clubs'!B:C,2,FALSE) -> ALBA PÉREZ MARTIN | E78: =_xlfn.XLOOKUP(B78,T_DORSALES[DORSAL],T_DORSALES[CATEGORÍA]) -> MJK1
B79: 244 | C79: 312886 | D79: =VLOOKUP(B79,'1 - Dorsales clubs'!B:C,2,FALSE) -> SELMA PALACIN | E79: =_xlfn.XLOOKUP(B79,T_DORSALES[DORSAL],T_DORSALES[CATEGORÍA]) -> MVK1_35
... B136: 231 | C136: 275320 | D136: =VLOOKUP(B136,'1 - Dorsales clubs'!B:C,2,FALSE) -> PABLO ECHANIZ | E136: =_xlfn.XLOOKUP(B136,T_DORSALES[DORSAL],T_DORSALES[CATEGORÍA]) -> HSC1
B137: 106 | C137: DESCALIF. | D137: =VLOOKUP(B137,'1 - Dorsales clubs'!B:C,2,FALSE) -> MARTIN GUINEA URBINA | E137: =_xlfn.XLOOKUP(B137,T_DORSALES[DORSAL],T_DORSALES[CATEGORÍA]) -> HAK1
B138: 139 | C138: 84612 | D138: =VLOOKUP(B138,'1 - Dorsales clubs'!B:C,2,FALSE) -> Oriol Cabello Fernández | E138: =_xlfn.XLOOKUP(B138,T_DORSALES[DORSAL],T_DORSALES[CATEGORÍA]) -> HAK1
B139: 62 | C139: 85774 | D139: =VLOOKUP(B139,'1 - Dorsales clubs'!B:C,2,FALSE) -> HECTOR ASENSIO GUERRA | E139: =_xlfn.XLOOKUP(B139,T_DORSALES[DORSAL],T_DORSALES[CATEGORÍA]) -> HAK1
